From mboxrd@z Thu Jan 1 00:00:00 1970 Return-Path: Received: from mails.dpdk.org (mails.dpdk.org [217.70.189.124]) by inbox.dpdk.org (Postfix) with ESMTP id 1FCF8489F8 for ; Tue, 28 Oct 2025 14:25:51 +0100 (CET) Received: from mails.dpdk.org (localhost [127.0.0.1]) by mails.dpdk.org (Postfix) with ESMTP id 1B5BA4021E; Tue, 28 Oct 2025 14:25:51 +0100 (CET) Received: from mail-yw1-f225.google.com (mail-yw1-f225.google.com [209.85.128.225]) by mails.dpdk.org (Postfix) with ESMTP id 3D7CA4021E for ; Tue, 28 Oct 2025 14:25:50 +0100 (CET) Received: by mail-yw1-f225.google.com with SMTP id 00721157ae682-783fa3aa35cso73468827b3.3 for ; Tue, 28 Oct 2025 06:25:50 -0700 (PDT) DKIM-Signature: v=1; a=rsa-sha256; c=relaxed/relaxed; d=iol.unh.edu; s=unh-iol; t=1761657949; x=1762262749; darn=dpdk.org; h=references:in-reply-to:cc:to:from:subject:message-id:date:from:to :cc:subject:date:message-id:reply-to; bh=BIQX59yXc7zOdUGqkP8dbL33g7zfakEdVkHo4KvAndo=; b=LvP92ZabU3hbJOcWCUCE83hY4Wp22GA9I34WvwMusIFZZWCI4mi8uEfIqcPRHpCiLS VuqVNx1vLl0PAor0A304F4u7BVyp3qk665/Lsg+K70Rpya+xtLAJNJrwx+Lu8Dav9p7Q dONtmuBNLJBtTNlFNJNILjWjW+aej5EKuejB4= X-Google-DKIM-Signature: v=1; a=rsa-sha256; c=relaxed/relaxed; d=1e100.net; s=20230601; t=1761657949; x=1762262749; h=references:in-reply-to:cc:to:from:subject:message-id:date :x-gm-message-state:from:to:cc:subject:date:message-id:reply-to; bh=BIQX59yXc7zOdUGqkP8dbL33g7zfakEdVkHo4KvAndo=; b=DlTjG1Hs/t1Bw41iHvBYOdYngCFRCYc+hqJktY+UraBs1cjdFTuQ7kIvAZxPMcKAea L/80E8GaPXnXzrhttPkW/x40xOdMIO5/Z5xJOFjxTsDr1U1pKrvG6n35j1GEW3eYyuKy i7iNyW7KAiY46OegyozIHH5mLtjBev5eJw8dyPwykt/RM4MgV22FB023KhFo1ceCSosV RaKLfvKUnNXcB3GXKZIWaTZmwDBiDomMm5EsgtmXZaNTCmklhlYcH+niLPB3vaBMFhJT aT1itMaHYG3aqtsiHxtyY4w4kmvajvytlDh3REPWLicf9HFMC6385szx9rfGQSD2TRC9 +cWw== X-Gm-Message-State: AOJu0YyHFRimK4ZW3wCXSG8eCDao0WOaixRCQNH8PN/qtod5Da9vWNXa Nn1WzWHsV3lh7lsw5e1/vc1TJQeW7H9qN/Zw1L7gkkwat4PIGQcUSAwAiVjoCGPCA+dk+4EYFFl 0CE3zfIBAcYF+j8caOQPBjCokTy0P3KU7mC1X/XWVKiVr X-Gm-Gg: ASbGnctU1wUnnySMM6C9ZlvaBE2dNAOaJtXGXNUGxReGmNlk9BA1sLfM4YMfYTB7FKt D9/ogtSBCFDe5DAjhnxeX4NDUIm07zfmJgrjLh79P6RJatFj18T171veKqTMAL8SZNlT7K+TtRt 7HQbQ84DWEqmwPtiLqjWvnjo/p5D4/Pt5lG6ZTVElqr487CkTMUK1SBWpEAtIoXX0JKHyCliABw 15IWtQl7a9mV3lBmqhj90FIBSGN/J3TWLubrryl0kO8q05eTun3H5xfNc2dc8xbsdf/Fl+yxSBe rriz1pw3ygbTh7Cw1PrYQIF6Ozd6x/vFAAkEKKI/2cA6DqhjmRNmK6HqWKav4hK/mnD1qAqveGR NMpzo3+jAE6E47HDbzCu3HnSEBKNAaZk= X-Google-Smtp-Source: AGHT+IHjCJlY0gS7DXENeo1v1CmcfiMs0uhH85JqCQxCo5NR/7xvMUBp9Ag5I6/UmjeC8Ch7MjWP3TOq/gwR X-Received: by 2002:a05:690c:4d0a:b0:785:be16:5d18 with SMTP id 00721157ae682-78618129e93mr36693537b3.58.1761657949600; Tue, 28 Oct 2025 06:25:49 -0700 (PDT) Received: from postal.iol.unh.edu (postal.iol.unh.edu. [132.177.123.84]) by smtp-relay.gmail.com with ESMTPS id 00721157ae682-785ed1a6708sm7639437b3.17.2025.10.28.06.25.49 (version=TLS1_2 cipher=ECDHE-ECDSA-AES128-GCM-SHA256 bits=128/128); Tue, 28 Oct 2025 06:25:49 -0700 (PDT) X-Relaying-Domain: iol.unh.edu Date: Tue, 28 Oct 2025 06:25:49 -0700 (PDT) Message-ID: <6900c45d.050a0220.18d3b5.71c7SMTPIN_ADDED_MISSING@mx.google.com> Received: from [172.21.0.2] (unknown [172.18.0.240]) by postal.iol.unh.edu (Postfix) with ESMTP id 43CE86051830; Tue, 28 Oct 2025 09:25:49 -0400 (EDT) Subject: |SUCCESS| pw158179 [PATCH] net/mlx5: store rxq MTU at allocation tim From: dpdklab@iol.unh.edu To: Test Report Cc: dpdk-test-reports@iol.unh.edu In-Reply-To: <20251028095240.35281-1-a.schollmeyer@syseleven.de> References: <20251028095240.35281-1-a.schollmeyer@syseleven.de> Content-Type: text/plain X-BeenThere: test-report@dpdk.org X-Mailman-Version: 2.1.29 Precedence: list List-Id: automatic DPDK test reports List-Unsubscribe: , List-Archive: List-Post: List-Help: List-Subscribe: , Errors-To: test-report-bounces@dpdk.org Test-Label: iol-unit-amd64-testing Test-Status: SUCCESS http://dpdk.org/patch/158179 _Testing PASS_ Submitter: Adrian Schollmeyer Date: Tuesday, October 28 2025 09:52:40 DPDK git baseline: Repo:dpdk-next-net-mlx Branch: master CommitID:39b54f2dcf44ad1f91eabc7080cd5dea763607fd 158179 --> testing pass Upstream job id: Generic-Unit-Test-DPDK#386008 Test environment and result as below: +-------------------------------+----------------+ | Environment | dpdk_unit_test | +===============================+================+ | Fedora Linux 40 | PASS | +-------------------------------+----------------+ | Fedora Linux 41 | PASS | +-------------------------------+----------------+ | Debian GNU/Linux 12 | PASS | +-------------------------------+----------------+ | CentOS Stream 10 | PASS | +-------------------------------+----------------+ | Fedora Linux 42 | PASS | +-------------------------------+----------------+ | CentOS Stream 9 | PASS | +-------------------------------+----------------+ | Red Hat Enterprise Linux 8.10 | PASS | +-------------------------------+----------------+ | Ubuntu 20.04 | PASS | +-------------------------------+----------------+ | Ubuntu 24.04 | PASS | +-------------------------------+----------------+ | Ubuntu 22.04 | PASS | +-------------------------------+----------------+ | Red Hat Enterprise Linux 9.5 | PASS | +-------------------------------+----------------+ Fedora Linux 40 Kernel: 5.15 Compiler: clang gcc (GCC) 14.2.1 20240912 (Red Hat 14.2.1-3) Fedora Linux 41 Kernel: 5.15 Compiler: gcc gcc (GCC) 14.3.1 20250523 (Red Hat 14.3.1-1) Debian GNU/Linux 12 Kernel: 5.15 Compiler: gcc gcc (Debian 12.2.0-14+deb12u1) 12.2.0 CentOS Stream 10 Kernel: 5.15 Compiler: gcc gcc (GCC) 14.2.1 20250110 (Red Hat 14.2.1-8) Fedora Linux 42 Kernel: 5.15 Compiler: gcc gcc (GCC) 15.2.1 20250808 (Red Hat 15.2.1-1) CentOS Stream 9 Kernel: 5.15 Compiler: gcc gcc (GCC) 11.5.0 20240719 (Red Hat 11.5.0-11) Red Hat Enterprise Linux 8.10 Kernel: 5.15 Compiler: gcc gcc (GCC) 8.5.0 20210514 (Red Hat 8.5.0-22) Ubuntu 20.04 Kernel: 5.15 Compiler: gcc gcc (Ubuntu 9.4.0-1ubuntu1~20.04.2) 9.4.0 Ubuntu 24.04 Kernel: 5.15 Compiler: gcc gcc (Ubuntu 13.3.0-6ubuntu2~24.04) 13.3.0 Ubuntu 22.04 Kernel: 5.15 Compiler: gcc gcc (Ubuntu 11.4.0-1ubuntu1~22.04) 11.4.0 Red Hat Enterprise Linux 9.5 Kernel: 5.15 Compiler: gcc gcc (GCC) 11.5.0 20240719 (Red Hat 11.5.0-2) To view detailed results, visit: https://lab.dpdk.org/results/dashboard/patchsets/34396/ UNH-IOL DPDK Community Lab To manage your email subscriptions, visit: https://lab.dpdk.org/results/dashboard/preferences/subscriptions/