From mboxrd@z Thu Jan 1 00:00:00 1970 Return-Path: Received: from mails.dpdk.org (mails.dpdk.org [217.70.189.124]) by inbox.dpdk.org (Postfix) with ESMTP id EA29F489F8 for ; Tue, 28 Oct 2025 14:33:20 +0100 (CET) Received: from mails.dpdk.org (localhost [127.0.0.1]) by mails.dpdk.org (Postfix) with ESMTP id C3A524021E; Tue, 28 Oct 2025 14:33:20 +0100 (CET) Received: from mail-qk1-f226.google.com (mail-qk1-f226.google.com [209.85.222.226]) by mails.dpdk.org (Postfix) with ESMTP id CB3E04021E for ; Tue, 28 Oct 2025 14:33:19 +0100 (CET) Received: by mail-qk1-f226.google.com with SMTP id af79cd13be357-8909f01bd00so640810585a.0 for ; Tue, 28 Oct 2025 06:33:19 -0700 (PDT) DKIM-Signature: v=1; a=rsa-sha256; c=relaxed/relaxed; d=iol.unh.edu; s=unh-iol; t=1761658399; x=1762263199; darn=dpdk.org; h=references:in-reply-to:cc:to:from:subject:message-id:date:from:to :cc:subject:date:message-id:reply-to; bh=LRZLSH/ZSICrTgWtJXqOl4T7VtEGA1bWIThYZ+m85gI=; b=SfE2Ar1pOB2Gc6BH0C+er107cIun+bjYmJXZWpIuvjZIc3948cu3vjPbDfCsMELKB8 3fFt7/4Q1B48MKixg7h0cki9rTgfsaJFydO8Mj9dYNJIeyvcgVbtfYO2VormaIrB3Io0 42xb0oiZqRjS2eOPgWIEtLloa9ywStQtnSavM= X-Google-DKIM-Signature: v=1; a=rsa-sha256; c=relaxed/relaxed; d=1e100.net; s=20230601; t=1761658399; x=1762263199; h=references:in-reply-to:cc:to:from:subject:message-id:date :x-gm-message-state:from:to:cc:subject:date:message-id:reply-to; bh=LRZLSH/ZSICrTgWtJXqOl4T7VtEGA1bWIThYZ+m85gI=; b=ChS4T3EQcK7NImTfUoF0hd4MbS1QXK/IrNH+1sbBsNhYglFnX48bwHbi0YNKw+atVx o1Ykdh3/u0msFG8NOtDPLrzHuSBlFSypeZb1J162t5AihVOf6qiBZ8SeNqun5dBcvi8y hTqlpeymVIK4r2MYOwm0lz69tpK/8gnXdl3JzedvBEFu8HV1NDpej1oQ5yrFdeTjhvKX Ukd8ZC64s2gBinvfGi1SeT1YJRIsGykzNxcQMNTvwLqJXR7lQNPh9bjtIiLIuXIL8s1Z vlNow1p6jNyhwZhg9rRDqVHlFMHdEqOho/kt3BBlLrW6KbfLh4kD21dqrIPztPfbBvqE H9pQ== X-Gm-Message-State: AOJu0Yzq4k8Cp8C12GpkLtfbWBo+YSwRv9EAnFu3RTHInS5+5QCAOgFJ TCQO3DVyGsoxmCXYGlTa4S9vvd+lXEm7N/ncPJnoRyzL9cOwPjhAQ+t+0d6CajGA6MMTWJPplyu AXNi2vBGSwQY31xQqEOTLnPFVo9rNpJi19MY0aFlCkp9H0+HSfmE9leJCt9Ng X-Gm-Gg: ASbGncsnS1SHSsMHwvrwR1oY/rnXxr7UtbHFajAh1sfr80QFs/8jP6KK3qEdrnE5A8E HZd+H/diWFcn30LhFPjcNE4tF8bKBfFo99qg5ghcoKYt2xjBOFuSbWjow84ofzW2XQGG4x4jWcw pqphaDXDCOeDgRlhITmse3rtuh9whH6fEt0eFD8ZXWhjHOHBjTncQDJdQO4FzSKJsrkYJMKL8su vugwHKpIrqM3Ru7mI4WSFjBp83IRes0c9iaHDslAEOi+I7Un7tNwrBSSvyN0KreaVSVCpkbc5/Q A0vdsbsG73GWEcWGzCSAIXZURPocVZkwmkzGZmXt86dDjhSD1aVCkZEKUR4ygYPj+Zy3uhEIrdz YrOojQx1n X-Google-Smtp-Source: AGHT+IF+Khw/SplSozYUpVz3fJ8rHKaBOtGXRuyQqd0lPDoQr3v2P4i4yFSg/5VOhign5nYnv6en0syVo1WD X-Received: by 2002:a05:620a:2989:b0:892:90f8:b598 with SMTP id af79cd13be357-8a6f9035412mr376685385a.77.1761658398957; Tue, 28 Oct 2025 06:33:18 -0700 (PDT) Received: from postal.iol.unh.edu (postal.iol.unh.edu. [2606:4100:3880:1234::84]) by smtp-relay.gmail.com with ESMTPS id af79cd13be357-89f23c3e870sm100846585a.3.2025.10.28.06.33.18 (version=TLS1_2 cipher=ECDHE-ECDSA-AES128-GCM-SHA256 bits=128/128); Tue, 28 Oct 2025 06:33:18 -0700 (PDT) X-Relaying-Domain: iol.unh.edu Date: Tue, 28 Oct 2025 06:33:18 -0700 (PDT) Message-ID: <6900c61e.050a0220.3064db.e6b9SMTPIN_ADDED_MISSING@mx.google.com> Received: from [172.21.0.2] (unknown [172.18.0.240]) by postal.iol.unh.edu (Postfix) with ESMTP id B09366050A61; Tue, 28 Oct 2025 09:33:18 -0400 (EDT) Subject: |SUCCESS| pw158178 [PATCH] [v1] net/mlx5: remove counter alignment From: dpdklab@iol.unh.edu To: Test Report Cc: dpdk-test-reports@iol.unh.edu In-Reply-To: <20251028092611.1755141-1-rongweil@nvidia.com> References: <20251028092611.1755141-1-rongweil@nvidia.com> Content-Type: text/plain X-BeenThere: test-report@dpdk.org X-Mailman-Version: 2.1.29 Precedence: list List-Id: automatic DPDK test reports List-Unsubscribe: , List-Archive: List-Post: List-Help: List-Subscribe: , Errors-To: test-report-bounces@dpdk.org Test-Label: iol-unit-amd64-testing Test-Status: SUCCESS http://dpdk.org/patch/158178 _Testing PASS_ Submitter: Rongwei Liu Date: Tuesday, October 28 2025 09:26:11 DPDK git baseline: Repo:dpdk-next-net-mlx Branch: master CommitID:39b54f2dcf44ad1f91eabc7080cd5dea763607fd 158178 --> testing pass Upstream job id: Generic-VM-Unit-Test-DPDK#32111 Test environment and result as below: +-------------------------------+----------------+ | Environment | dpdk_unit_test | +===============================+================+ | Fedora Linux 42 | PASS | +-------------------------------+----------------+ | Red Hat Enterprise Linux 9.5 | PASS | +-------------------------------+----------------+ | CentOS Stream 9 | PASS | +-------------------------------+----------------+ | CentOS Stream 10 | PASS | +-------------------------------+----------------+ | Ubuntu 22.04 | PASS | +-------------------------------+----------------+ | Red Hat Enterprise Linux 8.10 | PASS | +-------------------------------+----------------+ | Fedora Linux 41 | PASS | +-------------------------------+----------------+ | Ubuntu 24.04 | PASS | +-------------------------------+----------------+ | Ubuntu 20.04 | PASS | +-------------------------------+----------------+ | Debian GNU/Linux 12 | PASS | +-------------------------------+----------------+ | Fedora Linux 40 | PASS | +-------------------------------+----------------+ | Windows Server 2022 | PASS | +-------------------------------+----------------+ Fedora Linux 42 Kernel: 5.15 Compiler: gcc gcc (GCC) 15.2.1 20250808 (Red Hat 15.2.1-1) Red Hat Enterprise Linux 9.5 Kernel: 5.15 Compiler: gcc gcc (GCC) 11.5.0 20240719 (Red Hat 11.5.0-2) CentOS Stream 9 Kernel: 5.15 Compiler: gcc gcc (GCC) 11.5.0 20240719 (Red Hat 11.5.0-11) CentOS Stream 10 Kernel: 5.15 Compiler: gcc gcc (GCC) 14.2.1 20250110 (Red Hat 14.2.1-8) Ubuntu 22.04 Kernel: 5.15 Compiler: gcc gcc (Ubuntu 11.4.0-1ubuntu1~22.04) 11.4.0 Red Hat Enterprise Linux 8.10 Kernel: 5.15 Compiler: gcc gcc (GCC) 8.5.0 20210514 (Red Hat 8.5.0-22) Fedora Linux 41 Kernel: 5.15 Compiler: clang gcc (GCC) 14.3.1 20250523 (Red Hat 14.3.1-1) Ubuntu 24.04 Kernel: 5.15 Compiler: gcc gcc (Ubuntu 13.3.0-6ubuntu2~24.04) 13.3.0 Ubuntu 20.04 Kernel: 5.15 Compiler: gcc gcc (Ubuntu 9.4.0-1ubuntu1~20.04.2) 9.4.0 Debian GNU/Linux 12 Kernel: 5.15 Compiler: gcc gcc (Debian 12.2.0-14+deb12u1) 12.2.0 Fedora Linux 40 Kernel: 5.15 Compiler: gcc gcc (GCC) 14.2.1 20240912 (Red Hat 14.2.1-3) Windows Server 2022 Kernel: 10.0.20348.2031 Compiler: clang 15.0.7, gcc 14.1.0 (MinGW), and MSVC VS 19.39.33521 To view detailed results, visit: https://lab.dpdk.org/results/dashboard/patchsets/34395/ UNH-IOL DPDK Community Lab To manage your email subscriptions, visit: https://lab.dpdk.org/results/dashboard/preferences/subscriptions/