From mboxrd@z Thu Jan 1 00:00:00 1970 Return-Path: Received: from mails.dpdk.org (mails.dpdk.org [217.70.189.124]) by inbox.dpdk.org (Postfix) with ESMTP id 8D2C9489F8 for ; Tue, 28 Oct 2025 14:39:53 +0100 (CET) Received: from mails.dpdk.org (localhost [127.0.0.1]) by mails.dpdk.org (Postfix) with ESMTP id 634574021E; Tue, 28 Oct 2025 14:39:53 +0100 (CET) Received: from mail-pf1-f228.google.com (mail-pf1-f228.google.com [209.85.210.228]) by mails.dpdk.org (Postfix) with ESMTP id 080304021E for ; Tue, 28 Oct 2025 14:39:51 +0100 (CET) Received: by mail-pf1-f228.google.com with SMTP id d2e1a72fcca58-7a4176547bfso2963825b3a.2 for ; Tue, 28 Oct 2025 06:39:51 -0700 (PDT) DKIM-Signature: v=1; a=rsa-sha256; c=relaxed/relaxed; d=iol.unh.edu; s=unh-iol; t=1761658791; x=1762263591; darn=dpdk.org; h=references:in-reply-to:cc:to:from:subject:message-id:date:from:to :cc:subject:date:message-id:reply-to; bh=7vYD/KKQefikCQmynkXhd8FjUP+sBvpfyVVTcJ5imHc=; b=RIXPxOuoGRAa1VOexQbScBySIEzBfgX6fn/58lzPMhCBgnaWy9OaOWbGmHDnRbEDOD PhCE5LAmD0CAfeqPme4UNrejHNGppOQc9TLVhBgzt23IKRrBK15toLyaJxNTgCKU4Ng5 qEb7yTVqOK3hAOaY2NUAOZChwxWJijbFBNpWU= X-Google-DKIM-Signature: v=1; a=rsa-sha256; c=relaxed/relaxed; d=1e100.net; s=20230601; t=1761658791; x=1762263591; h=references:in-reply-to:cc:to:from:subject:message-id:date :x-gm-message-state:from:to:cc:subject:date:message-id:reply-to; bh=7vYD/KKQefikCQmynkXhd8FjUP+sBvpfyVVTcJ5imHc=; b=FQeQnJSc6c2uv80xHehcsNagducUStZliKVlRh0W3u89EopWo+Gy5UTsqaIBgw8lqn oEazpzMNtVonf8DC16B2GItfDhP4kFXkugQ01j4zuYuCZqIMlQBY1t5SN4ducvQV2drK gP2TtCfTIbZiUB79YLWfvAfpFxleQUb+EkYBJC++wPlaHz11/914l6GYZKeU8AjhYOhi fgaQHGLXLfazeuP6d10Yp0JTYNnLyJi1p+ljL+SSOPCK5OjXL8e23gyNMsvva3ugfKb7 ZXzz6pnl1gAwUXUFK8wdXoLnsZEvs3pi7l0KriIExlwIJFWDYmIsAtDAWMuPT6zkXhNW y3SA== X-Gm-Message-State: AOJu0Yx1fzHHGCAUWFOD2Q5u8PQRL9SIPe3C0Gk4RTCKOm6Yyd5VNC3h boBmYugoq6T7k51zAT+Ag+3RpsHhe92gQF/guFV3VPyzL8A3bBiSsi23vlb+/wfG06DfuYAl9fe RVQl9ZJCVvVVbTn8Ll7iSVEbwFup3r6iWMXZe+gy6uGf4/BY+s3ZdqJQk9Js5 X-Gm-Gg: ASbGncsZzTipjpYXYLYhMERVXqMdkm0ZSHZHfwrySZjEtQ4ujXaxhq5Jw5Dni1zYLKa t8un3gXN686u5XZZ6/bpspTUjyd2NIsGFmkAKvjqtqHyQehkyurRzHHpmauKoX+Tvm8kVyB0Yzf 9hwy2zFJ0CPS7E7BqA1+IoA2T929uURFHChB6+rkOritsttuf8746w8xxRFLb9zMzLRZK+JiQC3 r/1Bw5yXp6lY3KcrCOEaJ+ehkOTH0xElzx2JQU0O9dwdAu4FLIdeqjQnRqZ5J1GSUydqkUk/QWC XYSnXch6m2QlAGLIxfQLp58VlhG6Nj5a0Wd2uWtxe1JIt66dlCHKnw0w4TTQesNmGuUUsIjxpCe NatkYG6OY X-Google-Smtp-Source: AGHT+IGfojJ3GJ5anUuR7j5o05HNegpbeGuBNAgzfejUtCB80ajIdfvSgshG52nacp7TuCTYd7hS/bldg1dw X-Received: by 2002:a05:6a00:2d98:b0:781:17fb:d3ca with SMTP id d2e1a72fcca58-7a441c2835cmr5151332b3a.15.1761658791056; Tue, 28 Oct 2025 06:39:51 -0700 (PDT) Received: from postal.iol.unh.edu (postal.iol.unh.edu. [2606:4100:3880:1234::84]) by smtp-relay.gmail.com with ESMTPS id d2e1a72fcca58-7a4140b032dsm683418b3a.8.2025.10.28.06.39.50 (version=TLS1_2 cipher=ECDHE-ECDSA-AES128-GCM-SHA256 bits=128/128); Tue, 28 Oct 2025 06:39:51 -0700 (PDT) X-Relaying-Domain: iol.unh.edu Date: Tue, 28 Oct 2025 06:39:51 -0700 (PDT) Message-ID: <6900c7a7.050a0220.2f9a2c.f91aSMTPIN_ADDED_MISSING@mx.google.com> Received: from [172.21.0.2] (unknown [172.18.0.240]) by postal.iol.unh.edu (Postfix) with ESMTP id 055EC6050A61; Tue, 28 Oct 2025 09:39:50 -0400 (EDT) Subject: |WARNING| pw158182 [PATCH] net/mlx5: store rxq MTU at allocation tim From: dpdklab@iol.unh.edu To: Test Report Cc: dpdk-test-reports@iol.unh.edu In-Reply-To: <20251028100144.36284-1-a.schollmeyer@syseleven.de> References: <20251028100144.36284-1-a.schollmeyer@syseleven.de> Content-Type: text/plain X-BeenThere: test-report@dpdk.org X-Mailman-Version: 2.1.29 Precedence: list List-Id: automatic DPDK test reports List-Unsubscribe: , List-Archive: List-Post: List-Help: List-Subscribe: , Errors-To: test-report-bounces@dpdk.org Test-Label: iol-compile-amd64-testing Test-Status: WARNING http://dpdk.org/patch/158182 _Testing issues_ Submitter: Adrian Schollmeyer Date: Tuesday, October 28 2025 10:01:44 DPDK git baseline: Repo:dpdk-next-net-mlx Branch: master CommitID:39b54f2dcf44ad1f91eabc7080cd5dea763607fd 158182 --> testing issues Upstream job id: Generic-DPDK-Compile-Meson#438468 Test environment and result as below: +-------------------------------+--------------------+-------------------+------------------+ | Environment | dpdk_meson_compile | dpdk_compile_spdk | dpdk_compile_ovs | +===============================+====================+===================+==================+ | FreeBSD 14.2 | PASS | SKIPPED | SKIPPED | +-------------------------------+--------------------+-------------------+------------------+ | Ubuntu 20.04 | PASS | SKIPPED | SKIPPED | +-------------------------------+--------------------+-------------------+------------------+ | CentOS Stream 9 | PASS | WARN | SKIPPED | +-------------------------------+--------------------+-------------------+------------------+ | CentOS Stream 10 | PASS | SKIPPED | SKIPPED | +-------------------------------+--------------------+-------------------+------------------+ | Debian GNU/Linux 12 | PASS | WARN | SKIPPED | +-------------------------------+--------------------+-------------------+------------------+ | Fedora Linux 42 | PASS | WARN | PASS | +-------------------------------+--------------------+-------------------+------------------+ | openSUSE Leap 15.6 | PASS | SKIPPED | SKIPPED | +-------------------------------+--------------------+-------------------+------------------+ | Red Hat Enterprise Linux 8.10 | PASS | SKIPPED | SKIPPED | +-------------------------------+--------------------+-------------------+------------------+ | Ubuntu 22.04 | PASS | WARN | SKIPPED | +-------------------------------+--------------------+-------------------+------------------+ | Ubuntu 24.04 | PASS | WARN | PASS | +-------------------------------+--------------------+-------------------+------------------+ | Alpine Linux 3.22.0 | PASS | SKIPPED | SKIPPED | +-------------------------------+--------------------+-------------------+------------------+ | Red Hat Enterprise Linux 9.5 | PASS | SKIPPED | SKIPPED | +-------------------------------+--------------------+-------------------+------------------+ ==== 20 line log output for Ubuntu 24.04 (dpdk_compile_spdk): ==== --- Failed to get log output --- ==== End log output ==== FreeBSD 14.2 Kernel: 14.2-RELEASE Compiler: clang 18.1.6 Ubuntu 20.04 Kernel: 4.19 Compiler: gcc gcc (Ubuntu 9.4.0-1ubuntu1~20.04.2) 9.4.0 CentOS Stream 9 Kernel: 5.15 Compiler: gcc gcc (GCC) 11.5.0 20240719 (Red Hat 11.5.0-11) CentOS Stream 10 Kernel: 5.15 Compiler: gcc gcc (GCC) 14.2.1 20250110 (Red Hat 14.2.1-8) Debian GNU/Linux 12 Kernel: 5.15 Compiler: gcc gcc (Debian 12.2.0-14+deb12u1) 12.2.0 Fedora Linux 42 Kernel: 5.15 Compiler: clang gcc (GCC) 15.2.1 20250808 (Red Hat 15.2.1-1) openSUSE Leap 15.6 Kernel: 5.15 Compiler: gcc gcc (SUSE Linux) 7.5.0 Red Hat Enterprise Linux 8.10 Kernel: 5.15 Compiler: gcc gcc (GCC) 8.5.0 20210514 (Red Hat 8.5.0-22) Ubuntu 22.04 Kernel: 5.15 Compiler: gcc gcc (Ubuntu 11.4.0-1ubuntu1~22.04) 11.4.0 Ubuntu 24.04 Kernel: 5.15 Compiler: gcc gcc (Ubuntu 13.3.0-6ubuntu2~24.04) 13.3.0 Alpine Linux 3.22.0 Kernel: 5.15 Compiler: gcc gcc (Alpine 14.2.0) 14.2.0 Red Hat Enterprise Linux 9.5 Kernel: 5.15 Compiler: gcc gcc (GCC) 11.5.0 20240719 (Red Hat 11.5.0-2) To view detailed results, visit: https://lab.dpdk.org/results/dashboard/patchsets/34398/ UNH-IOL DPDK Community Lab To manage your email subscriptions, visit: https://lab.dpdk.org/results/dashboard/preferences/subscriptions/