From mboxrd@z Thu Jan 1 00:00:00 1970 Return-Path: Received: from mails.dpdk.org (mails.dpdk.org [217.70.189.124]) by inbox.dpdk.org (Postfix) with ESMTP id 11215489F8 for ; Tue, 28 Oct 2025 14:44:46 +0100 (CET) Received: from mails.dpdk.org (localhost [127.0.0.1]) by mails.dpdk.org (Postfix) with ESMTP id 0D2084021E; Tue, 28 Oct 2025 14:44:46 +0100 (CET) Received: from mail-io1-f98.google.com (mail-io1-f98.google.com [209.85.166.98]) by mails.dpdk.org (Postfix) with ESMTP id 28EFB4021E for ; Tue, 28 Oct 2025 14:44:44 +0100 (CET) Received: by mail-io1-f98.google.com with SMTP id ca18e2360f4ac-940d327df21so245929039f.1 for ; Tue, 28 Oct 2025 06:44:44 -0700 (PDT) DKIM-Signature: v=1; a=rsa-sha256; c=relaxed/relaxed; d=iol.unh.edu; s=unh-iol; t=1761659083; x=1762263883; darn=dpdk.org; h=references:in-reply-to:cc:to:from:subject:message-id:date:from:to :cc:subject:date:message-id:reply-to; bh=Y2jhiavZxg7Q+bhi5fQvah+TgyPdYUQxMIo2FFYvqhk=; b=NVNw7SHdU1CKU+aQzR3S7bnRkLrVm/jy/bQLkpihTUcZEl2cYw+uKJYpkcs3xDY1Rn iufZ4R/GfsRG0Ee9pc6x86c7rr/Ymuf9NUTzUbE4DEgAoyeLjcLngs2r8jJxa3Os8qBm NJN7XZNA2aUG/xhsVT6yy+zgzd0tqcksE94d0= X-Google-DKIM-Signature: v=1; a=rsa-sha256; c=relaxed/relaxed; d=1e100.net; s=20230601; t=1761659083; x=1762263883; h=references:in-reply-to:cc:to:from:subject:message-id:date :x-gm-message-state:from:to:cc:subject:date:message-id:reply-to; bh=Y2jhiavZxg7Q+bhi5fQvah+TgyPdYUQxMIo2FFYvqhk=; b=q7r0HMsePr2wOeSpyXY34Jz4TOwwCtFRlu76c+NIF6f6I/TxPSoO7YsRRzSgQafx+u SZOUTSHTOZSC2DasAMn9l1z1IBTEngDGWsWez67Frzslw080Ql4N8qtkQeXykE1+nNjO jEQpNw+HUrNCy60ZJG0HnAnOPzFk7xZMi7LZuOJJ/m+QawZ14nK05g7Rszt7vi0rLnzi i4CyfXZELihCGgMsDEjqb0MPLphcMMYPbKkyXysAgWv1Rzbkh8TIwm/fhAvWFWXkOwya T0vGBBtLbCHk8r9v6At8aQKprdxWupDmkkw8GV/kYYdRUFv+5VXne8av79aVbKwTHLFr UDNA== X-Gm-Message-State: AOJu0YyW7KL7qR49F+98L2xghu/m6/9BSyIuz3h1XJW8yJxgV0ixPPLB 6a2BgHs26Y/AWncqYlyx6BIGixR4GvglO6z6qyog69Ij3iLoOjHISij8MAiYlk3GzXrnauKrtW+ MzHgwimuKv0g2bLZDVuRtNClv47+VmbSyhu3yED+Qlri4sNw6YyzoWC+IMNT0 X-Gm-Gg: ASbGncsRsVv9ZlRV9WWGe6mlt8SCE/zDoEP97+yrQTpNA57mLRkOyVLTWRXlT8KNvcF DsWZM/oWgBGmRWTI0Pj36yrhWb+TXW1VEBzRuwwNv3lWp1+YYKQJ7ZcIoJ2suLlHkFaK3WGpYBJ OCudpgiFEF+J8zdA/g4Z9/UTpk+Ypott3OL6zQryIjFjF1o+hGwJhLUc0993LXPstdIuJvRemsz /NM5W3Yl8z2HQ+sJPUQ1JuTRDvth574AwbA+rZJLuycgnYL2itdq8jcts0rpx3VgqVzkQZXYwah ogJUmN/FVmKAYKbdrnyY9EO/QJLCZMMpWgx/rH8pAaC0ygWWjmVsG9Dizzu/0/nYKHc4Th01WUy aoRPh4TMI X-Google-Smtp-Source: AGHT+IFJFkNs9S744PA/Jz74ggdDk83Cz6tTcX2535q8faGsLtVX7Vt+3FK+3W1MXrQ7doKmUy42KUBbVfHy X-Received: by 2002:a05:6602:2c89:b0:945:b09c:ef38 with SMTP id ca18e2360f4ac-945b8322620mr560149939f.19.1761659083489; Tue, 28 Oct 2025 06:44:43 -0700 (PDT) Received: from postal.iol.unh.edu (postal.iol.unh.edu. [2606:4100:3880:1234::84]) by smtp-relay.gmail.com with ESMTPS id ca18e2360f4ac-94359ebbeb7sm58994139f.8.2025.10.28.06.44.43 (version=TLS1_2 cipher=ECDHE-ECDSA-AES128-GCM-SHA256 bits=128/128); Tue, 28 Oct 2025 06:44:43 -0700 (PDT) X-Relaying-Domain: iol.unh.edu Date: Tue, 28 Oct 2025 06:44:43 -0700 (PDT) Message-ID: <6900c8cb.6b0a0220.2289ac.b03eSMTPIN_ADDED_MISSING@mx.google.com> Received: from [172.21.0.2] (unknown [172.18.0.240]) by postal.iol.unh.edu (Postfix) with ESMTP id 0939A604D420; Tue, 28 Oct 2025 09:44:43 -0400 (EDT) Subject: |SUCCESS| pw158178 [PATCH] [v1] net/mlx5: remove counter alignment From: dpdklab@iol.unh.edu To: Test Report Cc: dpdk-test-reports@iol.unh.edu In-Reply-To: <20251028092611.1755141-1-rongweil@nvidia.com> References: <20251028092611.1755141-1-rongweil@nvidia.com> Content-Type: text/plain X-BeenThere: test-report@dpdk.org X-Mailman-Version: 2.1.29 Precedence: list List-Id: automatic DPDK test reports List-Unsubscribe: , List-Archive: List-Post: List-Help: List-Subscribe: , Errors-To: test-report-bounces@dpdk.org Test-Label: iol-unit-amd64-testing Test-Status: SUCCESS http://dpdk.org/patch/158178 _Testing PASS_ Submitter: Rongwei Liu Date: Tuesday, October 28 2025 09:26:11 DPDK git baseline: Repo:dpdk-next-net-mlx Branch: master CommitID:39b54f2dcf44ad1f91eabc7080cd5dea763607fd 158178 --> testing pass Upstream job id: Generic-VM-Unit-Test-DPDK#32112 Test environment and result as below: +-------------------------------+----------------+ | Environment | dpdk_unit_test | +===============================+================+ | Fedora Linux 42 | PASS | +-------------------------------+----------------+ | Red Hat Enterprise Linux 9.5 | PASS | +-------------------------------+----------------+ | CentOS Stream 9 | PASS | +-------------------------------+----------------+ | CentOS Stream 10 | PASS | +-------------------------------+----------------+ | Ubuntu 22.04 | PASS | +-------------------------------+----------------+ | Red Hat Enterprise Linux 8.10 | PASS | +-------------------------------+----------------+ | Fedora Linux 41 | PASS | +-------------------------------+----------------+ | Ubuntu 24.04 | PASS | +-------------------------------+----------------+ | Ubuntu 20.04 | PASS | +-------------------------------+----------------+ | Debian GNU/Linux 12 | PASS | +-------------------------------+----------------+ | Fedora Linux 40 | PASS | +-------------------------------+----------------+ | Windows Server 2022 | PASS | +-------------------------------+----------------+ Fedora Linux 42 Kernel: 5.15 Compiler: gcc gcc (GCC) 15.2.1 20250808 (Red Hat 15.2.1-1) Red Hat Enterprise Linux 9.5 Kernel: 5.15 Compiler: gcc gcc (GCC) 11.5.0 20240719 (Red Hat 11.5.0-2) CentOS Stream 9 Kernel: 5.15 Compiler: gcc gcc (GCC) 11.5.0 20240719 (Red Hat 11.5.0-11) CentOS Stream 10 Kernel: 5.15 Compiler: gcc gcc (GCC) 14.2.1 20250110 (Red Hat 14.2.1-8) Ubuntu 22.04 Kernel: 5.15 Compiler: gcc gcc (Ubuntu 11.4.0-1ubuntu1~22.04) 11.4.0 Red Hat Enterprise Linux 8.10 Kernel: 5.15 Compiler: gcc gcc (GCC) 8.5.0 20210514 (Red Hat 8.5.0-22) Fedora Linux 41 Kernel: 5.15 Compiler: clang gcc (GCC) 14.3.1 20250523 (Red Hat 14.3.1-1) Ubuntu 24.04 Kernel: 5.15 Compiler: gcc gcc (Ubuntu 13.3.0-6ubuntu2~24.04) 13.3.0 Ubuntu 20.04 Kernel: 5.15 Compiler: gcc gcc (Ubuntu 9.4.0-1ubuntu1~20.04.2) 9.4.0 Debian GNU/Linux 12 Kernel: 5.15 Compiler: gcc gcc (Debian 12.2.0-14+deb12u1) 12.2.0 Fedora Linux 40 Kernel: 5.15 Compiler: gcc gcc (GCC) 14.2.1 20240912 (Red Hat 14.2.1-3) Windows Server 2022 Kernel: 10.0.20348.2031 Compiler: clang 15.0.7, gcc 14.1.0 (MinGW), and MSVC VS 19.39.33521 To view detailed results, visit: https://lab.dpdk.org/results/dashboard/patchsets/34395/ UNH-IOL DPDK Community Lab To manage your email subscriptions, visit: https://lab.dpdk.org/results/dashboard/preferences/subscriptions/