From mboxrd@z Thu Jan 1 00:00:00 1970 Return-Path: Received: from mails.dpdk.org (mails.dpdk.org [217.70.189.124]) by inbox.dpdk.org (Postfix) with ESMTP id 40532489F8 for ; Tue, 28 Oct 2025 15:02:04 +0100 (CET) Received: from mails.dpdk.org (localhost [127.0.0.1]) by mails.dpdk.org (Postfix) with ESMTP id 3BD914021E; Tue, 28 Oct 2025 15:02:04 +0100 (CET) Received: from mail-io1-f97.google.com (mail-io1-f97.google.com [209.85.166.97]) by mails.dpdk.org (Postfix) with ESMTP id D50034021E for ; Tue, 28 Oct 2025 15:02:02 +0100 (CET) Received: by mail-io1-f97.google.com with SMTP id ca18e2360f4ac-945a4bfd8c6so262534539f.0 for ; Tue, 28 Oct 2025 07:02:02 -0700 (PDT) DKIM-Signature: v=1; a=rsa-sha256; c=relaxed/relaxed; d=iol.unh.edu; s=unh-iol; t=1761660122; x=1762264922; darn=dpdk.org; h=references:in-reply-to:cc:to:from:subject:message-id:date:from:to :cc:subject:date:message-id:reply-to; bh=/9463EKjBWu+69zXQlWEafBsOZrNARc7YV8jQ9qf1Jg=; b=Y8tJILNfazGeaYEsG4rM6W43ukvreoKRhU1sHpdv5JfJpwXaACpURKqDKBlDdDKCqU Mfn98DDMDThd8OqtPExRwU4XVAIL1FXzU1frHhqxm0y7HFGqt3R0mEl1RjRAi2Kz0k+J lNY7AdPtsdFUfOjfwoUzHZqIxNZdNH7xDR194= X-Google-DKIM-Signature: v=1; a=rsa-sha256; c=relaxed/relaxed; d=1e100.net; s=20230601; t=1761660122; x=1762264922; h=references:in-reply-to:cc:to:from:subject:message-id:date :x-gm-message-state:from:to:cc:subject:date:message-id:reply-to; bh=/9463EKjBWu+69zXQlWEafBsOZrNARc7YV8jQ9qf1Jg=; b=jbPh2ZzPkto0O/SOI2VtyoRGxnkQIqqiKNGWmZHSl0iRMDwRQr4x7A/mQqiGly4LQV nJGYQ/fiBq9PZskWUllMMqyldAjLqmVHwHFueZjdKIt4JMR2dB3sPl5RBg+azrMafZgG hftb2ECLAHo1Mapix57qS+iAgikGpvnnFz35wpc8RetTJnTX0LHveoOJ9iV9EHjlQULT IbQejBOB1BVEC3OeDYirYiSc5IbDPC1B/MIvFYlD5b1tdJlU+RENbroJvs7wV20MW+gD tTB8c7h1nWZUiZBMWyuzF02CIMPq/iY/tag1mEKjfGUcZxLzbxhFOE5vGXLxajWkPpIv EKhw== X-Gm-Message-State: AOJu0Yyx9ul5T07hFDcJ5CLBJrqB3PaH7p2qdQwP7G0H0WU22NRbf7nx yh4Rjp9tumQSJK5oYrcy71M2wAvvBPWJ0zzsU3xtiAV2YSKcMPePXBrL6s/sdUMFnHiZIO+KvYW 6C+9vLsMFiJ4PcPf/N1NZukuyDxtnB+M4XRBnFcg5umx6 X-Gm-Gg: ASbGnctqrUrlX5SwATSS/hH9+aDz7mzq2ZXsbnF60xr89igJ8GyhRmxIaDpFUfOBA1/ 1JQUI5lDS36jcb9e4jJ6YAxddVvV+Pyv5MsTEGZ9g7eWXQjoi3VBXt6PtAkNwycA39Ky2XktsPM 7hKYnMYx+VlAKvDgfLbYDZFG26pj5yA69Or1KTk9oHhF6OmaA58xuneysNLH5aY25IY2jTYjIN/ E4OTiwVqgoVRgElS45rhyhWuQPtvyTI7yFNVE01TCO4OJ6vkExMIrCcOmmRyY+JSjxfmOtOsgYB KRHPo/1UuFKxnkMaoYDzZMN3oKGx9Y82cpACRPRKzEeTjqpblaFaaUhrq2/VnYp155redo+KiSf zo1NrXGZG177RHioa2Dl6cMUR64QQlvo= X-Google-Smtp-Source: AGHT+IH7WyPEgrLC3ZJMAYQW8vtgH1bgUOZHfiNF/Oi9CdgId1vicpSqfQhk/GgrEjDwYW8BXIwOSdjCCVs4 X-Received: by 2002:a05:6602:6c06:b0:945:a4d2:61c7 with SMTP id ca18e2360f4ac-945b819fba5mr563033039f.7.1761660122012; Tue, 28 Oct 2025 07:02:02 -0700 (PDT) Received: from postal.iol.unh.edu (postal.iol.unh.edu. [132.177.123.84]) by smtp-relay.gmail.com with ESMTPS id ca18e2360f4ac-94359e82e83sm69227939f.1.2025.10.28.07.02.01 (version=TLS1_2 cipher=ECDHE-ECDSA-AES128-GCM-SHA256 bits=128/128); Tue, 28 Oct 2025 07:02:02 -0700 (PDT) X-Relaying-Domain: iol.unh.edu Date: Tue, 28 Oct 2025 07:02:02 -0700 (PDT) Message-ID: <6900ccda.050a0220.147093.1edeSMTPIN_ADDED_MISSING@mx.google.com> Received: from [172.21.0.2] (unknown [172.18.0.240]) by postal.iol.unh.edu (Postfix) with ESMTP id 9898D604D420; Tue, 28 Oct 2025 10:02:00 -0400 (EDT) Subject: |SUCCESS| pw158183 [PATCH] graph: fix xstats description allocation From: dpdklab@iol.unh.edu To: Test Report Cc: dpdk-test-reports@iol.unh.edu In-Reply-To: <20251028101333.14776-1-cfontain@redhat.com> References: <20251028101333.14776-1-cfontain@redhat.com> Content-Type: text/plain X-BeenThere: test-report@dpdk.org X-Mailman-Version: 2.1.29 Precedence: list List-Id: automatic DPDK test reports List-Unsubscribe: , List-Archive: List-Post: List-Help: List-Subscribe: , Errors-To: test-report-bounces@dpdk.org Test-Label: iol-unit-amd64-testing Test-Status: SUCCESS http://dpdk.org/patch/158183 _Testing PASS_ Submitter: Christophe Fontaine Date: Tuesday, October 28 2025 10:13:33 DPDK git baseline: Repo:dpdk Branch: master CommitID:39b54f2dcf44ad1f91eabc7080cd5dea763607fd 158183 --> testing pass Upstream job id: Generic-Unit-Test-DPDK#386046 Test environment and result as below: +-------------------------------+----------------+ | Environment | dpdk_unit_test | +===============================+================+ | CentOS Stream 9 | PASS | +-------------------------------+----------------+ | Fedora Linux 40 | PASS | +-------------------------------+----------------+ | Debian GNU/Linux 12 | PASS | +-------------------------------+----------------+ | Red Hat Enterprise Linux 8.10 | PASS | +-------------------------------+----------------+ | CentOS Stream 10 | PASS | +-------------------------------+----------------+ | Fedora Linux 41 | PASS | +-------------------------------+----------------+ | Ubuntu 22.04 | PASS | +-------------------------------+----------------+ | Ubuntu 20.04 | PASS | +-------------------------------+----------------+ | Fedora Linux 42 | PASS | +-------------------------------+----------------+ | Ubuntu 24.04 | PASS | +-------------------------------+----------------+ | Red Hat Enterprise Linux 9.5 | PASS | +-------------------------------+----------------+ CentOS Stream 9 Kernel: 5.15 Compiler: gcc gcc (GCC) 11.5.0 20240719 (Red Hat 11.5.0-11) Fedora Linux 40 Kernel: 5.15 Compiler: gcc gcc (GCC) 14.2.1 20240912 (Red Hat 14.2.1-3) Debian GNU/Linux 12 Kernel: 5.15 Compiler: gcc gcc (Debian 12.2.0-14+deb12u1) 12.2.0 Red Hat Enterprise Linux 8.10 Kernel: 5.15 Compiler: gcc gcc (GCC) 8.5.0 20210514 (Red Hat 8.5.0-22) CentOS Stream 10 Kernel: 5.15 Compiler: gcc gcc (GCC) 14.2.1 20250110 (Red Hat 14.2.1-8) Fedora Linux 41 Kernel: 5.15 Compiler: gcc gcc (GCC) 14.3.1 20250523 (Red Hat 14.3.1-1) Ubuntu 22.04 Kernel: 5.15 Compiler: gcc gcc (Ubuntu 11.4.0-1ubuntu1~22.04) 11.4.0 Ubuntu 20.04 Kernel: 5.15 Compiler: gcc gcc (Ubuntu 9.4.0-1ubuntu1~20.04.2) 9.4.0 Fedora Linux 42 Kernel: 5.15 Compiler: clang gcc (GCC) 15.2.1 20250808 (Red Hat 15.2.1-1) Ubuntu 24.04 Kernel: 5.15 Compiler: gcc gcc (Ubuntu 13.3.0-6ubuntu2~24.04) 13.3.0 Red Hat Enterprise Linux 9.5 Kernel: 5.15 Compiler: gcc gcc (GCC) 11.5.0 20240719 (Red Hat 11.5.0-2) To view detailed results, visit: https://lab.dpdk.org/results/dashboard/patchsets/34397/ UNH-IOL DPDK Community Lab To manage your email subscriptions, visit: https://lab.dpdk.org/results/dashboard/preferences/subscriptions/