From mboxrd@z Thu Jan 1 00:00:00 1970 Return-Path: Received: from mails.dpdk.org (mails.dpdk.org [217.70.189.124]) by inbox.dpdk.org (Postfix) with ESMTP id 8563B489F8 for ; Tue, 28 Oct 2025 15:04:14 +0100 (CET) Received: from mails.dpdk.org (localhost [127.0.0.1]) by mails.dpdk.org (Postfix) with ESMTP id 823EC4021E; Tue, 28 Oct 2025 15:04:14 +0100 (CET) Received: from mail-io1-f97.google.com (mail-io1-f97.google.com [209.85.166.97]) by mails.dpdk.org (Postfix) with ESMTP id DFA2D4021E for ; Tue, 28 Oct 2025 15:04:12 +0100 (CET) Received: by mail-io1-f97.google.com with SMTP id ca18e2360f4ac-945a5731dd3so108850539f.0 for ; Tue, 28 Oct 2025 07:04:12 -0700 (PDT) DKIM-Signature: v=1; a=rsa-sha256; c=relaxed/relaxed; d=iol.unh.edu; s=unh-iol; t=1761660252; x=1762265052; darn=dpdk.org; h=references:in-reply-to:cc:to:from:subject:message-id:date:from:to :cc:subject:date:message-id:reply-to; bh=Ju91VFIkV8eHP0t9/WBbRt7FZ88ghF48yL2f7ZDZrwQ=; b=K6F8n1SOktWfmP3APNj4IraVHCOT5FEnUVzG1l0SXjMRmfqlFuh4LeQABjkI1WIh+V wJTt7OzP78Exh68G2ZrqHNvdWrUqbd0PmHL8ZuGHWpKhBamGtis6owSFb/rYNf/F0fj8 RrOxkoL1WFLDJK6zXHM82iuyWWcsj35D0sfyI= X-Google-DKIM-Signature: v=1; a=rsa-sha256; c=relaxed/relaxed; d=1e100.net; s=20230601; t=1761660252; x=1762265052; h=references:in-reply-to:cc:to:from:subject:message-id:date :x-gm-message-state:from:to:cc:subject:date:message-id:reply-to; bh=Ju91VFIkV8eHP0t9/WBbRt7FZ88ghF48yL2f7ZDZrwQ=; b=EJXhe8qlm116g69ex9EMNkDDGkIaRWMZ1nkuXTWhqHRRHP5IW+mfBYv9kpoGHcWrow K+rlHImiYJ2Sy5wVmrapZOaVTV8HxmI0sLFWq3VH+6pfTkEYcc0rdYumKcl2hqdHqvx3 ttLfo82WzJD4zUneSAnHw4fILkMVGrA1WFlFn46VpyRlEanwV/xGwX9B9GYZNKQIZas3 d8VoBSsK6SSi51K82gVO3kLwmp1VxPM6ccAxepVaD0QHjB7XC+IDc5qV2FCWVsv2yL6n ldSVjgp0ZJwCjln3UFNPLJYspK0sJcWh1I9vaQLrJH/IgXhIF+YQo6vwy22zRgwLMH2n BRDA== X-Gm-Message-State: AOJu0YyTEENLaFJVmwxlW5NtnYYYwYqEbk3qQy4TBCiD0aTZ9IEt4qZu cnseYlRFTxJQPdg/lsn4HuyTidVUvkmAwHK7g2EJRMbQ92+r1KP/Y+CFipon43iUG9AntPPTfKd AN9JaYHKx8cvaL6PoN9LMzgiVlds1I8vaPOq3O6/swMsLU/hjQMCbEWCiGkX9 X-Gm-Gg: ASbGncuTqAqFqPYdm2OrKAIHkx3iuUN6H5qdPaWPFASj3j+/eYw275MPfqXJaghQFEW +nyY6nlk1wWqZgUe4NCb8OKRdLaKYyvPeMR4fHElBw9HUfiaVUeNeogW+D9CikjvWENeBxJz4hY QLiYKQ56NVk0ZMUndOghsg69/1iqIGKNPk+eOEmAXfutNjG/kWaL4YKeQ2ex7gbTFye8E6pd5M5 48dKPHY/7gnwL1uIOtAoG9O0x8u1nw5xKmpJkZfSa4nlM1zEpkyw4csrhKUdrjJ67P+EKcQKujI xKUbJ4ZgekXYFATni8xM3W/OYO6wBA2C0loVR8LZ/6g8xLVG+QT4PlTmhXIPDdJ52MI4BQer0xK de9jNYsmP X-Google-Smtp-Source: AGHT+IGg35Wu/POxNIJkrv+E9jkhTbis5DZS5Sj8grepTdYqVldUhfBLgOu1myx6tCFvEqa9rjNaqaGNs6QM X-Received: by 2002:a05:6e02:148f:b0:42f:a7ee:4930 with SMTP id e9e14a558f8ab-4320f7b8e35mr45021945ab.8.1761660252167; Tue, 28 Oct 2025 07:04:12 -0700 (PDT) Received: from postal.iol.unh.edu (postal.iol.unh.edu. [2606:4100:3880:1234::84]) by smtp-relay.gmail.com with ESMTPS id e9e14a558f8ab-431f67ea715sm10635015ab.5.2025.10.28.07.04.12 (version=TLS1_2 cipher=ECDHE-ECDSA-AES128-GCM-SHA256 bits=128/128); Tue, 28 Oct 2025 07:04:12 -0700 (PDT) X-Relaying-Domain: iol.unh.edu Date: Tue, 28 Oct 2025 07:04:12 -0700 (PDT) Message-ID: <6900cd5c.050a0220.1990d2.03baSMTPIN_ADDED_MISSING@mx.google.com> Received: from [172.21.0.3] (unknown [172.18.0.240]) by postal.iol.unh.edu (Postfix) with ESMTP id C87726051830; Tue, 28 Oct 2025 10:04:11 -0400 (EDT) Subject: |WARNING| pw158179 [PATCH] net/mlx5: store rxq MTU at allocation tim From: dpdklab@iol.unh.edu To: Test Report Cc: dpdk-test-reports@iol.unh.edu In-Reply-To: <20251028095240.35281-1-a.schollmeyer@syseleven.de> References: <20251028095240.35281-1-a.schollmeyer@syseleven.de> Content-Type: text/plain X-BeenThere: test-report@dpdk.org X-Mailman-Version: 2.1.29 Precedence: list List-Id: automatic DPDK test reports List-Unsubscribe: , List-Archive: List-Post: List-Help: List-Subscribe: , Errors-To: test-report-bounces@dpdk.org Test-Label: iol-compile-amd64-testing Test-Status: WARNING http://dpdk.org/patch/158179 _Testing issues_ Submitter: Adrian Schollmeyer Date: Tuesday, October 28 2025 09:52:40 DPDK git baseline: Repo:dpdk-next-net-mlx Branch: master CommitID:39b54f2dcf44ad1f91eabc7080cd5dea763607fd 158179 --> testing issues Upstream job id: Windows-Compile-DPDK-VS#7340 Test environment and result as below: +-------------------------------+--------------------+-------------------+------------------+-------------------+ | Environment | dpdk_meson_compile | dpdk_compile_spdk | dpdk_compile_ovs | dpdk_msvc_compile | +===============================+====================+===================+==================+===================+ | Ubuntu 20.04 | PASS | SKIPPED | SKIPPED | SKIPPED | +-------------------------------+--------------------+-------------------+------------------+-------------------+ | FreeBSD 14.2 | PASS | SKIPPED | SKIPPED | SKIPPED | +-------------------------------+--------------------+-------------------+------------------+-------------------+ | CentOS Stream 9 | PASS | WARN | SKIPPED | SKIPPED | +-------------------------------+--------------------+-------------------+------------------+-------------------+ | CentOS Stream 10 | PASS | SKIPPED | SKIPPED | SKIPPED | +-------------------------------+--------------------+-------------------+------------------+-------------------+ | Debian GNU/Linux 12 | PASS | WARN | SKIPPED | SKIPPED | +-------------------------------+--------------------+-------------------+------------------+-------------------+ | Fedora Linux 42 | PASS | WARN | PASS | SKIPPED | +-------------------------------+--------------------+-------------------+------------------+-------------------+ | openSUSE Leap 15.6 | PASS | SKIPPED | SKIPPED | SKIPPED | +-------------------------------+--------------------+-------------------+------------------+-------------------+ | Red Hat Enterprise Linux 8.10 | PASS | SKIPPED | SKIPPED | SKIPPED | +-------------------------------+--------------------+-------------------+------------------+-------------------+ | Red Hat Enterprise Linux 9.5 | PASS | SKIPPED | SKIPPED | SKIPPED | +-------------------------------+--------------------+-------------------+------------------+-------------------+ | Ubuntu 22.04 | PASS | WARN | SKIPPED | SKIPPED | +-------------------------------+--------------------+-------------------+------------------+-------------------+ | Ubuntu 24.04 | PASS | WARN | PASS | SKIPPED | +-------------------------------+--------------------+-------------------+------------------+-------------------+ | Alpine Linux 3.22.0 | PASS | SKIPPED | SKIPPED | SKIPPED | +-------------------------------+--------------------+-------------------+------------------+-------------------+ | Windows Server 2022 | SKIPPED | SKIPPED | SKIPPED | PASS | +-------------------------------+--------------------+-------------------+------------------+-------------------+ ==== 20 line log output for Ubuntu 24.04 (dpdk_compile_spdk): ==== --- Failed to get log output --- ==== End log output ==== Ubuntu 20.04 Kernel: 4.19 Compiler: gcc gcc (Ubuntu 9.4.0-1ubuntu1~20.04.2) 9.4.0 FreeBSD 14.2 Kernel: 14.2-RELEASE Compiler: clang 18.1.6 CentOS Stream 9 Kernel: 5.15 Compiler: gcc gcc (GCC) 11.5.0 20240719 (Red Hat 11.5.0-11) CentOS Stream 10 Kernel: 5.15 Compiler: gcc gcc (GCC) 14.2.1 20250110 (Red Hat 14.2.1-8) Debian GNU/Linux 12 Kernel: 5.15 Compiler: gcc gcc (Debian 12.2.0-14+deb12u1) 12.2.0 Fedora Linux 42 Kernel: 5.15 Compiler: clang gcc (GCC) 15.2.1 20250808 (Red Hat 15.2.1-1) openSUSE Leap 15.6 Kernel: 5.15 Compiler: gcc gcc (SUSE Linux) 7.5.0 Red Hat Enterprise Linux 8.10 Kernel: 5.15 Compiler: gcc gcc (GCC) 8.5.0 20210514 (Red Hat 8.5.0-22) Red Hat Enterprise Linux 9.5 Kernel: 5.15 Compiler: gcc gcc (GCC) 11.5.0 20240719 (Red Hat 11.5.0-2) Ubuntu 22.04 Kernel: 5.15 Compiler: gcc gcc (Ubuntu 11.4.0-1ubuntu1~22.04) 11.4.0 Ubuntu 24.04 Kernel: 5.15 Compiler: gcc gcc (Ubuntu 13.3.0-6ubuntu2~24.04) 13.3.0 Alpine Linux 3.22.0 Kernel: 5.15 Compiler: gcc gcc (Alpine 14.2.0) 14.2.0 Windows Server 2022 Kernel: 10.0.20348.2031 Compiler: clang 15.0.7, gcc 14.1.0 (MinGW), and MSVC VS 19.39.33521 To view detailed results, visit: https://lab.dpdk.org/results/dashboard/patchsets/34396/ UNH-IOL DPDK Community Lab To manage your email subscriptions, visit: https://lab.dpdk.org/results/dashboard/preferences/subscriptions/