From mboxrd@z Thu Jan 1 00:00:00 1970 Return-Path: Received: from mails.dpdk.org (mails.dpdk.org [217.70.189.124]) by inbox.dpdk.org (Postfix) with ESMTP id 13EFC489F8 for ; Tue, 28 Oct 2025 15:09:47 +0100 (CET) Received: from mails.dpdk.org (localhost [127.0.0.1]) by mails.dpdk.org (Postfix) with ESMTP id 0F2FB4021E; Tue, 28 Oct 2025 15:09:47 +0100 (CET) Received: from mail-pl1-f226.google.com (mail-pl1-f226.google.com [209.85.214.226]) by mails.dpdk.org (Postfix) with ESMTP id B04814021E for ; Tue, 28 Oct 2025 15:09:45 +0100 (CET) Received: by mail-pl1-f226.google.com with SMTP id d9443c01a7336-29488933a91so58421345ad.2 for ; Tue, 28 Oct 2025 07:09:45 -0700 (PDT) DKIM-Signature: v=1; a=rsa-sha256; c=relaxed/relaxed; d=iol.unh.edu; s=unh-iol; t=1761660585; x=1762265385; darn=dpdk.org; h=references:in-reply-to:cc:to:from:subject:message-id:date:from:to :cc:subject:date:message-id:reply-to; bh=QHspW3zjyaRD+oPX3ASEaR2hnbqo10Ieylt3ncFtl6A=; b=OgsMeBXNNIiTqvoL4P2xzgCkkxF9o70OzBqc0kBm/DN1BmStLpzEs0ARfuoCIipWia beeDHDffYJM4tvf39i8MdqrPgOtk1YIoWCxn53i4s0DarEsbLWI/AKm4VWyqSP1jUAfB jY397vLsZC1FVfvpKXtRUnwK1vSriuL9CpKr0= X-Google-DKIM-Signature: v=1; a=rsa-sha256; c=relaxed/relaxed; d=1e100.net; s=20230601; t=1761660585; x=1762265385; h=references:in-reply-to:cc:to:from:subject:message-id:date :x-gm-message-state:from:to:cc:subject:date:message-id:reply-to; bh=QHspW3zjyaRD+oPX3ASEaR2hnbqo10Ieylt3ncFtl6A=; b=IspefLmAUOBB1VLECryuxhygrm1m+9WYZoJ3jzu6u6fLAC3etZ5hizMzu5/pew370/ 1FDnS8ct0YridC4W2U4UmRKsWBMue3nhY2K81Npo0+GZGji6gQzQbM+1/AIV+wTVc6yU xyuuuHJRbLr1tMqE7U0uROFenkrQlkKTE1hNEZCyRqfC18pBnbiVwhsHgNn62gVRlDJ6 Esl35S6dEOW3OqRoIQpXQ4j66U8vfx664r6+U+qKqY0cFTdN1cN6XCo1ic2UQt2evFTo WmDIaujlL8UcUGAZe0PPk4Od553mQC7E7K3PieogEE3V1CC7OtTPKF/f5aKC9ZnkC8UP WaeA== X-Gm-Message-State: AOJu0YxjjKNXVivNH97WTNHH9lzVpYCNMZHqesYps8p9eTKW/p9F7sS3 wWrSzw1Ry05Epor/D4Ip3X6tfvr5DEDBYM4zIMiNh7UBNb+oc7Cro2sG+3HlghdBfH1BA5KVuLT ToPLXshBRPuDZYT3bXt2TLjqce++tMZwkMBm7IvrwP+fZ X-Gm-Gg: ASbGncslcdreuy1NLSrNhEilNIIQtJNXISR/0yCOuaU9AgdYuGiWAhIdtW/w6QACnlj JHuJVo8D60ECRQ1lZ65slDZvkmyUhdqyDP/SWxSWxPbbnKqCb1blh1ApkLXDR1cRjYNbgvHlGG4 JjOCfq6Pqnz5ZoahilZCH1CVmCSN6DycPtIgXggC7WQWyHHrxhBZJxSa1BWMIiPJQiXicGlSEXm I4CGMbg7/gVMaoe53zB/J4sTTT6p0UWC10Ip8TXB9NIOQGVCPg3UnZ2x699BqjLpyPnkepDp+UW zdM/3abfeGNi4qyn4HgMs/tKJhG2tG8FaaHxpmZNGYWn/178NdMXarbXsPMlOjomRJCeJHN88M7 9hQFX0cwCp/UGdWTDRa8ORWpA1yRSMjM= X-Google-Smtp-Source: AGHT+IEav7w+otWqrb1vHcXfY7oQVbh9F0BhNooYSapCdxpHpbghLJELDEym4tbHUuOAwzF/DuBOrjmuPckK X-Received: by 2002:a17:902:c411:b0:246:cfc4:9a30 with SMTP id d9443c01a7336-294cb5103fcmr47692755ad.35.1761660584722; Tue, 28 Oct 2025 07:09:44 -0700 (PDT) Received: from postal.iol.unh.edu (postal.iol.unh.edu. [132.177.123.84]) by smtp-relay.gmail.com with ESMTPS id 98e67ed59e1d1-34028fd218csm58090a91.0.2025.10.28.07.09.44 (version=TLS1_2 cipher=ECDHE-ECDSA-AES128-GCM-SHA256 bits=128/128); Tue, 28 Oct 2025 07:09:44 -0700 (PDT) X-Relaying-Domain: iol.unh.edu Date: Tue, 28 Oct 2025 07:09:44 -0700 (PDT) Message-ID: <6900cea8.170a0220.22483c.2a49SMTPIN_ADDED_MISSING@mx.google.com> Received: from [172.21.0.2] (unknown [172.18.0.240]) by postal.iol.unh.edu (Postfix) with ESMTP id CA10E6051830; Tue, 28 Oct 2025 10:09:42 -0400 (EDT) Subject: |WARNING| pw158174 [PATCH] config/arm: add HiSilicon HIP12 From: dpdklab@iol.unh.edu To: Test Report Cc: dpdk-test-reports@iol.unh.edu In-Reply-To: <20251028084259.4925-1-fengchengwen@huawei.com> References: <20251028084259.4925-1-fengchengwen@huawei.com> Content-Type: text/plain X-BeenThere: test-report@dpdk.org X-Mailman-Version: 2.1.29 Precedence: list List-Id: automatic DPDK test reports List-Unsubscribe: , List-Archive: List-Post: List-Help: List-Subscribe: , Errors-To: test-report-bounces@dpdk.org Test-Label: iol-compile-amd64-testing Test-Status: WARNING http://dpdk.org/patch/158174 _Testing issues_ Submitter: Chengwen Feng Date: Tuesday, October 28 2025 08:42:59 DPDK git baseline: Repo:dpdk Branch: master CommitID:39b54f2dcf44ad1f91eabc7080cd5dea763607fd 158174 --> testing issues Upstream job id: Windows-Compile-DPDK-Native#31935 Test environment and result as below: +-------------------------------+--------------------+-------------------+------------------+-------------------+-------------------------+ | Environment | dpdk_meson_compile | dpdk_compile_spdk | dpdk_compile_ovs | dpdk_msvc_compile | dpdk_llvm_clang_compile | +===============================+====================+===================+==================+===================+=========================+ | FreeBSD 14.2 | PASS | SKIPPED | SKIPPED | SKIPPED | SKIPPED | +-------------------------------+--------------------+-------------------+------------------+-------------------+-------------------------+ | Ubuntu 20.04 | PASS | SKIPPED | SKIPPED | SKIPPED | SKIPPED | +-------------------------------+--------------------+-------------------+------------------+-------------------+-------------------------+ | CentOS Stream 9 | PASS | WARN | SKIPPED | SKIPPED | SKIPPED | +-------------------------------+--------------------+-------------------+------------------+-------------------+-------------------------+ | CentOS Stream 10 | PASS | SKIPPED | SKIPPED | SKIPPED | SKIPPED | +-------------------------------+--------------------+-------------------+------------------+-------------------+-------------------------+ | Debian GNU/Linux 12 | PASS | WARN | SKIPPED | SKIPPED | SKIPPED | +-------------------------------+--------------------+-------------------+------------------+-------------------+-------------------------+ | Fedora Linux 42 | PASS | WARN | PASS | SKIPPED | SKIPPED | +-------------------------------+--------------------+-------------------+------------------+-------------------+-------------------------+ | openSUSE Leap 15.6 | PASS | SKIPPED | SKIPPED | SKIPPED | SKIPPED | +-------------------------------+--------------------+-------------------+------------------+-------------------+-------------------------+ | Red Hat Enterprise Linux 8.10 | PASS | SKIPPED | SKIPPED | SKIPPED | SKIPPED | +-------------------------------+--------------------+-------------------+------------------+-------------------+-------------------------+ | Red Hat Enterprise Linux 9.5 | PASS | SKIPPED | SKIPPED | SKIPPED | SKIPPED | +-------------------------------+--------------------+-------------------+------------------+-------------------+-------------------------+ | Ubuntu 22.04 | PASS | WARN | SKIPPED | SKIPPED | SKIPPED | +-------------------------------+--------------------+-------------------+------------------+-------------------+-------------------------+ | Ubuntu 24.04 | PASS | WARN | PASS | SKIPPED | SKIPPED | +-------------------------------+--------------------+-------------------+------------------+-------------------+-------------------------+ | Alpine Linux 3.22.0 | PASS | SKIPPED | SKIPPED | SKIPPED | SKIPPED | +-------------------------------+--------------------+-------------------+------------------+-------------------+-------------------------+ | Windows Server 2022 | SKIPPED | SKIPPED | SKIPPED | PASS | PASS | +-------------------------------+--------------------+-------------------+------------------+-------------------+-------------------------+ ==== 20 line log output for Ubuntu 24.04 (dpdk_compile_spdk): ==== --- Failed to get log output --- ==== End log output ==== FreeBSD 14.2 Kernel: 14.2-RELEASE Compiler: clang 18.1.6 Ubuntu 20.04 Kernel: 4.19 Compiler: gcc gcc (Ubuntu 9.4.0-1ubuntu1~20.04.2) 9.4.0 CentOS Stream 9 Kernel: 5.15 Compiler: gcc gcc (GCC) 11.5.0 20240719 (Red Hat 11.5.0-11) CentOS Stream 10 Kernel: 5.15 Compiler: gcc gcc (GCC) 14.2.1 20250110 (Red Hat 14.2.1-8) Debian GNU/Linux 12 Kernel: 5.15 Compiler: gcc gcc (Debian 12.2.0-14+deb12u1) 12.2.0 Fedora Linux 42 Kernel: 5.15 Compiler: clang gcc (GCC) 15.2.1 20250808 (Red Hat 15.2.1-1) openSUSE Leap 15.6 Kernel: 5.15 Compiler: gcc gcc (SUSE Linux) 7.5.0 Red Hat Enterprise Linux 8.10 Kernel: 5.15 Compiler: gcc gcc (GCC) 8.5.0 20210514 (Red Hat 8.5.0-22) Red Hat Enterprise Linux 9.5 Kernel: 5.15 Compiler: gcc gcc (GCC) 11.5.0 20240719 (Red Hat 11.5.0-2) Ubuntu 22.04 Kernel: 5.15 Compiler: gcc gcc (Ubuntu 11.4.0-1ubuntu1~22.04) 11.4.0 Ubuntu 24.04 Kernel: 5.15 Compiler: gcc gcc (Ubuntu 13.3.0-6ubuntu2~24.04) 13.3.0 Alpine Linux 3.22.0 Kernel: 5.15 Compiler: gcc gcc (Alpine 14.2.0) 14.2.0 Windows Server 2022 Kernel: 10.0.20348.2031 Compiler: clang 15.0.7, gcc 14.1.0 (MinGW), and MSVC VS 19.39.33521 To view detailed results, visit: https://lab.dpdk.org/results/dashboard/patchsets/34394/ UNH-IOL DPDK Community Lab To manage your email subscriptions, visit: https://lab.dpdk.org/results/dashboard/preferences/subscriptions/