From mboxrd@z Thu Jan 1 00:00:00 1970 Return-Path: Received: from mails.dpdk.org (mails.dpdk.org [217.70.189.124]) by inbox.dpdk.org (Postfix) with ESMTP id CA901489F8 for ; Tue, 28 Oct 2025 15:13:49 +0100 (CET) Received: from mails.dpdk.org (localhost [127.0.0.1]) by mails.dpdk.org (Postfix) with ESMTP id C63CD4021E; Tue, 28 Oct 2025 15:13:49 +0100 (CET) Received: from mail-il1-f226.google.com (mail-il1-f226.google.com [209.85.166.226]) by mails.dpdk.org (Postfix) with ESMTP id A42B94021E for ; Tue, 28 Oct 2025 15:13:48 +0100 (CET) Received: by mail-il1-f226.google.com with SMTP id e9e14a558f8ab-430e6ac6bccso36277965ab.0 for ; Tue, 28 Oct 2025 07:13:48 -0700 (PDT) DKIM-Signature: v=1; a=rsa-sha256; c=relaxed/relaxed; d=iol.unh.edu; s=unh-iol; t=1761660828; x=1762265628; darn=dpdk.org; h=references:in-reply-to:cc:to:from:subject:message-id:date:from:to :cc:subject:date:message-id:reply-to; bh=l7qAKMaMdfW+ObVHyk7HqGu2w3Uqcz4iXAkLvmegr4s=; b=bjMwgdw2+szySxvkr/08qRhjF8QjzcqUan91l7X+hnzg/nZIWh2uiL35pm7pxElq3m vdEKDs522MYvmQzCap8f+V47M3wiPOQTJOezWMr4gmkjaua2769Whx1YJWxaiXIBksMb +/RsLY4n9K9mSd98k40XaV62iDOkWvjxqP2Bo= X-Google-DKIM-Signature: v=1; a=rsa-sha256; c=relaxed/relaxed; d=1e100.net; s=20230601; t=1761660828; x=1762265628; h=references:in-reply-to:cc:to:from:subject:message-id:date :x-gm-message-state:from:to:cc:subject:date:message-id:reply-to; bh=l7qAKMaMdfW+ObVHyk7HqGu2w3Uqcz4iXAkLvmegr4s=; b=oqrl6q0nGKN4iySbCi542uVeGmoKD3lBwX6gvJm/aiiMnmdHl9DXZY1lrMLEsQ/UBK SmzOgj3K18yaXwUhGSRd1Lt8dhuZ5YaKd1/3elfWkoipX7B0HCnblk9GX+NScPxD6sdV 9mb1cemgS5TwqNh3zml67N8VG3cAaJU7ibzOJha5vhStnCKMGnMaMofu+T7PgRVE86Yi wzs1QbaiS/A2p3DVhD5JF973oGc/3sUF2FRc0GI0r5t1VAetU8GUxWsUYLSY8Iob1Wez SMIrGt3GJbGcOZU/pSex9hK01LEyemcxbns+QoA6AEA2IOJOktIoJsAD8ZlgNSeCV3K6 XSOw== X-Gm-Message-State: AOJu0Yz3uTZ5E0pcCzvnBLwPoJiuCrWVNLQJEW9HkGM0B8ip44HfJWxt uvemIr6yVDEhsI8hgrmjEHnobmI3h92wsWZIpoRGUk7qw1xCpU1WmMcx4pySmNhX/HrGAnAjDNi YqzFXyyxxV9LPZjjBYUBnGAa/StvQBB7zROpcmWjesp5z X-Gm-Gg: ASbGnctl8kSq+5U1GXlJGBKsQj0jM7H1lN8m2KtD8Eg+WlvN2M7vb/+qr4bYYDDS/mU gmSD7NBjm6TCWJPztnFwZNsTk4n50RTQAZ97VBwM0uhffnoUaW6BGqRAt/0HB41uXuF59H/+vCY APmt1I+oSjwS3zBrpXDM++TdviIsiU2ZbWPRERJhG567kbgVBGBvTpdgJ+xUjkBNm99wF0uP0f1 gyMHqMwPjKs1j7jyO3cWN3FglYNbinl/5z3GtZdOSJiEkonDbKSjCr/ZIgGhBVIenP7Fi8BLbzP paaER7lJgCdgBnqiE54NBRGXTEUR1LFwpUZbGtPOBDZsqyvcGwSylmwR+jRE1RPlGpNxQBXl7pZ O/JvytTvFIMmCkVBKym/418A5ttSf11Y= X-Google-Smtp-Source: AGHT+IH/EsORMU9mMQplzXTNdRrsF3lpOYuyRoxsMRwJ5oOR53EAqC1tbYYI1rO2Whgjy5EF+rFgwbc+LSR9 X-Received: by 2002:a05:6e02:3187:b0:430:d14c:7dba with SMTP id e9e14a558f8ab-4321042b8d0mr50982095ab.12.1761660827830; Tue, 28 Oct 2025 07:13:47 -0700 (PDT) Received: from postal.iol.unh.edu (postal.iol.unh.edu. [132.177.123.84]) by smtp-relay.gmail.com with ESMTPS id 8926c6da1cb9f-5aea9e33579sm839135173.33.2025.10.28.07.13.47 (version=TLS1_2 cipher=ECDHE-ECDSA-AES128-GCM-SHA256 bits=128/128); Tue, 28 Oct 2025 07:13:47 -0700 (PDT) X-Relaying-Domain: iol.unh.edu Date: Tue, 28 Oct 2025 07:13:47 -0700 (PDT) Message-ID: <6900cf9b.050a0220.144a8c.61ccSMTPIN_ADDED_MISSING@mx.google.com> Received: from [172.21.0.7] (unknown [172.18.0.240]) by postal.iol.unh.edu (Postfix) with ESMTP id 433A06051830; Tue, 28 Oct 2025 10:13:47 -0400 (EDT) Subject: |SUCCESS| pw158170 [PATCH] app/procinfo: fix warning of deprecated c From: dpdklab@iol.unh.edu To: Test Report Cc: dpdk-test-reports@iol.unh.edu In-Reply-To: <20251028081733.38583-1-fengchengwen@huawei.com> References: <20251028081733.38583-1-fengchengwen@huawei.com> Content-Type: text/plain X-BeenThere: test-report@dpdk.org X-Mailman-Version: 2.1.29 Precedence: list List-Id: automatic DPDK test reports List-Unsubscribe: , List-Archive: List-Post: List-Help: List-Subscribe: , Errors-To: test-report-bounces@dpdk.org Test-Label: iol-compile-arm64-testing Test-Status: SUCCESS http://dpdk.org/patch/158170 _Testing PASS_ Submitter: Chengwen Feng Date: Tuesday, October 28 2025 08:17:33 DPDK git baseline: Repo:dpdk Branch: master CommitID:39b54f2dcf44ad1f91eabc7080cd5dea763607fd 158170 --> testing pass Upstream job id: Generic-DPDK-Compile-Meson#438294 Test environment and result as below: +------------------------------+--------------------+ | Environment | dpdk_meson_compile | +==============================+====================+ | Ubuntu 20.04 | PASS | +------------------------------+--------------------+ | Debian GNU/Linux 12 | PASS | +------------------------------+--------------------+ | Red Hat Enterprise Linux 9.5 | PASS | +------------------------------+--------------------+ | Ubuntu 24.04 | PASS | +------------------------------+--------------------+ | Fedora Linux 42 | PASS | +------------------------------+--------------------+ | CentOS Stream 10 | PASS | +------------------------------+--------------------+ | Ubuntu 22.04 | PASS | +------------------------------+--------------------+ | CentOS Stream 9 | PASS | +------------------------------+--------------------+ Ubuntu 20.04 Kernel: 5.4 Compiler: gcc gcc (Ubuntu 9.4.0-1ubuntu1~20.04.2) 9.4.0 Debian GNU/Linux 12 Kernel: 5.4 Compiler: gcc gcc (Debian 12.2.0-14+deb12u1) 12.2.0 Red Hat Enterprise Linux 9.5 Kernel: 5.4 Compiler: gcc gcc (GCC) 11.5.0 20240719 (Red Hat 11.5.0-2) Ubuntu 24.04 Kernel: 5.4 Compiler: gcc gcc (Ubuntu 13.3.0-6ubuntu2~24.04) 13.3.0 Fedora Linux 42 Kernel: 5.4 Compiler: gcc gcc (GCC) 15.2.1 20250808 (Red Hat 15.2.1-1) CentOS Stream 10 Kernel: 5.4 Compiler: gcc gcc (GCC) 14.2.1 20250110 (Red Hat 14.2.1-8) Ubuntu 22.04 Kernel: 5.4 Compiler: gcc gcc (Ubuntu 11.4.0-1ubuntu1~22.04) 11.4.0 CentOS Stream 9 Kernel: 5.4 Compiler: gcc gcc (GCC) 11.5.0 20240719 (Red Hat 11.5.0-11) To view detailed results, visit: https://lab.dpdk.org/results/dashboard/patchsets/34391/ UNH-IOL DPDK Community Lab To manage your email subscriptions, visit: https://lab.dpdk.org/results/dashboard/preferences/subscriptions/