From mboxrd@z Thu Jan 1 00:00:00 1970 Return-Path: Received: from mails.dpdk.org (mails.dpdk.org [217.70.189.124]) by inbox.dpdk.org (Postfix) with ESMTP id 11DEA489F8 for ; Tue, 28 Oct 2025 15:15:14 +0100 (CET) Received: from mails.dpdk.org (localhost [127.0.0.1]) by mails.dpdk.org (Postfix) with ESMTP id 0DBA34021E; Tue, 28 Oct 2025 15:15:14 +0100 (CET) Received: from mail-ot1-f97.google.com (mail-ot1-f97.google.com [209.85.210.97]) by mails.dpdk.org (Postfix) with ESMTP id 5D3854021E for ; Tue, 28 Oct 2025 15:15:13 +0100 (CET) Received: by mail-ot1-f97.google.com with SMTP id 46e09a7af769-7c29466eabaso1994132a34.0 for ; Tue, 28 Oct 2025 07:15:13 -0700 (PDT) DKIM-Signature: v=1; a=rsa-sha256; c=relaxed/relaxed; d=iol.unh.edu; s=unh-iol; t=1761660912; x=1762265712; darn=dpdk.org; h=references:in-reply-to:cc:to:from:subject:message-id:date:from:to :cc:subject:date:message-id:reply-to; bh=uu40MWRIlqKgeY2WHV0eUdPM9OPnPqUzQICml+6OTWg=; b=IkHyksd32StHDTsTjIiBvdWTgd/g1JukWJ84f9mmtduOtnHDWjk3dQsREMEbY8H742 BNdtqm2rXD20tYq7egP4/cGBl0Xry1haEQDs7CaW6zEM58Z2ZoOzgQ9HLLILWS0jEipI BsztcqdXETpiBXpyplH3VoKKQThpLm/+rlOMg= X-Google-DKIM-Signature: v=1; a=rsa-sha256; c=relaxed/relaxed; d=1e100.net; s=20230601; t=1761660912; x=1762265712; h=references:in-reply-to:cc:to:from:subject:message-id:date :x-gm-message-state:from:to:cc:subject:date:message-id:reply-to; bh=uu40MWRIlqKgeY2WHV0eUdPM9OPnPqUzQICml+6OTWg=; b=qeJuLIM9WAayzY1w7gS0Vzfno1i4WLB3Vi90l3O0aEUApj0AIKGA5Rg2wqdKmNPfRW 4DvfNQ16Xt+jk+lGTA1J6UITqkAvw/nbNxGrO17O5RwcfVul7bY72Ia8DDaZ5XcBoPJe C4345oEFGyLsIdkNw9ObjTTqNAzJ5WqCEWMHu4LL4g2/8IHGbHIg8Lf5Q7t0C4R5K4sD 47FiKEadnVE4TLO5+7aae8r72WBkmyxslVzrWWQOWLaqffWnlhhxQOLiNv/bCU3pPT4+ B2FWQWJ4wC9Or1f2LbY1a0u2Eyqmz/pq6U4avzPReGbME9Dx9Th0Q44+1c1dQjUBsCgC A5rA== X-Gm-Message-State: AOJu0YysjEZg2USxL0V1Q8UGDmb8kLg2GoBQM0vSU66c4cPMBQbSp6NX a3+rBTTIc82LwSamTT2K0YrZ63gyGT6F5LUcZ1OqFYMflbzwMT0ffqcgc+WektaMca4X4ZmiuTp 7YPvmNx7F56kX+OddAAli20nicWNW2+k5OjmkPDJSZSLOc6jGKD10kvCrWOqv X-Gm-Gg: ASbGncsLPKRV6SVfct0rRzZ/XlnhlByLEPrmzfrey+EdZ4giR5xflPsg2BOF70G+1n6 i30GobU82eQIohoR5ugswIhayeW3990X8fod6osvMGmrWhy9XP052SCDAjWvinQvYIrUipTbia5 b8TOpYCNSUfjpm5OGOUAePZ5lV51XbHsHHKiautkRcrFkmMQ02PwDJvARWDjylMWzWkxNdSPfWy Xel/Ulla2SOJ2bBrDveMmwGjfBm05yBPBcouksw/s/5kUAQ9j9LT34xpFfx0cBXZvb2mGLcSkU9 xHCGTrgdTxha0skbhHoVcg3xo/z1p6ZzaA356czo96cCCDQ3o9nM8Iz39pXWOry1EotzqdlMz0m +3kVWQR5L X-Google-Smtp-Source: AGHT+IFip/yYBgrYy9+lyTypf7sXjLh5Q2EZgVc+nu2w0+2lbW89ch5Sbny3AEZEeqFPtBq++CIAQOGyMHvH X-Received: by 2002:a05:6808:a58f:20b0:44f:6d9e:4f7d with SMTP id 5614622812f47-44f6d9e51aamr1093038b6e.5.1761660912186; Tue, 28 Oct 2025 07:15:12 -0700 (PDT) Received: from postal.iol.unh.edu (postal.iol.unh.edu. [2606:4100:3880:1234::84]) by smtp-relay.gmail.com with ESMTPS id 006d021491bc7-654ef277b31sm299993eaf.3.2025.10.28.07.15.12 (version=TLS1_2 cipher=ECDHE-ECDSA-AES128-GCM-SHA256 bits=128/128); Tue, 28 Oct 2025 07:15:12 -0700 (PDT) X-Relaying-Domain: iol.unh.edu Date: Tue, 28 Oct 2025 07:15:12 -0700 (PDT) Message-ID: <6900cff0.4a0a0220.b0c97.d5a8SMTPIN_ADDED_MISSING@mx.google.com> Received: from [172.21.0.3] (unknown [172.18.0.240]) by postal.iol.unh.edu (Postfix) with ESMTP id B29716051830; Tue, 28 Oct 2025 10:15:11 -0400 (EDT) Subject: |SUCCESS| pw158171-158173 [PATCH] [v11,3/3] net/macb: add necessary From: dpdklab@iol.unh.edu To: Test Report Cc: dpdk-test-reports@iol.unh.edu In-Reply-To: <1761640401-80633-1-git-send-email-liwencheng@phytium.com.cn> References: <1761640401-80633-1-git-send-email-liwencheng@phytium.com.cn> Content-Type: text/plain X-BeenThere: test-report@dpdk.org X-Mailman-Version: 2.1.29 Precedence: list List-Id: automatic DPDK test reports List-Unsubscribe: , List-Archive: List-Post: List-Help: List-Subscribe: , Errors-To: test-report-bounces@dpdk.org Test-Label: iol-compile-arm64-testing Test-Status: SUCCESS http://dpdk.org/patch/158173 _Testing PASS_ Submitter: Wencheng Li Date: Tuesday, October 28 2025 08:33:21 DPDK git baseline: Repo:dpdk Branch: master CommitID:39b54f2dcf44ad1f91eabc7080cd5dea763607fd 158171-158173 --> testing pass Upstream job id: Generic-DPDK-Compile-Meson#438308 Test environment and result as below: +------------------------------+--------------------+ | Environment | dpdk_meson_compile | +==============================+====================+ | Ubuntu 20.04 | PASS | +------------------------------+--------------------+ | Red Hat Enterprise Linux 9.5 | PASS | +------------------------------+--------------------+ | Fedora Linux 42 | PASS | +------------------------------+--------------------+ | Ubuntu 22.04 | PASS | +------------------------------+--------------------+ | CentOS Stream 9 | PASS | +------------------------------+--------------------+ | Debian GNU/Linux 12 | PASS | +------------------------------+--------------------+ | Ubuntu 24.04 | PASS | +------------------------------+--------------------+ | CentOS Stream 10 | PASS | +------------------------------+--------------------+ Ubuntu 20.04 Kernel: 5.4 Compiler: gcc gcc (Ubuntu 9.4.0-1ubuntu1~20.04.2) 9.4.0 Red Hat Enterprise Linux 9.5 Kernel: 5.4 Compiler: gcc gcc (GCC) 11.5.0 20240719 (Red Hat 11.5.0-2) Fedora Linux 42 Kernel: 5.4 Compiler: clang gcc (GCC) 15.2.1 20250808 (Red Hat 15.2.1-1) Ubuntu 22.04 Kernel: 5.4 Compiler: gcc gcc (Ubuntu 11.4.0-1ubuntu1~22.04) 11.4.0 CentOS Stream 9 Kernel: 5.4 Compiler: gcc gcc (GCC) 11.5.0 20240719 (Red Hat 11.5.0-11) Debian GNU/Linux 12 Kernel: 5.4 Compiler: gcc gcc (Debian 12.2.0-14+deb12u1) 12.2.0 Ubuntu 24.04 Kernel: 5.4 Compiler: gcc gcc (Ubuntu 13.3.0-6ubuntu2~24.04) 13.3.0 CentOS Stream 10 Kernel: 5.4 Compiler: gcc gcc (GCC) 14.2.1 20250110 (Red Hat 14.2.1-8) To view detailed results, visit: https://lab.dpdk.org/results/dashboard/patchsets/34392/ UNH-IOL DPDK Community Lab To manage your email subscriptions, visit: https://lab.dpdk.org/results/dashboard/preferences/subscriptions/