From mboxrd@z Thu Jan 1 00:00:00 1970 Return-Path: Received: from mails.dpdk.org (mails.dpdk.org [217.70.189.124]) by inbox.dpdk.org (Postfix) with ESMTP id 3A7C9489F8 for ; Tue, 28 Oct 2025 15:16:38 +0100 (CET) Received: from mails.dpdk.org (localhost [127.0.0.1]) by mails.dpdk.org (Postfix) with ESMTP id 34FD34021E; Tue, 28 Oct 2025 15:16:38 +0100 (CET) Received: from mail-pf1-f228.google.com (mail-pf1-f228.google.com [209.85.210.228]) by mails.dpdk.org (Postfix) with ESMTP id B11284021E for ; Tue, 28 Oct 2025 15:16:36 +0100 (CET) Received: by mail-pf1-f228.google.com with SMTP id d2e1a72fcca58-7930132f59aso7963310b3a.0 for ; Tue, 28 Oct 2025 07:16:36 -0700 (PDT) DKIM-Signature: v=1; a=rsa-sha256; c=relaxed/relaxed; d=iol.unh.edu; s=unh-iol; t=1761660996; x=1762265796; darn=dpdk.org; h=references:in-reply-to:cc:to:from:subject:message-id:date:from:to :cc:subject:date:message-id:reply-to; bh=IDrOf0trviT0aK4gSJTDW/ljhtZVmehaa9OPthjbeYA=; b=PxnGIiKYZcH9Jma1HTZc0JYszSzdikOlAck8JB+8LsfS6D0ny3RyUR+aC6bEEkOpun 2+guCw0AZQsfPQNXpoTiKcD3V2gG1Hwy7etdoOf+v2IOY4wBMLFTzcEy3e02baqzdmKA IzOtIJcfJ8x27K4qkA3VrX9TJwGAKbiYIw/0c= X-Google-DKIM-Signature: v=1; a=rsa-sha256; c=relaxed/relaxed; d=1e100.net; s=20230601; t=1761660996; x=1762265796; h=references:in-reply-to:cc:to:from:subject:message-id:date :x-gm-message-state:from:to:cc:subject:date:message-id:reply-to; bh=IDrOf0trviT0aK4gSJTDW/ljhtZVmehaa9OPthjbeYA=; b=sSBlQssf8RRTrw12Oq8GgpSWLZ9uZJ4YOUOml+UyyBWgTWv3umIjbRZzku9cP+tI2A LdSojQoCf85xxUmRcJCSLpi1AmwEr0XFRGpAywCyFnT3fJvvgo3U4rd2aEYhkkvflkHH Mu+dBjEWrrHwdc108MHO9vE+YbsLAr5ThYO0uLQEN/NLF9W4QNRmmHJkWiccrBo2RAru +cBjyI91gijD9nPXUEbChHhCNu0rbEGH9RBHexLKiYZu5sYtel3LGxbiRHI7gdznHhyV iesrwznpY+paR4laFkSF6D0CKsrt0ukdv48FuZCsZEbrZ9Yy/ChpUUDGiAJC1TkXeAth qDFA== X-Gm-Message-State: AOJu0Yw1dxmA1ybCnKMbHGIYEMDQR3B6G8ooRPnO3jtc3dGtJerjuFGm D9xdAUWkd/5Vfv2MWSYZ7n5rPLuHue/HuS5CgQlKJ/cE9jDyNrubJQHTVZSs51AK/txeumO7BhF ClDFra+rUXb1BZ5xIVDT5SPX4SziGxQhcps6QAkCFarQR X-Gm-Gg: ASbGncu29n1Tsizv593eY28UUoGCivbRgyCUFyQOPUN8kr/vL1HTOjuDB3kh3QOlynM aQGv9HtXTBboRpK/DtGhVxStBFA63xKX+tvn/Fe4HQnq634V7y1uiL3iQo0PM9YSr5A4avi7PNU QJklGjI/Lo1wTnU5cGqAhsoT1la1t+NqzkDalg3tp1GBBO4Ppp0egKSUO+e2wJo6n0eW8MQONMp yizYJwLi6taSDvdhyONSgqL72JhLSFaGaISRMiCJWcF2rLGtxqwl2/DA8XS7NYVAckbghNG8G/R hkDSOCk/QKoQdwB76fTBUEN9xJ168uC6PHX/a6HI//8c4TS1TLZ/mqSzTxG+X7myHqq9En/mviu hnZsMSdJHhetVJob5P52Er7sxAqdfGcI= X-Google-Smtp-Source: AGHT+IGPj/LTRK+abv7hQYNi8YwT0mHqgNHW5FPR/tKivs6vKOicXAzaimxorSFf7S//fDmSMylHOnGc2vRE X-Received: by 2002:a17:902:f68d:b0:28e:7567:3c4b with SMTP id d9443c01a7336-294cb3a353cmr52863235ad.16.1761660995656; Tue, 28 Oct 2025 07:16:35 -0700 (PDT) Received: from postal.iol.unh.edu (postal.iol.unh.edu. [132.177.123.84]) by smtp-relay.gmail.com with ESMTPS id d9443c01a7336-29498e42ad3sm10288065ad.62.2025.10.28.07.16.35 (version=TLS1_2 cipher=ECDHE-ECDSA-AES128-GCM-SHA256 bits=128/128); Tue, 28 Oct 2025 07:16:35 -0700 (PDT) X-Relaying-Domain: iol.unh.edu Date: Tue, 28 Oct 2025 07:16:35 -0700 (PDT) Message-ID: <6900d043.170a0220.333820.ef9aSMTPIN_ADDED_MISSING@mx.google.com> Received: from [172.21.0.3] (unknown [172.18.0.240]) by postal.iol.unh.edu (Postfix) with ESMTP id 1E2446050A61; Tue, 28 Oct 2025 10:16:35 -0400 (EDT) Subject: |SUCCESS| pw158167-158169 [PATCH] [v9,3/3] doc: note on unsupported From: dpdklab@iol.unh.edu To: Test Report Cc: dpdk-test-reports@iol.unh.edu, Bruce Richardson In-Reply-To: <20251028052943.121453-4-shaiq.wani@intel.com> References: <20251028052943.121453-4-shaiq.wani@intel.com> Content-Type: text/plain X-BeenThere: test-report@dpdk.org X-Mailman-Version: 2.1.29 Precedence: list List-Id: automatic DPDK test reports List-Unsubscribe: , List-Archive: List-Post: List-Help: List-Subscribe: , Errors-To: test-report-bounces@dpdk.org Test-Label: iol-compile-arm64-testing Test-Status: SUCCESS http://dpdk.org/patch/158169 _Testing PASS_ Submitter: Shaiq Wani Date: Tuesday, October 28 2025 05:29:43 DPDK git baseline: Repo:dpdk-next-net-intel Branch: master CommitID:6b997d6b9ffdbb4f8ecd14d1f217da69cdc783af 158167-158169 --> testing pass Upstream job id: Generic-DPDK-Compile-Meson#438260 Test environment and result as below: +------------------------------+--------------------+ | Environment | dpdk_meson_compile | +==============================+====================+ | Ubuntu 20.04 | PASS | +------------------------------+--------------------+ | Red Hat Enterprise Linux 9.5 | PASS | +------------------------------+--------------------+ | Ubuntu 22.04 | PASS | +------------------------------+--------------------+ | Debian GNU/Linux 12 | PASS | +------------------------------+--------------------+ | Fedora Linux 42 | PASS | +------------------------------+--------------------+ | CentOS Stream 10 | PASS | +------------------------------+--------------------+ | CentOS Stream 9 | PASS | +------------------------------+--------------------+ | Ubuntu 24.04 | PASS | +------------------------------+--------------------+ Ubuntu 20.04 Kernel: 5.15 Compiler: aarch64-linux-gnu-gcc gcc (Ubuntu 9.4.0-1ubuntu1~20.04.2) 9.4.0 Red Hat Enterprise Linux 9.5 Kernel: 5.4 Compiler: gcc gcc (GCC) 11.5.0 20240719 (Red Hat 11.5.0-2) Ubuntu 22.04 Kernel: 5.4 Compiler: gcc gcc (Ubuntu 11.4.0-1ubuntu1~22.04) 11.4.0 Debian GNU/Linux 12 Kernel: 5.4 Compiler: gcc gcc (Debian 12.2.0-14+deb12u1) 12.2.0 Fedora Linux 42 Kernel: 5.4 Compiler: gcc gcc (GCC) 15.2.1 20250808 (Red Hat 15.2.1-1) CentOS Stream 10 Kernel: 5.4 Compiler: gcc gcc (GCC) 14.2.1 20250110 (Red Hat 14.2.1-8) CentOS Stream 9 Kernel: 5.4 Compiler: gcc gcc (GCC) 11.5.0 20240719 (Red Hat 11.5.0-11) Ubuntu 24.04 Kernel: 5.4 Compiler: gcc gcc (Ubuntu 13.3.0-6ubuntu2~24.04) 13.3.0 To view detailed results, visit: https://lab.dpdk.org/results/dashboard/patchsets/34390/ UNH-IOL DPDK Community Lab To manage your email subscriptions, visit: https://lab.dpdk.org/results/dashboard/preferences/subscriptions/