From mboxrd@z Thu Jan 1 00:00:00 1970 Return-Path: Received: from mails.dpdk.org (mails.dpdk.org [217.70.189.124]) by inbox.dpdk.org (Postfix) with ESMTP id 4EA00489F8 for ; Tue, 28 Oct 2025 15:16:54 +0100 (CET) Received: from mails.dpdk.org (localhost [127.0.0.1]) by mails.dpdk.org (Postfix) with ESMTP id 4961D4021E; Tue, 28 Oct 2025 15:16:54 +0100 (CET) Received: from mail-qv1-f99.google.com (mail-qv1-f99.google.com [209.85.219.99]) by mails.dpdk.org (Postfix) with ESMTP id 862284021E for ; Tue, 28 Oct 2025 15:16:53 +0100 (CET) Received: by mail-qv1-f99.google.com with SMTP id 6a1803df08f44-87de60d0e3eso61965646d6.3 for ; Tue, 28 Oct 2025 07:16:53 -0700 (PDT) DKIM-Signature: v=1; a=rsa-sha256; c=relaxed/relaxed; d=iol.unh.edu; s=unh-iol; t=1761661013; x=1762265813; darn=dpdk.org; h=references:in-reply-to:cc:to:from:subject:message-id:date:from:to :cc:subject:date:message-id:reply-to; bh=S87JWIQPLKbfhz5bPVjG2/w/BjmenPelEkPWah5b8P4=; b=d0JawqEGyljvHKuZJqfM2fZDEo/eW5FJmosJVj8t5cMJrchFi1jNeaWfBXsqyeBTiY 1H5eS5nab9ynTPGfp70jqWmyElB27i4fUGeP0ke+ZN/NBBsUG+xEwOwnd1lzas0pDBtd 3uhIhtM7XIgUWWz6JektnIXPtACtT4Z2KjoRM= X-Google-DKIM-Signature: v=1; a=rsa-sha256; c=relaxed/relaxed; d=1e100.net; s=20230601; t=1761661013; x=1762265813; h=references:in-reply-to:cc:to:from:subject:message-id:date :x-gm-message-state:from:to:cc:subject:date:message-id:reply-to; bh=S87JWIQPLKbfhz5bPVjG2/w/BjmenPelEkPWah5b8P4=; b=YKZoF08qeApM+PVEAFeaatRK/FDaajV+YvxuTK3w6U7L3GJq/vMYdtOiTVcPlzIlg0 pyuXKZyzjGZh3nPDZTCI9vFGNzdiQVzn8V+YVE+pSkv0kx5qaUe/AieFJpbVGv7ozcGr sxjeaMEXBRFrUXjbX8HgYVE3EZr/IUvZML5JKDpqwwYe2Lqq0GdNLWsyOGzPVxQtrsr1 Yp3UMD2/l5SYbti9cSqmwl9xuPDa0c6NyZV1FexSIpTOCUXiGh9Tuu87sXxmPhUDc8y9 LIEd2ur/7jFgmQm5CK1fJvzCN7KAaCGtsePeS7CLQsAcORX1baybcOScnKgE4xQ4PMqq v26Q== X-Gm-Message-State: AOJu0YyA9bAK3nlfvCB3spbPRMZlhbDXJqPyp4X+A76nsMSay2kLauMc rrfj7nopVDePuKcCvnT6EUfvTG+NajhWlo4hxISkZDaQWWTLaJruDJ0QVQTXtA9ogbcQELNPmpd mdsgOK+XBDaCBHMdGU8exiI/sCI/SwABs4+TclzZ1q88/ X-Gm-Gg: ASbGncuDCvoIASQP/CuapaFSNrx9N9qELy9gJkWP727VKRM/WyMJZs7f7UjP/fAEl8/ 91O8j17VTetKvddP1C53LUT1C7siy94YtBU/pYnJtATyaYrK/S+1Hv6xsF1PI9EnblBLBClh7/g oBPAu0SaMOg9RgCapNI7Ba/cv9807CPWt14QRg/BdX98i5dl0R9aplOs52ufbRGd/mH9MbspxXZ ZqQCgtmhgwsyVqey7Cz9Nw3Gd5b4tD6B0cdAaXeLrVTsq/k6a3iHkmGLiMNVfF54r/R0Zv3s3cV hVRgeYcQ1HnTCu1qRXsh5zEGyMRBIWwGd0Yxro1H/GHAyoWLcTB7Lhh2JQupLptMekGOSlLmtYU 3DMtd9xD5cu7jBvyLFBOCZKtMR2rMnPs= X-Google-Smtp-Source: AGHT+IGtieyVw9f/ckg09m7RIbfbYE3j6Qi7TOgnMTNlDhzLbyRmgOH3IUwJuJpqhnq2wfCWwJZCKRzQhbS1 X-Received: by 2002:ad4:5945:0:b0:720:e4bd:d3e6 with SMTP id 6a1803df08f44-87ffb015eb1mr39819526d6.15.1761661012768; Tue, 28 Oct 2025 07:16:52 -0700 (PDT) Received: from postal.iol.unh.edu (postal.iol.unh.edu. [132.177.123.84]) by smtp-relay.gmail.com with ESMTPS id 6a1803df08f44-87fc48dc74esm11303666d6.2.2025.10.28.07.16.52 (version=TLS1_2 cipher=ECDHE-ECDSA-AES128-GCM-SHA256 bits=128/128); Tue, 28 Oct 2025 07:16:52 -0700 (PDT) X-Relaying-Domain: iol.unh.edu Date: Tue, 28 Oct 2025 07:16:52 -0700 (PDT) Message-ID: <6900d054.050a0220.c59a7.5807SMTPIN_ADDED_MISSING@mx.google.com> Received: from [172.21.0.2] (unknown [172.18.0.240]) by postal.iol.unh.edu (Postfix) with ESMTP id 84F2F6050A61; Tue, 28 Oct 2025 10:16:52 -0400 (EDT) Subject: |SUCCESS| pw158175-158177 [PATCH] [v1,3/3] net/r8169: fix issues rep From: dpdklab@iol.unh.edu To: Test Report Cc: dpdk-test-reports@iol.unh.edu, Stephen Hemminger In-Reply-To: <20251028084716.369128-4-howard_wang@realsil.com.cn> References: <20251028084716.369128-4-howard_wang@realsil.com.cn> Content-Type: text/plain X-BeenThere: test-report@dpdk.org X-Mailman-Version: 2.1.29 Precedence: list List-Id: automatic DPDK test reports List-Unsubscribe: , List-Archive: List-Post: List-Help: List-Subscribe: , Errors-To: test-report-bounces@dpdk.org Test-Label: iol-compile-arm64-testing Test-Status: SUCCESS http://dpdk.org/patch/158177 _Testing PASS_ Submitter: Howard Wang Date: Tuesday, October 28 2025 08:47:16 DPDK git baseline: Repo:dpdk-next-net Branch: master CommitID:11a6a4b1f19140ac3a57ace844be3cba00c39eaa 158175-158177 --> testing pass Upstream job id: Generic-DPDK-Compile-Meson#438348 Test environment and result as below: +------------------------------+--------------------+ | Environment | dpdk_meson_compile | +==============================+====================+ | Debian GNU/Linux 12 | PASS | +------------------------------+--------------------+ | Ubuntu 20.04 | PASS | +------------------------------+--------------------+ | Red Hat Enterprise Linux 9.5 | PASS | +------------------------------+--------------------+ | Fedora Linux 42 | PASS | +------------------------------+--------------------+ | Ubuntu 24.04 | PASS | +------------------------------+--------------------+ | Ubuntu 22.04 | PASS | +------------------------------+--------------------+ | CentOS Stream 10 | PASS | +------------------------------+--------------------+ | CentOS Stream 9 | PASS | +------------------------------+--------------------+ Debian GNU/Linux 12 Kernel: 5.4 Compiler: gcc gcc (Debian 12.2.0-14+deb12u1) 12.2.0 Ubuntu 20.04 Kernel: 5.15 Compiler: aarch64-linux-gnu-gcc gcc (Ubuntu 9.4.0-1ubuntu1~20.04.2) 9.4.0 Red Hat Enterprise Linux 9.5 Kernel: 5.4 Compiler: gcc gcc (GCC) 11.5.0 20240719 (Red Hat 11.5.0-2) Fedora Linux 42 Kernel: 5.4 Compiler: gcc gcc (GCC) 15.2.1 20250808 (Red Hat 15.2.1-1) Ubuntu 24.04 Kernel: 5.4 Compiler: gcc gcc (Ubuntu 13.3.0-6ubuntu2~24.04) 13.3.0 Ubuntu 22.04 Kernel: 5.4 Compiler: gcc gcc (Ubuntu 11.4.0-1ubuntu1~22.04) 11.4.0 CentOS Stream 10 Kernel: 5.4 Compiler: gcc gcc (GCC) 14.2.1 20250110 (Red Hat 14.2.1-8) CentOS Stream 9 Kernel: 5.4 Compiler: gcc gcc (GCC) 11.5.0 20240719 (Red Hat 11.5.0-11) To view detailed results, visit: https://lab.dpdk.org/results/dashboard/patchsets/34393/ UNH-IOL DPDK Community Lab To manage your email subscriptions, visit: https://lab.dpdk.org/results/dashboard/preferences/subscriptions/