From mboxrd@z Thu Jan 1 00:00:00 1970 Return-Path: Received: from mails.dpdk.org (mails.dpdk.org [217.70.189.124]) by inbox.dpdk.org (Postfix) with ESMTP id B9DC0489F8 for ; Tue, 28 Oct 2025 15:25:05 +0100 (CET) Received: from mails.dpdk.org (localhost [127.0.0.1]) by mails.dpdk.org (Postfix) with ESMTP id B6E474028D; Tue, 28 Oct 2025 15:25:05 +0100 (CET) Received: from mail-ot1-f100.google.com (mail-ot1-f100.google.com [209.85.210.100]) by mails.dpdk.org (Postfix) with ESMTP id BB3D34028D for ; Tue, 28 Oct 2025 15:25:04 +0100 (CET) Received: by mail-ot1-f100.google.com with SMTP id 46e09a7af769-7c2846c961fso3755355a34.2 for ; Tue, 28 Oct 2025 07:25:04 -0700 (PDT) DKIM-Signature: v=1; a=rsa-sha256; c=relaxed/relaxed; d=iol.unh.edu; s=unh-iol; t=1761661504; x=1762266304; darn=dpdk.org; h=references:in-reply-to:cc:to:from:subject:message-id:date:from:to :cc:subject:date:message-id:reply-to; bh=IJYw+Nxqbfa3PNvKtZUiAszf30Gh/JY8BjYpdiBsCQQ=; b=i1zJmUzcuq4iB1bJcCDDD1jydisURR0PAVXQ298q5aNKXHttrLdUmSn+xSeTfPxyRp Y3pGJQKOuhNuojW+gJpphMlQrdpNH8hR2w+lh+IgwIRqyAsetDFZ+rEKsp4Eqtgi/KWs jUGX37cSkhx0WGfMoelTD9cniFySaZgsHVpGE= X-Google-DKIM-Signature: v=1; a=rsa-sha256; c=relaxed/relaxed; d=1e100.net; s=20230601; t=1761661504; x=1762266304; h=references:in-reply-to:cc:to:from:subject:message-id:date :x-gm-message-state:from:to:cc:subject:date:message-id:reply-to; bh=IJYw+Nxqbfa3PNvKtZUiAszf30Gh/JY8BjYpdiBsCQQ=; b=g4uJdtTCaSofK/Ziqciq/TX77FnbMsj+D97iTrp5YgHtoCfksWgRrhjnw+0Si8Wv3n SyOvjxI8fmqygZ6wvkcHX8fL79+nKbSxtJ3DRmMRjhqkcjeJMJw+zh6/9RQtIIa+8FxJ mtyw50Cbl7exFO5ALwk0PSBezkopfls1JfP3+KlY62sbPnuTC6y0cRuoANjBD52sfoc/ F5WnQxXcY5dYMqB1cujLjozRfNbKHWdzgyInQmpcq4g6riE0erul7SCLanzrqkQPXIkS CYFYBuH4PoB16QsU8khdW0hx1FZ+mkO/USlVDEH84Fp/3Xi7vo7CCwCDpjnUvLcDBP19 /HqA== X-Gm-Message-State: AOJu0YyDKrrLrzYKy+J/waBqVlzTRFYUsJMFSs2mL5yvG9fKyxBosdL7 MOrchbG4UTZPFTX6jSyrNzQJRS+GjZrbIUDA3EXVPkOCgGofDkT70rBIh28cLemswISHh3xpJ13 ExF6gjRhonRuVTTm7lxyUADW9g6pcrSldbeXqmhwvjTJlxUMW3CrZGU6+/twI X-Gm-Gg: ASbGncsz/chOaLvlMZHT94/J6Jbpy2ApOEMOZlOO+mnX2On3HNSiE3C4RCp+7BxV88P uo37dgoJmUtfT/XwtCChn0jBnj0BYFaA9MJj4kpKipee2xDTA5I6TIFSU5oDTX/wTX5TPCAMVDO pIgg8yQcYD3cSRABKMQFK/xLmGePWxVPFq2CXp6NHGOONE2qbdJXAoU3jhldm3r7I2B3GpX0hTi JP9O6uQIpEtzIDr3G0Eq6NciUtNgnA2CMD3TEDSqIJeokgN50hvlHCAhB/qDiNs95ryQsp0/CSD ENu1AfJF9gns8rBI/RtcKLJiXGxKmq3TJRnMXLSG6vya/QvOCmxh8+xqXww8ug8QWdUfgUdQP26 9xwCPzpAe X-Google-Smtp-Source: AGHT+IEMxaRoEPVTQc2ACysulBbqUaxF+TM3PpQdvqL4dEtrGu/0MBhVDRto2Usk3TzPDqgW5cbBWAkFpxJ+ X-Received: by 2002:a05:6830:2aac:b0:7c5:3aa3:4927 with SMTP id 46e09a7af769-7c678192dedmr1636255a34.25.1761661504002; Tue, 28 Oct 2025 07:25:04 -0700 (PDT) Received: from postal.iol.unh.edu (postal.iol.unh.edu. [2606:4100:3880:1234::84]) by smtp-relay.gmail.com with ESMTPS id 46e09a7af769-7c680c1dc66sm31701a34.7.2025.10.28.07.25.03 (version=TLS1_2 cipher=ECDHE-ECDSA-AES128-GCM-SHA256 bits=128/128); Tue, 28 Oct 2025 07:25:03 -0700 (PDT) X-Relaying-Domain: iol.unh.edu Date: Tue, 28 Oct 2025 07:25:03 -0700 (PDT) Message-ID: <6900d23f.050a0220.396f5c.1b5eSMTPIN_ADDED_MISSING@mx.google.com> Received: from [172.21.0.2] (unknown [172.18.0.240]) by postal.iol.unh.edu (Postfix) with ESMTP id 89ABE604D420; Tue, 28 Oct 2025 10:25:03 -0400 (EDT) Subject: |SUCCESS| pw158178 [PATCH] [v1] net/mlx5: remove counter alignment From: dpdklab@iol.unh.edu To: Test Report Cc: dpdk-test-reports@iol.unh.edu In-Reply-To: <20251028092611.1755141-1-rongweil@nvidia.com> References: <20251028092611.1755141-1-rongweil@nvidia.com> Content-Type: text/plain X-BeenThere: test-report@dpdk.org X-Mailman-Version: 2.1.29 Precedence: list List-Id: automatic DPDK test reports List-Unsubscribe: , List-Archive: List-Post: List-Help: List-Subscribe: , Errors-To: test-report-bounces@dpdk.org Test-Label: iol-compile-arm64-testing Test-Status: SUCCESS http://dpdk.org/patch/158178 _Testing PASS_ Submitter: Rongwei Liu Date: Tuesday, October 28 2025 09:26:11 DPDK git baseline: Repo:dpdk-next-net-mlx Branch: master CommitID:39b54f2dcf44ad1f91eabc7080cd5dea763607fd 158178 --> testing pass Upstream job id: Generic-DPDK-Compile-Meson#438402 Test environment and result as below: +------------------------------+--------------------+ | Environment | dpdk_meson_compile | +==============================+====================+ | Ubuntu 20.04 | PASS | +------------------------------+--------------------+ | Red Hat Enterprise Linux 9.5 | PASS | +------------------------------+--------------------+ | Debian GNU/Linux 12 | PASS | +------------------------------+--------------------+ | Fedora Linux 42 | PASS | +------------------------------+--------------------+ | Ubuntu 22.04 | PASS | +------------------------------+--------------------+ | Ubuntu 24.04 | PASS | +------------------------------+--------------------+ | CentOS Stream 9 | PASS | +------------------------------+--------------------+ | CentOS Stream 10 | PASS | +------------------------------+--------------------+ Ubuntu 20.04 Kernel: 5.15 Compiler: aarch64-linux-gnu-gcc gcc (Ubuntu 9.4.0-1ubuntu1~20.04.2) 9.4.0 Red Hat Enterprise Linux 9.5 Kernel: 5.4 Compiler: gcc gcc (GCC) 11.5.0 20240719 (Red Hat 11.5.0-2) Debian GNU/Linux 12 Kernel: 5.4 Compiler: gcc gcc (Debian 12.2.0-14+deb12u1) 12.2.0 Fedora Linux 42 Kernel: 5.4 Compiler: gcc gcc (GCC) 15.2.1 20250808 (Red Hat 15.2.1-1) Ubuntu 22.04 Kernel: 5.4 Compiler: gcc gcc (Ubuntu 11.4.0-1ubuntu1~22.04) 11.4.0 Ubuntu 24.04 Kernel: 5.4 Compiler: gcc gcc (Ubuntu 13.3.0-6ubuntu2~24.04) 13.3.0 CentOS Stream 9 Kernel: 5.4 Compiler: gcc gcc (GCC) 11.5.0 20240719 (Red Hat 11.5.0-11) CentOS Stream 10 Kernel: 5.4 Compiler: gcc gcc (GCC) 14.2.1 20250110 (Red Hat 14.2.1-8) To view detailed results, visit: https://lab.dpdk.org/results/dashboard/patchsets/34395/ UNH-IOL DPDK Community Lab To manage your email subscriptions, visit: https://lab.dpdk.org/results/dashboard/preferences/subscriptions/