From mboxrd@z Thu Jan 1 00:00:00 1970 Return-Path: Received: from mails.dpdk.org (mails.dpdk.org [217.70.189.124]) by inbox.dpdk.org (Postfix) with ESMTP id 3693E489F8 for ; Tue, 28 Oct 2025 15:28:03 +0100 (CET) Received: from mails.dpdk.org (localhost [127.0.0.1]) by mails.dpdk.org (Postfix) with ESMTP id 17F7A4028D; Tue, 28 Oct 2025 15:28:03 +0100 (CET) Received: from mail-pl1-f225.google.com (mail-pl1-f225.google.com [209.85.214.225]) by mails.dpdk.org (Postfix) with ESMTP id 5FD3F4028D for ; Tue, 28 Oct 2025 15:28:01 +0100 (CET) Received: by mail-pl1-f225.google.com with SMTP id d9443c01a7336-29490944023so42506485ad.3 for ; Tue, 28 Oct 2025 07:28:01 -0700 (PDT) DKIM-Signature: v=1; a=rsa-sha256; c=relaxed/relaxed; d=iol.unh.edu; s=unh-iol; t=1761661680; x=1762266480; darn=dpdk.org; h=references:in-reply-to:cc:to:from:subject:message-id:date:from:to :cc:subject:date:message-id:reply-to; bh=KNenGbFwL0lUrSKAqcqM+NTaPNsGunlSiDEDniTgKf8=; b=fMZEpT+I+vdFwtIgyE1IA2QTKX3yCe70JqO65mFMBkNObZ4JtCfVUi6/5dhA6l3CZL n11+u4GKfttKoZjPIu7FR64c5unmziozTh33rgL0+vkivYM0HAsco4n/vtgydWbisX5o D/VD3OPiFnsWHK3JvH5SvxuPrdOzGVYGrpAzQ= X-Google-DKIM-Signature: v=1; a=rsa-sha256; c=relaxed/relaxed; d=1e100.net; s=20230601; t=1761661680; x=1762266480; h=references:in-reply-to:cc:to:from:subject:message-id:date :x-gm-message-state:from:to:cc:subject:date:message-id:reply-to; bh=KNenGbFwL0lUrSKAqcqM+NTaPNsGunlSiDEDniTgKf8=; b=Rp0rurvAdoTvz8Gexm7QSEKCL1zwYtjLlKXTHNpGzmEIe3SnK+bD2Ak7Kt25OokcrJ edMoOdKLhQgu5PcatvH/YLb1ZsKTLRqRD+rfQOxR6Dwxmu3PXExGdltWOox8n+CGhcUJ Phn7miw3Uw59zmDoVX8jsk3K/S2cxhd7YPWfqOxv/SbVmxXWZnomBkKrtQh0sfaSkJvh 8BLjJiDA5BwBqiQT3P8x/sb6zRcaNnN1L6MjnooGOnO2J5809IfmzyTksGl3cEebtILu FZLptgcSGykq21yPI1LALVKGodNH5SaXoAI3QPGp60n+9CAUtyYS6GjXJ5P1Ou4FM+4q o8Bg== X-Gm-Message-State: AOJu0YwxuPwojx4mHRKKwlJqblsztSaMEL4sTpLThB0qTky+/fM7uPd7 GKVZ80OYeOXIw65VbiGnsFsZWaxGdcsKy286qQa3sSjLa0775uHmOqlSZg/3SMN/ta/8U/gXxHr r+GPGSJQ5W4Ik6AE3GUtNOBdlWj1mbm5o0OoaZIY3guVz X-Gm-Gg: ASbGncvg3W/6pRFFQdgNYOpO5d/iMQxLbWsBQMVo1VwtXGXdNsQDCa5d4cW335/OOVX OwC8ef3y9tf+O/O4zOrwdhs/APct/b+A0AKCKzncV+jIAlHfFdaCFUS2uys6yfonY1EtjuzqJh6 FvdzZFmb/gznrO1xuf2JSqcqAs/VZCNdTBbHQNpdPQ0vIRO0b+slxTl8iADUkQOiyDZ9MGYl77D saIDOlEp8ktB3J8CvJGinUp+qKTJf0QTF9flml4ebpOzAt5ZcBswoVQi3kjjwB9Z3VjVfmIdg6D ZBalTyoRdYSpwZAzfGxm5LSvnJ8L4LnaZg/7Ubw4Lhe0guVdZpzWsKNBMqzdv1FjS2eXs1sgiT5 w62gu5ZqFcbWKvFq8VdcOOOEL0cTfDQM= X-Google-Smtp-Source: AGHT+IFqMZk6KXC5IcLXKDDA0KPEkmfKoZJEpbTCR1dxXgZaonpe+gp04n2pC411j6HSPS830LQaYauCwkRk X-Received: by 2002:a17:902:d2d1:b0:235:ed02:288b with SMTP id d9443c01a7336-294cb52dbffmr52750165ad.30.1761661680347; Tue, 28 Oct 2025 07:28:00 -0700 (PDT) Received: from postal.iol.unh.edu (postal.iol.unh.edu. [132.177.123.84]) by smtp-relay.gmail.com with ESMTPS id d9443c01a7336-29498cf306asm11045725ad.6.2025.10.28.07.28.00 (version=TLS1_2 cipher=ECDHE-ECDSA-AES128-GCM-SHA256 bits=128/128); Tue, 28 Oct 2025 07:28:00 -0700 (PDT) X-Relaying-Domain: iol.unh.edu Date: Tue, 28 Oct 2025 07:28:00 -0700 (PDT) Message-ID: <6900d2f0.170a0220.2a2fd.356dSMTPIN_ADDED_MISSING@mx.google.com> Received: from [172.21.0.3] (unknown [172.18.0.240]) by postal.iol.unh.edu (Postfix) with ESMTP id 99B5F604D420; Tue, 28 Oct 2025 10:27:59 -0400 (EDT) Subject: |SUCCESS| pw158179 [PATCH] net/mlx5: store rxq MTU at allocation tim From: dpdklab@iol.unh.edu To: Test Report Cc: dpdk-test-reports@iol.unh.edu In-Reply-To: <20251028095240.35281-1-a.schollmeyer@syseleven.de> References: <20251028095240.35281-1-a.schollmeyer@syseleven.de> Content-Type: text/plain X-BeenThere: test-report@dpdk.org X-Mailman-Version: 2.1.29 Precedence: list List-Id: automatic DPDK test reports List-Unsubscribe: , List-Archive: List-Post: List-Help: List-Subscribe: , Errors-To: test-report-bounces@dpdk.org Test-Label: iol-unit-amd64-testing Test-Status: SUCCESS http://dpdk.org/patch/158179 _Testing PASS_ Submitter: Adrian Schollmeyer Date: Tuesday, October 28 2025 09:52:40 DPDK git baseline: Repo:dpdk-next-net-mlx Branch: master CommitID:39b54f2dcf44ad1f91eabc7080cd5dea763607fd 158179 --> testing pass Upstream job id: Generic-VM-Unit-Test-DPDK#32114 Test environment and result as below: +-------------------------------+----------------+ | Environment | dpdk_unit_test | +===============================+================+ | Fedora Linux 40 | PASS | +-------------------------------+----------------+ | Fedora Linux 41 | PASS | +-------------------------------+----------------+ | Debian GNU/Linux 12 | PASS | +-------------------------------+----------------+ | CentOS Stream 10 | PASS | +-------------------------------+----------------+ | Fedora Linux 42 | PASS | +-------------------------------+----------------+ | CentOS Stream 9 | PASS | +-------------------------------+----------------+ | Red Hat Enterprise Linux 8.10 | PASS | +-------------------------------+----------------+ | Ubuntu 20.04 | PASS | +-------------------------------+----------------+ | Ubuntu 24.04 | PASS | +-------------------------------+----------------+ | Ubuntu 22.04 | PASS | +-------------------------------+----------------+ | Red Hat Enterprise Linux 9.5 | PASS | +-------------------------------+----------------+ | Windows Server 2022 | PASS | +-------------------------------+----------------+ Fedora Linux 40 Kernel: 5.15 Compiler: clang gcc (GCC) 14.2.1 20240912 (Red Hat 14.2.1-3) Fedora Linux 41 Kernel: 5.15 Compiler: gcc gcc (GCC) 14.3.1 20250523 (Red Hat 14.3.1-1) Debian GNU/Linux 12 Kernel: 5.15 Compiler: gcc gcc (Debian 12.2.0-14+deb12u1) 12.2.0 CentOS Stream 10 Kernel: 5.15 Compiler: gcc gcc (GCC) 14.2.1 20250110 (Red Hat 14.2.1-8) Fedora Linux 42 Kernel: 5.15 Compiler: gcc gcc (GCC) 15.2.1 20250808 (Red Hat 15.2.1-1) CentOS Stream 9 Kernel: 5.15 Compiler: gcc gcc (GCC) 11.5.0 20240719 (Red Hat 11.5.0-11) Red Hat Enterprise Linux 8.10 Kernel: 5.15 Compiler: gcc gcc (GCC) 8.5.0 20210514 (Red Hat 8.5.0-22) Ubuntu 20.04 Kernel: 5.15 Compiler: gcc gcc (Ubuntu 9.4.0-1ubuntu1~20.04.2) 9.4.0 Ubuntu 24.04 Kernel: 5.15 Compiler: gcc gcc (Ubuntu 13.3.0-6ubuntu2~24.04) 13.3.0 Ubuntu 22.04 Kernel: 5.15 Compiler: gcc gcc (Ubuntu 11.4.0-1ubuntu1~22.04) 11.4.0 Red Hat Enterprise Linux 9.5 Kernel: 5.15 Compiler: gcc gcc (GCC) 11.5.0 20240719 (Red Hat 11.5.0-2) Windows Server 2022 Kernel: 10.0.20348.2031 Compiler: clang 15.0.7, gcc 14.1.0 (MinGW), and MSVC VS 19.39.33521 To view detailed results, visit: https://lab.dpdk.org/results/dashboard/patchsets/34396/ UNH-IOL DPDK Community Lab To manage your email subscriptions, visit: https://lab.dpdk.org/results/dashboard/preferences/subscriptions/