From mboxrd@z Thu Jan 1 00:00:00 1970 Return-Path: Received: from mails.dpdk.org (mails.dpdk.org [217.70.189.124]) by inbox.dpdk.org (Postfix) with ESMTP id 1C233489F8 for ; Tue, 28 Oct 2025 15:43:06 +0100 (CET) Received: from mails.dpdk.org (localhost [127.0.0.1]) by mails.dpdk.org (Postfix) with ESMTP id 15DDE4028D; Tue, 28 Oct 2025 15:43:06 +0100 (CET) Received: from mail-il1-f227.google.com (mail-il1-f227.google.com [209.85.166.227]) by mails.dpdk.org (Postfix) with ESMTP id A0FE84028D for ; Tue, 28 Oct 2025 15:43:04 +0100 (CET) Received: by mail-il1-f227.google.com with SMTP id e9e14a558f8ab-430ab5ee3e7so27070325ab.2 for ; Tue, 28 Oct 2025 07:43:04 -0700 (PDT) DKIM-Signature: v=1; a=rsa-sha256; c=relaxed/relaxed; d=iol.unh.edu; s=unh-iol; t=1761662584; x=1762267384; darn=dpdk.org; h=references:in-reply-to:cc:to:from:subject:message-id:date:from:to :cc:subject:date:message-id:reply-to; bh=kWfvZLZalQUOBtoCIgOlZAV4mwgu5gYzeLil2BGj6oc=; b=ifTeMio97UblCIclExGOYh9477SZfNUa6y2x8e/Y/N58pK+0tXkMduF8GMFv/uJpkP KXZwKShF3S0UMPCudQIBi8UxgrzPuSHOzxH5BJmkW1AGe+sJCNFsTNolSYm0j7s71gsX DVGDmsqABo5YoowGHrsnxUAFzMQs97TAkJO7w= X-Google-DKIM-Signature: v=1; a=rsa-sha256; c=relaxed/relaxed; d=1e100.net; s=20230601; t=1761662584; x=1762267384; h=references:in-reply-to:cc:to:from:subject:message-id:date :x-gm-message-state:from:to:cc:subject:date:message-id:reply-to; bh=kWfvZLZalQUOBtoCIgOlZAV4mwgu5gYzeLil2BGj6oc=; b=pb0pMMQn8YvL5OicDli132RJlloT7G/3qbIWbmGBr01WnZnklsu1hwMyWksDZ6IZd+ SnA7vsroOUgtoh/qIrKBlIUWk125rZDe6fJCICfKR8b3lJ7twSoeatEUT3EClNvymI7w 9EA9E0J+BeehcS6ogO+jZiTqUknEvGpPv0RqYsgyE9maI5Ix1Q6w0N3kB4rvSG9vZH+I g82tnbF9uq/PvpJy891tFNedNlpb/kPbJe4Ly1s1Ge9MBLmGt2+DH297Oz5+5w0CdREw /ja9fbfPiyzirrdM3O+Bo482dOgeICxM7aR5K0G5+cI7jzlnxBIIR0oQXOCpKLDxFI8+ 0Ltw== X-Gm-Message-State: AOJu0YxQTjdVkjVrLD0SgvRbxBb9QARRBPwFdCLKuPzKaLN0b9X3II49 mTSNtehY+ZfQVD5FaONwLHH0BkURsHJn7E24vI516tbyn5/f4MzMwGH78kVgoMLjKOiK4ms36Js SYhyRg5f1AZDcfkOnCDQG8EEyK8acVod39VQTRfKYlWrIqsRaf4g9eaUQBqW7 X-Gm-Gg: ASbGnct5ycECdodx1LLxukzF2bvoXtyuly2Patb4j1coN6NPt8qwjMFXSzUI58x6Cbu Bbj+YX9KtHV4InBf7HttJTwHNpCLDIA1gUiuxMue2ubbkdnkNcccXnQQZocPkLWFRS4GP70NEe0 LNmahknULJ52uvYkhUVHTi/orj+bPJ6KE1MOb72oqMDtiyC4EK0ajKWRjCGKSXoRWbKBXmypksu F0QfAPexjNKuskbIMHKGQQbZzKUJVaqV14a79eG/wea8jQPfwpq+Xc00wvnpqIptgr88+Fqgjdw TrazHsDvTMbFSMyHATCE600cARBlhCwNbD7Zmr8Ap3acQjzdbg1Wu6+5dRzTJDjGo7QZQe1lyx5 EurCPxGwC X-Google-Smtp-Source: AGHT+IHUQK07eRa8Cxv88NP9PY7Om8RBZwh9jXLO9XwGyRmC/sLdTnBtsc/6kzvOJUVliZf8crgnC5ds6Mof X-Received: by 2002:a05:6e02:3f05:b0:430:b178:428a with SMTP id e9e14a558f8ab-4320f79b23bmr54503025ab.22.1761662583904; Tue, 28 Oct 2025 07:43:03 -0700 (PDT) Received: from postal.iol.unh.edu (postal.iol.unh.edu. [2606:4100:3880:1234::84]) by smtp-relay.gmail.com with ESMTPS id e9e14a558f8ab-431f67f8eb8sm10451795ab.13.2025.10.28.07.43.03 (version=TLS1_2 cipher=ECDHE-ECDSA-AES128-GCM-SHA256 bits=128/128); Tue, 28 Oct 2025 07:43:03 -0700 (PDT) X-Relaying-Domain: iol.unh.edu Date: Tue, 28 Oct 2025 07:43:03 -0700 (PDT) Message-ID: <6900d677.050a0220.233a14.fd73SMTPIN_ADDED_MISSING@mx.google.com> Received: from [172.21.0.2] (unknown [172.18.0.240]) by postal.iol.unh.edu (Postfix) with ESMTP id 9388A604D420; Tue, 28 Oct 2025 10:43:03 -0400 (EDT) Subject: |SUCCESS| pw158182 [PATCH] net/mlx5: store rxq MTU at allocation tim From: dpdklab@iol.unh.edu To: Test Report Cc: dpdk-test-reports@iol.unh.edu In-Reply-To: <20251028100144.36284-1-a.schollmeyer@syseleven.de> References: <20251028100144.36284-1-a.schollmeyer@syseleven.de> Content-Type: text/plain X-BeenThere: test-report@dpdk.org X-Mailman-Version: 2.1.29 Precedence: list List-Id: automatic DPDK test reports List-Unsubscribe: , List-Archive: List-Post: List-Help: List-Subscribe: , Errors-To: test-report-bounces@dpdk.org Test-Label: iol-unit-amd64-testing Test-Status: SUCCESS http://dpdk.org/patch/158182 _Testing PASS_ Submitter: Adrian Schollmeyer Date: Tuesday, October 28 2025 10:01:44 DPDK git baseline: Repo:dpdk-next-net-mlx Branch: master CommitID:39b54f2dcf44ad1f91eabc7080cd5dea763607fd 158182 --> testing pass Upstream job id: Generic-Unit-Test-DPDK#386068 Test environment and result as below: +-------------------------------+----------------+ | Environment | dpdk_unit_test | +===============================+================+ | Debian GNU/Linux 12 | PASS | +-------------------------------+----------------+ | CentOS Stream 10 | PASS | +-------------------------------+----------------+ | CentOS Stream 9 | PASS | +-------------------------------+----------------+ | Fedora Linux 41 | PASS | +-------------------------------+----------------+ | Fedora Linux 40 | PASS | +-------------------------------+----------------+ | Red Hat Enterprise Linux 8.10 | PASS | +-------------------------------+----------------+ | Fedora Linux 42 | PASS | +-------------------------------+----------------+ | Red Hat Enterprise Linux 9.5 | PASS | +-------------------------------+----------------+ | Ubuntu 24.04 | PASS | +-------------------------------+----------------+ | Ubuntu 22.04 | PASS | +-------------------------------+----------------+ | Ubuntu 20.04 | PASS | +-------------------------------+----------------+ Debian GNU/Linux 12 Kernel: 5.15 Compiler: gcc gcc (Debian 12.2.0-14+deb12u1) 12.2.0 CentOS Stream 10 Kernel: 5.15 Compiler: gcc gcc (GCC) 14.2.1 20250110 (Red Hat 14.2.1-8) CentOS Stream 9 Kernel: 5.15 Compiler: gcc gcc (GCC) 11.5.0 20240719 (Red Hat 11.5.0-11) Fedora Linux 41 Kernel: 5.15 Compiler: gcc gcc (GCC) 14.3.1 20250523 (Red Hat 14.3.1-1) Fedora Linux 40 Kernel: 5.15 Compiler: gcc gcc (GCC) 14.2.1 20240912 (Red Hat 14.2.1-3) Red Hat Enterprise Linux 8.10 Kernel: 5.15 Compiler: gcc gcc (GCC) 8.5.0 20210514 (Red Hat 8.5.0-22) Fedora Linux 42 Kernel: 5.15 Compiler: gcc gcc (GCC) 15.2.1 20250808 (Red Hat 15.2.1-1) Red Hat Enterprise Linux 9.5 Kernel: 5.15 Compiler: gcc gcc (GCC) 11.5.0 20240719 (Red Hat 11.5.0-2) Ubuntu 24.04 Kernel: 5.15 Compiler: gcc gcc (Ubuntu 13.3.0-6ubuntu2~24.04) 13.3.0 Ubuntu 22.04 Kernel: 5.15 Compiler: gcc gcc (Ubuntu 11.4.0-1ubuntu1~22.04) 11.4.0 Ubuntu 20.04 Kernel: 5.15 Compiler: gcc gcc (Ubuntu 9.4.0-1ubuntu1~20.04.2) 9.4.0 To view detailed results, visit: https://lab.dpdk.org/results/dashboard/patchsets/34398/ UNH-IOL DPDK Community Lab To manage your email subscriptions, visit: https://lab.dpdk.org/results/dashboard/preferences/subscriptions/