From mboxrd@z Thu Jan 1 00:00:00 1970 Return-Path: Received: from mails.dpdk.org (mails.dpdk.org [217.70.189.124]) by inbox.dpdk.org (Postfix) with ESMTP id 7F2FA489F8 for ; Tue, 28 Oct 2025 15:55:57 +0100 (CET) Received: from mails.dpdk.org (localhost [127.0.0.1]) by mails.dpdk.org (Postfix) with ESMTP id 52E52402F0; Tue, 28 Oct 2025 15:55:57 +0100 (CET) Received: from mail-pl1-f225.google.com (mail-pl1-f225.google.com [209.85.214.225]) by mails.dpdk.org (Postfix) with ESMTP id 67930402F0 for ; Tue, 28 Oct 2025 15:55:56 +0100 (CET) Received: by mail-pl1-f225.google.com with SMTP id d9443c01a7336-28e7cd6dbc0so75232395ad.0 for ; Tue, 28 Oct 2025 07:55:56 -0700 (PDT) DKIM-Signature: v=1; a=rsa-sha256; c=relaxed/relaxed; d=iol.unh.edu; s=unh-iol; t=1761663355; x=1762268155; darn=dpdk.org; h=references:in-reply-to:cc:to:from:subject:message-id:date:from:to :cc:subject:date:message-id:reply-to; bh=JbX/wL6OQvdSsJndfRtIyIwtySRA0WxaXAOCiHS/Ob0=; b=gRmw4/Ddbb/vIUj4IB9c4N06Fpkmqdcj6j+Qfh0EVkaKbh16IZyNdLAv7w1Gn8oYJ+ 8nyJw500jl1058hVH0xqWET3TO8H+TfQSSgTNkcjl7W6m3Cv6+hgOpeQDq5H+wGwzTHs VtePvxv5OCCO5ARfLpMxZeRuFDZBHYQuFfnyk= X-Google-DKIM-Signature: v=1; a=rsa-sha256; c=relaxed/relaxed; d=1e100.net; s=20230601; t=1761663355; x=1762268155; h=references:in-reply-to:cc:to:from:subject:message-id:date :x-gm-message-state:from:to:cc:subject:date:message-id:reply-to; bh=JbX/wL6OQvdSsJndfRtIyIwtySRA0WxaXAOCiHS/Ob0=; b=TT27bTuziM8mTnJViMC5oF48vzAvBXPiX7MmHvfMqJXD4i5JFcCeWpAyB/MDQXgHLk NzsBp6TMDZGQAvIDK0cplHV91XghnndCCy2poHw37NpuoInLhBlR1Y5uWf/UWKKdTOfl DLA3jKqJemu7PRu6+60BT0GJEWK1knA6DZK8RlmpAQYmxtN25EKyGsbjvvGhJGLES7Bw f4tJYT14jhCNDyuxgeuqnGRe/LSBJX1vYHm3u0R0i3sIRNs59OqiFVSwScjsAZEFXtBF M3SJTqgACzpZgmU9q5yk7ehKXxYhI9i0MG/zB1t63Tc1ct3V691/rU2hFiIRafCTrgkx 15YA== X-Gm-Message-State: AOJu0YwsovWFvXtdLX7B2tfFY0etX29bD5TgDpOZDGZdMLzAS9TWUPuC a2TuHlFfepk5nByKeycbjkmiwITN0HRH57y3hf9SMCsMzuIOU73WaBTkGm+WjzExQBJIhdF7sJI XS5SbLWIbrQgqmmnBlam/74Rp7NeUaMvbtLq9Rg8+uXaw X-Gm-Gg: ASbGncsC2SHMT2JABzVDuBg5SkiUVZcO0bbIn9VR0ZwIZeJjf+fJXgHz8U37QsTfkem A29CwsGHcsEJV/FBXhkjhYonW3OWh6WKxPsCQb+q5EA1BOAWGL/ml4BDT7ILo9YHKpPyScqfgpC XdprLSmNo0eQLdN33xBQnN3PQihXx+LzS9MDDG3xyCPSARMmEVZyojnuNFpw2cqpHxG9V3fuX4A CRg5RrrCdKedxCJYJdDKfBDYqXEikKrVab5+P20/9B8acdBlF/1Q5FqyR3dhRnJp0RtzQgH9Tp/ d469SUxO90A09+9McQsyk2EicQXK92/O83TcV2hdyTQkFksiBXrGNHYaWjYvZ+7TRX8nlNBwQiK FR2WNFePYgpasP16cYTBELHIJCECb/gk= X-Google-Smtp-Source: AGHT+IHd8BFMo2EVTPYTTq6mFmLOwxSnNr8Pre9KZ7ptKHLrzGiKyCc9w6TLsJW4wX6MgY1cvADzt10M7SGB X-Received: by 2002:a17:902:e892:b0:274:777b:ca6d with SMTP id d9443c01a7336-294cb66cd60mr49364735ad.43.1761663355527; Tue, 28 Oct 2025 07:55:55 -0700 (PDT) Received: from postal.iol.unh.edu (postal.iol.unh.edu. [132.177.123.84]) by smtp-relay.gmail.com with ESMTPS id d9443c01a7336-29498d26a27sm10867515ad.32.2025.10.28.07.55.55 (version=TLS1_2 cipher=ECDHE-ECDSA-AES128-GCM-SHA256 bits=128/128); Tue, 28 Oct 2025 07:55:55 -0700 (PDT) X-Relaying-Domain: iol.unh.edu Date: Tue, 28 Oct 2025 07:55:55 -0700 (PDT) Message-ID: <6900d97b.170a0220.2c6c41.2e0fSMTPIN_ADDED_MISSING@mx.google.com> Received: from [172.21.0.2] (unknown [172.18.0.240]) by postal.iol.unh.edu (Postfix) with ESMTP id A8C30604D420; Tue, 28 Oct 2025 10:55:54 -0400 (EDT) Subject: |SUCCESS| pw158179 [PATCH] net/mlx5: store rxq MTU at allocation tim From: dpdklab@iol.unh.edu To: Test Report Cc: dpdk-test-reports@iol.unh.edu In-Reply-To: <20251028095240.35281-1-a.schollmeyer@syseleven.de> References: <20251028095240.35281-1-a.schollmeyer@syseleven.de> Content-Type: text/plain X-BeenThere: test-report@dpdk.org X-Mailman-Version: 2.1.29 Precedence: list List-Id: automatic DPDK test reports List-Unsubscribe: , List-Archive: List-Post: List-Help: List-Subscribe: , Errors-To: test-report-bounces@dpdk.org Test-Label: iol-compile-arm64-testing Test-Status: SUCCESS http://dpdk.org/patch/158179 _Testing PASS_ Submitter: Adrian Schollmeyer Date: Tuesday, October 28 2025 09:52:40 DPDK git baseline: Repo:dpdk-next-net-mlx Branch: master CommitID:39b54f2dcf44ad1f91eabc7080cd5dea763607fd 158179 --> testing pass Upstream job id: Generic-DPDK-Compile-Meson#438416 Test environment and result as below: +------------------------------+--------------------+ | Environment | dpdk_meson_compile | +==============================+====================+ | Red Hat Enterprise Linux 9.5 | PASS | +------------------------------+--------------------+ | Ubuntu 20.04 | PASS | +------------------------------+--------------------+ | Debian GNU/Linux 12 | PASS | +------------------------------+--------------------+ | Fedora Linux 42 | PASS | +------------------------------+--------------------+ | Ubuntu 24.04 | PASS | +------------------------------+--------------------+ | CentOS Stream 9 | PASS | +------------------------------+--------------------+ | Ubuntu 22.04 | PASS | +------------------------------+--------------------+ | CentOS Stream 10 | PASS | +------------------------------+--------------------+ Red Hat Enterprise Linux 9.5 Kernel: 5.4 Compiler: gcc gcc (GCC) 11.5.0 20240719 (Red Hat 11.5.0-2) Ubuntu 20.04 Kernel: 5.15 Compiler: aarch64-linux-gnu-gcc gcc (Ubuntu 9.4.0-1ubuntu1~20.04.2) 9.4.0 Debian GNU/Linux 12 Kernel: 5.4 Compiler: gcc gcc (Debian 12.2.0-14+deb12u1) 12.2.0 Fedora Linux 42 Kernel: 5.4 Compiler: clang gcc (GCC) 15.2.1 20250808 (Red Hat 15.2.1-1) Ubuntu 24.04 Kernel: 5.4 Compiler: gcc gcc (Ubuntu 13.3.0-6ubuntu2~24.04) 13.3.0 CentOS Stream 9 Kernel: 5.4 Compiler: gcc gcc (GCC) 11.5.0 20240719 (Red Hat 11.5.0-11) Ubuntu 22.04 Kernel: 5.4 Compiler: gcc gcc (Ubuntu 11.4.0-1ubuntu1~22.04) 11.4.0 CentOS Stream 10 Kernel: 5.4 Compiler: gcc gcc (GCC) 14.2.1 20250110 (Red Hat 14.2.1-8) To view detailed results, visit: https://lab.dpdk.org/results/dashboard/patchsets/34396/ UNH-IOL DPDK Community Lab To manage your email subscriptions, visit: https://lab.dpdk.org/results/dashboard/preferences/subscriptions/