From mboxrd@z Thu Jan 1 00:00:00 1970 Return-Path: Received: from mails.dpdk.org (mails.dpdk.org [217.70.189.124]) by inbox.dpdk.org (Postfix) with ESMTP id 87488489F9 for ; Tue, 28 Oct 2025 16:13:02 +0100 (CET) Received: from mails.dpdk.org (localhost [127.0.0.1]) by mails.dpdk.org (Postfix) with ESMTP id 8247F4021E; Tue, 28 Oct 2025 16:13:02 +0100 (CET) Received: from mail-il1-f227.google.com (mail-il1-f227.google.com [209.85.166.227]) by mails.dpdk.org (Postfix) with ESMTP id A39924021E for ; Tue, 28 Oct 2025 16:13:01 +0100 (CET) Received: by mail-il1-f227.google.com with SMTP id e9e14a558f8ab-430cd27de3eso26758145ab.1 for ; Tue, 28 Oct 2025 08:13:01 -0700 (PDT) DKIM-Signature: v=1; a=rsa-sha256; c=relaxed/relaxed; d=iol.unh.edu; s=unh-iol; t=1761664381; x=1762269181; darn=dpdk.org; h=references:in-reply-to:cc:to:from:subject:message-id:date:from:to :cc:subject:date:message-id:reply-to; bh=r/grgkZAulexZ32RbV8RdasfG3kyrfY1rBaJKr5W5Tk=; b=KOSto5bS+HuUlFOF3aS/ahbOlYQ8vKyxBOk4UcriJ5T9NNeGtyLVGXQVGr8SDlbKlL TrBK17tbrqiKsylHccYLl3iFLo0RzwAggeT1ydKFfC3DZ2QLDtnipuA3Xuxake92KMd9 fCGocNDct7FhFpns34UBHCUkhZvVF88nZ9YDo= X-Google-DKIM-Signature: v=1; a=rsa-sha256; c=relaxed/relaxed; d=1e100.net; s=20230601; t=1761664381; x=1762269181; h=references:in-reply-to:cc:to:from:subject:message-id:date :x-gm-message-state:from:to:cc:subject:date:message-id:reply-to; bh=r/grgkZAulexZ32RbV8RdasfG3kyrfY1rBaJKr5W5Tk=; b=g2ArOk15iBEzIe5ikfhFgtw1MauvkOTRppPX3HFxqcU6hquw1YjfgBPobvCO5X/lkB Uim3IJu2LscDxUsCQy9xprUiedcJJwG4KIZHvbPB4H6oEh3GGPzGWy90/w1qZyaqT0TB GY1u3Z1MQns2ArxwyYYr3sEOVvNdsffpNHAxkgAitEb2VC+0kO2BA65nBp+nhRCQEYiq 6Yn6mvq/7xOlPJA8Svqzytm2uJJPf0ciWSv/QNNW7linmq91fLVKBdr93rbNpx3Lxdxi J1QCh1ecY0E8Ak4j+g/4OsWcicp0eSdImtKAgV+XUKEBEZUxUp4KcfT1VmZ4gy5DUFcw COMA== X-Gm-Message-State: AOJu0YzZ5kjeE5kqp9CNpPMrfxQG8Dq/Ft7YPxLk1KledGiXxGnvQxNz DjhbrztKQU32JaIJVxN3qM8jiSMK5TViBten6AAe5/ChSEfqNeWkcd5A6EXPL3CFvwzVG7suhP1 iEZ+LAE4aMWcODPyHXrwwM+1sn/66a+pSRkWB5K/YxGLf X-Gm-Gg: ASbGncsPXT6Si3k/nIWCEm895n2lLRyClKEPBFoA6POPKtuH1XkLVv7CLVk3SSDkEwk Ek3TmDOkQOnevSqPFyZVXQtDc6KYR0vNxq08LNENIHhp1BisA6b92d8thYNMZc6/oqCnAGWAMij ZFIJLIhR3i0Yw24cNRn6rlgV5mQGM91wkJZWknceN/zeh6uqKjcqI6av+sz0cP0KJdFLuNJwi+W 9RUvqa/dIIJ2qk+/jfHc4rnyMeCY2LAeF2uwhpGWeJyfJ3Iycb5EIMSh8Rbst9AXFv5jlitYCXI 7TsI8qZvOQCvJ74DfphSu4Tkvi1iBKDSFNyi6Rb0R0QJl7jJEtkxyRBvua0Jl4CSm8R57Q2rz9d ps3JsEHRb7655HHIJZXPF7v9Od9QYfqA= X-Google-Smtp-Source: AGHT+IETbwgUDFF/sJxZP1O04Q2mMGgG98E8D3WykWol8EX985/QG/GLkyx9iC8BXxYVFZgGbJCXXi2lfmOV X-Received: by 2002:a92:cdab:0:b0:426:c373:25f5 with SMTP id e9e14a558f8ab-4320f833d18mr50452885ab.17.1761664380743; Tue, 28 Oct 2025 08:13:00 -0700 (PDT) Received: from postal.iol.unh.edu (postal.iol.unh.edu. [132.177.123.84]) by smtp-relay.gmail.com with ESMTPS id e9e14a558f8ab-431f808642asm9660395ab.21.2025.10.28.08.13.00 (version=TLS1_2 cipher=ECDHE-ECDSA-AES128-GCM-SHA256 bits=128/128); Tue, 28 Oct 2025 08:13:00 -0700 (PDT) X-Relaying-Domain: iol.unh.edu Date: Tue, 28 Oct 2025 08:13:00 -0700 (PDT) Message-ID: <6900dd7c.920a0220.201bb6.c0c8SMTPIN_ADDED_MISSING@mx.google.com> Received: from [172.21.0.2] (unknown [172.18.0.240]) by postal.iol.unh.edu (Postfix) with ESMTP id 3D63F6051830; Tue, 28 Oct 2025 11:13:00 -0400 (EDT) Subject: |WARNING| pw158174 [PATCH] config/arm: add HiSilicon HIP12 From: dpdklab@iol.unh.edu To: Test Report Cc: dpdk-test-reports@iol.unh.edu In-Reply-To: <20251028084259.4925-1-fengchengwen@huawei.com> References: <20251028084259.4925-1-fengchengwen@huawei.com> Content-Type: text/plain X-BeenThere: test-report@dpdk.org X-Mailman-Version: 2.1.29 Precedence: list List-Id: automatic DPDK test reports List-Unsubscribe: , List-Archive: List-Post: List-Help: List-Subscribe: , Errors-To: test-report-bounces@dpdk.org Test-Label: iol-compile-amd64-testing Test-Status: WARNING http://dpdk.org/patch/158174 _Testing issues_ Submitter: Chengwen Feng Date: Tuesday, October 28 2025 08:42:59 DPDK git baseline: Repo:dpdk Branch: master CommitID:39b54f2dcf44ad1f91eabc7080cd5dea763607fd 158174 --> testing issues Upstream job id: Windows-Compile-DPDK-Native#31936 Test environment and result as below: +-------------------------------+--------------------+-------------------+------------------+-------------------+-------------------------+----------------------+ | Environment | dpdk_meson_compile | dpdk_compile_spdk | dpdk_compile_ovs | dpdk_msvc_compile | dpdk_llvm_clang_compile | dpdk_mingw64_compile | +===============================+====================+===================+==================+===================+=========================+======================+ | FreeBSD 14.2 | PASS | SKIPPED | SKIPPED | SKIPPED | SKIPPED | SKIPPED | +-------------------------------+--------------------+-------------------+------------------+-------------------+-------------------------+----------------------+ | Ubuntu 20.04 | PASS | SKIPPED | SKIPPED | SKIPPED | SKIPPED | SKIPPED | +-------------------------------+--------------------+-------------------+------------------+-------------------+-------------------------+----------------------+ | CentOS Stream 9 | PASS | WARN | SKIPPED | SKIPPED | SKIPPED | SKIPPED | +-------------------------------+--------------------+-------------------+------------------+-------------------+-------------------------+----------------------+ | CentOS Stream 10 | PASS | SKIPPED | SKIPPED | SKIPPED | SKIPPED | SKIPPED | +-------------------------------+--------------------+-------------------+------------------+-------------------+-------------------------+----------------------+ | Debian GNU/Linux 12 | PASS | WARN | SKIPPED | SKIPPED | SKIPPED | SKIPPED | +-------------------------------+--------------------+-------------------+------------------+-------------------+-------------------------+----------------------+ | Fedora Linux 42 | PASS | WARN | PASS | SKIPPED | SKIPPED | SKIPPED | +-------------------------------+--------------------+-------------------+------------------+-------------------+-------------------------+----------------------+ | openSUSE Leap 15.6 | PASS | SKIPPED | SKIPPED | SKIPPED | SKIPPED | SKIPPED | +-------------------------------+--------------------+-------------------+------------------+-------------------+-------------------------+----------------------+ | Red Hat Enterprise Linux 8.10 | PASS | SKIPPED | SKIPPED | SKIPPED | SKIPPED | SKIPPED | +-------------------------------+--------------------+-------------------+------------------+-------------------+-------------------------+----------------------+ | Red Hat Enterprise Linux 9.5 | PASS | SKIPPED | SKIPPED | SKIPPED | SKIPPED | SKIPPED | +-------------------------------+--------------------+-------------------+------------------+-------------------+-------------------------+----------------------+ | Ubuntu 22.04 | PASS | WARN | SKIPPED | SKIPPED | SKIPPED | SKIPPED | +-------------------------------+--------------------+-------------------+------------------+-------------------+-------------------------+----------------------+ | Ubuntu 24.04 | PASS | WARN | PASS | SKIPPED | SKIPPED | SKIPPED | +-------------------------------+--------------------+-------------------+------------------+-------------------+-------------------------+----------------------+ | Alpine Linux 3.22.0 | PASS | SKIPPED | SKIPPED | SKIPPED | SKIPPED | SKIPPED | +-------------------------------+--------------------+-------------------+------------------+-------------------+-------------------------+----------------------+ | Windows Server 2022 | SKIPPED | SKIPPED | SKIPPED | PASS | PASS | PASS | +-------------------------------+--------------------+-------------------+------------------+-------------------+-------------------------+----------------------+ ==== 20 line log output for Ubuntu 24.04 (dpdk_compile_spdk): ==== --- Failed to get log output --- ==== End log output ==== FreeBSD 14.2 Kernel: 14.2-RELEASE Compiler: clang 18.1.6 Ubuntu 20.04 Kernel: 4.19 Compiler: gcc gcc (Ubuntu 9.4.0-1ubuntu1~20.04.2) 9.4.0 CentOS Stream 9 Kernel: 5.15 Compiler: gcc gcc (GCC) 11.5.0 20240719 (Red Hat 11.5.0-11) CentOS Stream 10 Kernel: 5.15 Compiler: gcc gcc (GCC) 14.2.1 20250110 (Red Hat 14.2.1-8) Debian GNU/Linux 12 Kernel: 5.15 Compiler: gcc gcc (Debian 12.2.0-14+deb12u1) 12.2.0 Fedora Linux 42 Kernel: 5.15 Compiler: clang gcc (GCC) 15.2.1 20250808 (Red Hat 15.2.1-1) openSUSE Leap 15.6 Kernel: 5.15 Compiler: gcc gcc (SUSE Linux) 7.5.0 Red Hat Enterprise Linux 8.10 Kernel: 5.15 Compiler: gcc gcc (GCC) 8.5.0 20210514 (Red Hat 8.5.0-22) Red Hat Enterprise Linux 9.5 Kernel: 5.15 Compiler: gcc gcc (GCC) 11.5.0 20240719 (Red Hat 11.5.0-2) Ubuntu 22.04 Kernel: 5.15 Compiler: gcc gcc (Ubuntu 11.4.0-1ubuntu1~22.04) 11.4.0 Ubuntu 24.04 Kernel: 5.15 Compiler: gcc gcc (Ubuntu 13.3.0-6ubuntu2~24.04) 13.3.0 Alpine Linux 3.22.0 Kernel: 5.15 Compiler: gcc gcc (Alpine 14.2.0) 14.2.0 Windows Server 2022 Kernel: 10.0.20348.2031 Compiler: clang 15.0.7, gcc 14.1.0 (MinGW), and MSVC VS 19.39.33521 To view detailed results, visit: https://lab.dpdk.org/results/dashboard/patchsets/34394/ UNH-IOL DPDK Community Lab To manage your email subscriptions, visit: https://lab.dpdk.org/results/dashboard/preferences/subscriptions/