From mboxrd@z Thu Jan 1 00:00:00 1970 Return-Path: Received: from mails.dpdk.org (mails.dpdk.org [217.70.189.124]) by inbox.dpdk.org (Postfix) with ESMTP id 7A1F6489F9 for ; Tue, 28 Oct 2025 16:21:41 +0100 (CET) Received: from mails.dpdk.org (localhost [127.0.0.1]) by mails.dpdk.org (Postfix) with ESMTP id 753024021E; Tue, 28 Oct 2025 16:21:41 +0100 (CET) Received: from mail-il1-f226.google.com (mail-il1-f226.google.com [209.85.166.226]) by mails.dpdk.org (Postfix) with ESMTP id 4E8DD4021E for ; Tue, 28 Oct 2025 16:21:40 +0100 (CET) Received: by mail-il1-f226.google.com with SMTP id e9e14a558f8ab-431da4fa224so57290665ab.2 for ; Tue, 28 Oct 2025 08:21:40 -0700 (PDT) DKIM-Signature: v=1; a=rsa-sha256; c=relaxed/relaxed; d=iol.unh.edu; s=unh-iol; t=1761664899; x=1762269699; darn=dpdk.org; h=references:in-reply-to:cc:to:from:subject:message-id:date:from:to :cc:subject:date:message-id:reply-to; bh=rpq+Db72Vjlqa8b8z4Qb42zCoEKWDRjOLivSVPIPj9E=; b=Vm7sOaQoSZYU2+jlGB7xYbDQ84WabX/ML2Gt6meec7PE6V8fYa8a2AJDuwFz9dUxk6 xMw6JKqjAOTNYEDJCImRE4LW8C9L8twqhNNpBXKW6FB1PgEHTglisTlRij+9jbw3bACU KHiIs2/MUWvNf8vOyeAVZD9gjzbo81/zufF1k= X-Google-DKIM-Signature: v=1; a=rsa-sha256; c=relaxed/relaxed; d=1e100.net; s=20230601; t=1761664899; x=1762269699; h=references:in-reply-to:cc:to:from:subject:message-id:date :x-gm-message-state:from:to:cc:subject:date:message-id:reply-to; bh=rpq+Db72Vjlqa8b8z4Qb42zCoEKWDRjOLivSVPIPj9E=; b=P7GS7cCXF7J1KUidxTo3K7IYsPGP60ObFw4f5wq6/naflo7BVVawqseYQuo2CiPH1Z guFm3Yi7Si/G0YOOmNsYnbLRZjw0m1PEnB2FbhJVpkpFLE5jrPGz/NfYW4WbkUNhTEZz fY5DImUbBta6cXVg7uVNT5xpsBibCooAxYgjbWvhmQ4cwM39NjpZ/uxsOLw0wDVgiZ7F UmMOPlyfmuNVtjObla7DpXZVKgdVzdgokn7/Q1bCCwjE/NgIXV9cnei0yuldJIh01xjs ujX2HeIkWz0vpw60iIJrUwIyiTotp7PkmdBKu9pdYrWTF6O4O6mMubr3WQQhTGIIrBQM F8Xw== X-Gm-Message-State: AOJu0YxM0BehhrvRlVUMYKc31IaYPZ9gyTBiyOSBrdjNQSvkKXKi6nD4 gKctbSo/HxVhQdLNuzLGVrq2rGBEuvo7sZ/+iplfX2qN5sz6yo1uWHk2WD57kWCGK3Os5E6dC4w zaA6CeqP0c3bsdH0sI8FEP9HlbjGhmpSiFKXy6yTKsZKm X-Gm-Gg: ASbGncv25nWuTdqzSPgCFTWKqrMkHRGfwf7npB12Lmfu5BOoBs80fS7Gz4dsnD7ik3j +SkEkMMYyihWGu5Gmv7ma2xEtVE9duM5g2+1Zw/g8u9SmMGJA5asVtfctPut1k26CETjClGrRkQ 107v8FTDmbNlltWgAZlYDdkmnOJUPoRRwXnmgMQKyo2CblAhupIr0NrjanhyrBYhQR4DYe0qPQq D/lMb2TrJTIzOGIFdCGiCg8Gjc5PR0dw7tQwjdPa5vjwsXCLNht/VnIc7ezmyDu0TKRw8FVBAjc 1zkgodVjz8bF4BwaE359+8OptT9XVLsOJDKCePIEAimdcN+fBbIJNA4KuHlT+rPbJqTiB2rlC1D A2W0PGC+SLmQTDiW4jS893Zk2RvY872E= X-Google-Smtp-Source: AGHT+IF9mbX3Svy/L11pbc/Bji1dzyldwp5/otgGOhz/IqKxerqMjoOQ8WsZ6GDZQAycpVXgxkofYBgFg0VE X-Received: by 2002:a05:6e02:240f:b0:430:a530:ede2 with SMTP id e9e14a558f8ab-432f831c46fmr1071475ab.24.1761664899426; Tue, 28 Oct 2025 08:21:39 -0700 (PDT) Received: from postal.iol.unh.edu (postal.iol.unh.edu. [132.177.123.84]) by smtp-relay.gmail.com with ESMTPS id 8926c6da1cb9f-5aea9e331ddsm839068173.30.2025.10.28.08.21.39 (version=TLS1_2 cipher=ECDHE-ECDSA-AES128-GCM-SHA256 bits=128/128); Tue, 28 Oct 2025 08:21:39 -0700 (PDT) X-Relaying-Domain: iol.unh.edu Date: Tue, 28 Oct 2025 08:21:39 -0700 (PDT) Message-ID: <6900df83.050a0220.106549.6645SMTPIN_ADDED_MISSING@mx.google.com> Received: from [172.21.0.2] (unknown [172.18.0.240]) by postal.iol.unh.edu (Postfix) with ESMTP id DDADF604D420; Tue, 28 Oct 2025 11:21:38 -0400 (EDT) Subject: |SUCCESS| pw158183 [PATCH] graph: fix xstats description allocation From: dpdklab@iol.unh.edu To: Test Report Cc: dpdk-test-reports@iol.unh.edu In-Reply-To: <20251028101333.14776-1-cfontain@redhat.com> References: <20251028101333.14776-1-cfontain@redhat.com> Content-Type: text/plain X-BeenThere: test-report@dpdk.org X-Mailman-Version: 2.1.29 Precedence: list List-Id: automatic DPDK test reports List-Unsubscribe: , List-Archive: List-Post: List-Help: List-Subscribe: , Errors-To: test-report-bounces@dpdk.org Test-Label: iol-unit-amd64-testing Test-Status: SUCCESS http://dpdk.org/patch/158183 _Testing PASS_ Submitter: Christophe Fontaine Date: Tuesday, October 28 2025 10:13:33 DPDK git baseline: Repo:dpdk Branch: master CommitID:39b54f2dcf44ad1f91eabc7080cd5dea763607fd 158183 --> testing pass Upstream job id: Generic-VM-Unit-Test-DPDK#32115 Test environment and result as below: +-------------------------------+----------------+ | Environment | dpdk_unit_test | +===============================+================+ | CentOS Stream 9 | PASS | +-------------------------------+----------------+ | Fedora Linux 40 | PASS | +-------------------------------+----------------+ | Debian GNU/Linux 12 | PASS | +-------------------------------+----------------+ | Red Hat Enterprise Linux 8.10 | PASS | +-------------------------------+----------------+ | CentOS Stream 10 | PASS | +-------------------------------+----------------+ | Fedora Linux 41 | PASS | +-------------------------------+----------------+ | Ubuntu 22.04 | PASS | +-------------------------------+----------------+ | Ubuntu 20.04 | PASS | +-------------------------------+----------------+ | Fedora Linux 42 | PASS | +-------------------------------+----------------+ | Ubuntu 24.04 | PASS | +-------------------------------+----------------+ | Red Hat Enterprise Linux 9.5 | PASS | +-------------------------------+----------------+ | Windows Server 2022 | PASS | +-------------------------------+----------------+ CentOS Stream 9 Kernel: 5.15 Compiler: gcc gcc (GCC) 11.5.0 20240719 (Red Hat 11.5.0-11) Fedora Linux 40 Kernel: 5.15 Compiler: gcc gcc (GCC) 14.2.1 20240912 (Red Hat 14.2.1-3) Debian GNU/Linux 12 Kernel: 5.15 Compiler: gcc gcc (Debian 12.2.0-14+deb12u1) 12.2.0 Red Hat Enterprise Linux 8.10 Kernel: 5.15 Compiler: gcc gcc (GCC) 8.5.0 20210514 (Red Hat 8.5.0-22) CentOS Stream 10 Kernel: 5.15 Compiler: gcc gcc (GCC) 14.2.1 20250110 (Red Hat 14.2.1-8) Fedora Linux 41 Kernel: 5.15 Compiler: gcc gcc (GCC) 14.3.1 20250523 (Red Hat 14.3.1-1) Ubuntu 22.04 Kernel: 5.15 Compiler: gcc gcc (Ubuntu 11.4.0-1ubuntu1~22.04) 11.4.0 Ubuntu 20.04 Kernel: 5.15 Compiler: gcc gcc (Ubuntu 9.4.0-1ubuntu1~20.04.2) 9.4.0 Fedora Linux 42 Kernel: 5.15 Compiler: clang gcc (GCC) 15.2.1 20250808 (Red Hat 15.2.1-1) Ubuntu 24.04 Kernel: 5.15 Compiler: gcc gcc (Ubuntu 13.3.0-6ubuntu2~24.04) 13.3.0 Red Hat Enterprise Linux 9.5 Kernel: 5.15 Compiler: gcc gcc (GCC) 11.5.0 20240719 (Red Hat 11.5.0-2) Windows Server 2022 Kernel: 10.0.20348.2031 Compiler: clang 15.0.7, gcc 14.1.0 (MinGW), and MSVC VS 19.39.33521 To view detailed results, visit: https://lab.dpdk.org/results/dashboard/patchsets/34397/ UNH-IOL DPDK Community Lab To manage your email subscriptions, visit: https://lab.dpdk.org/results/dashboard/preferences/subscriptions/