From mboxrd@z Thu Jan 1 00:00:00 1970 Return-Path: Received: from mails.dpdk.org (mails.dpdk.org [217.70.189.124]) by inbox.dpdk.org (Postfix) with ESMTP id DAB6C489F9 for ; Tue, 28 Oct 2025 16:25:18 +0100 (CET) Received: from mails.dpdk.org (localhost [127.0.0.1]) by mails.dpdk.org (Postfix) with ESMTP id C60644021E; Tue, 28 Oct 2025 16:25:18 +0100 (CET) Received: from mail-pg1-f225.google.com (mail-pg1-f225.google.com [209.85.215.225]) by mails.dpdk.org (Postfix) with ESMTP id 058D04021E for ; Tue, 28 Oct 2025 16:25:17 +0100 (CET) Received: by mail-pg1-f225.google.com with SMTP id 41be03b00d2f7-b608df6d2a0so5587565a12.1 for ; Tue, 28 Oct 2025 08:25:17 -0700 (PDT) DKIM-Signature: v=1; a=rsa-sha256; c=relaxed/relaxed; d=iol.unh.edu; s=unh-iol; t=1761665117; x=1762269917; darn=dpdk.org; h=references:in-reply-to:cc:to:from:subject:message-id:date:from:to :cc:subject:date:message-id:reply-to; bh=InYSWDQrt91lrbrdllevsL+xXVSSpPBEK0pLijk/n9A=; b=iEhG444aSlj/AsbZRDdFn4RAWqAqsWa5a6LsuTW2ZLgN+t2SZOAa4CGF3oPjvr0p2U CBYCEhUhjYuw8yR7hdpG35M2uDTgt3M7JDpBx1nNej8xjb40EXqnmzYOe0ciojUIZ9tO L3llUgYCN8HjIIJewDNhhAGOmWqF7WT3DUZDk= X-Google-DKIM-Signature: v=1; a=rsa-sha256; c=relaxed/relaxed; d=1e100.net; s=20230601; t=1761665117; x=1762269917; h=references:in-reply-to:cc:to:from:subject:message-id:date :x-gm-message-state:from:to:cc:subject:date:message-id:reply-to; bh=InYSWDQrt91lrbrdllevsL+xXVSSpPBEK0pLijk/n9A=; b=HZN8N4uLeOWSQQtzelqw6gh3uvCxu15kX4mlWBWjuNsQcOclxzIYk1ssvew6xWrXJ5 hQpbK6xQzhK0SyAb3vbUyWhiIOlWngblJKD/JTumz1YOiR4QNLJDAYjro0JfzaoYzu2J HCVto7I4+a0GlHM/UOt4gW4NGpsGEcYEjRWUyb2vmxhIub4fl72mA1EnjrOTWKRdBuTj veUTLVeS4xapnbqfBXkRsCPFSwQNqouISuq20/Ss13q8beCbVycV2i5LHLhjN+H+n2Vy veuF0511QOqeQJ8hnMvJLFYJgR5S7sRWtCUAwDpmjCk5F2rUXPeOPSFog8bGdL+B+iqw 2BuA== X-Gm-Message-State: AOJu0YyBOVJ6J8loVgkbi84ZmzKWkLq1znkRa7tdDcQu9MUEKggR/sry lO2DM6gw/Un+CNR3iIsyr8qxGBB46bZFluicwh3Zh/i8KA7gYW+uUEdMMHl4kO4adY9sEQFmz5z qQGnPqzudxKEjwsE9ZClS1CXRiWqZz+X5HqXvddtxOYRd X-Gm-Gg: ASbGnctQaNDU0E7VpwCMVtYPaBnwEnFt94TjBahQ5WMgJM1Bup5rsh7TdDpFftqjCeV U9a1ttW7AgrGJ/EQKYyTkMu7T6mizvVVeky312uMRlW7RjcWnFtNjNIscpSD6Eo1Ubot0cSET8A ghZ8MGUlPvALApbyjRJfULDlevxrEV27OutbUcwFtg9ZKYVSHdEsAe4TEiDmS/ls6ZKm+/ZTJgs bnvFHOWDLkKw+T2OSff1LuDVVPZw1GODOpTEbiDIiL50IWBFcrS263ReSc6xw18h1zUg8QaXqXN tMn7kpc7Z1BLSg/yWf6T55eW7SrC8XJWd2Li6jV6BhLly5264rgMGuUCGyY/e+OzKCFYK2HY2n9 Q0WZ8WN4dfXUuociiy9PanUoIBTGOm0w= X-Google-Smtp-Source: AGHT+IEOI29hoWd+8z48Xl9vcRuWc81VWo+op9IuK4xFahYVM4DhRN/7fQccEXUIENsJE2nLkqe1mZLwWDtv X-Received: by 2002:a17:902:dad2:b0:290:c5c8:941c with SMTP id d9443c01a7336-294cb524ea3mr50567995ad.29.1761665117127; Tue, 28 Oct 2025 08:25:17 -0700 (PDT) Received: from postal.iol.unh.edu (postal.iol.unh.edu. [132.177.123.84]) by smtp-relay.gmail.com with ESMTPS id d9443c01a7336-29498e4118bsm10128065ad.53.2025.10.28.08.25.16 (version=TLS1_2 cipher=ECDHE-ECDSA-AES128-GCM-SHA256 bits=128/128); Tue, 28 Oct 2025 08:25:17 -0700 (PDT) X-Relaying-Domain: iol.unh.edu Date: Tue, 28 Oct 2025 08:25:17 -0700 (PDT) Message-ID: <6900e05d.170a0220.1fd4ab.f0bfSMTPIN_ADDED_MISSING@mx.google.com> Received: from [172.21.0.2] (unknown [172.18.0.240]) by postal.iol.unh.edu (Postfix) with ESMTP id 82E8F604D420; Tue, 28 Oct 2025 11:25:16 -0400 (EDT) Subject: |SUCCESS| pw158178 [PATCH] [v1] net/mlx5: remove counter alignment From: dpdklab@iol.unh.edu To: Test Report Cc: dpdk-test-reports@iol.unh.edu In-Reply-To: <20251028092611.1755141-1-rongweil@nvidia.com> References: <20251028092611.1755141-1-rongweil@nvidia.com> Content-Type: text/plain X-BeenThere: test-report@dpdk.org X-Mailman-Version: 2.1.29 Precedence: list List-Id: automatic DPDK test reports List-Unsubscribe: , List-Archive: List-Post: List-Help: List-Subscribe: , Errors-To: test-report-bounces@dpdk.org Test-Label: iol-unit-arm64-testing Test-Status: SUCCESS http://dpdk.org/patch/158178 _Testing PASS_ Submitter: Rongwei Liu Date: Tuesday, October 28 2025 09:26:11 DPDK git baseline: Repo:dpdk-next-net-mlx Branch: master CommitID:39b54f2dcf44ad1f91eabc7080cd5dea763607fd 158178 --> testing pass Upstream job id: Generic-Unit-Test-DPDK#385978 Test environment and result as below: +------------------------------+------------------------------+--------------+---------------------------+----------------+ | Environment | cryptodev_sw_snow3g_autotest | lpm_autotest | cryptodev_sw_zuc_autotest | dpdk_unit_test | +==============================+==============================+==============+===========================+================+ | Debian 12 (arm) | PASS | SKIPPED | PASS | SKIPPED | +------------------------------+------------------------------+--------------+---------------------------+----------------+ | Ubuntu 20.04 | SKIPPED | PASS | SKIPPED | PASS | +------------------------------+------------------------------+--------------+---------------------------+----------------+ | Ubuntu 22.04 | SKIPPED | SKIPPED | SKIPPED | PASS | +------------------------------+------------------------------+--------------+---------------------------+----------------+ | CentOS Stream 9 | SKIPPED | SKIPPED | SKIPPED | PASS | +------------------------------+------------------------------+--------------+---------------------------+----------------+ | CentOS Stream 10 | SKIPPED | SKIPPED | SKIPPED | PASS | +------------------------------+------------------------------+--------------+---------------------------+----------------+ | Red Hat Enterprise Linux 9.5 | SKIPPED | SKIPPED | SKIPPED | PASS | +------------------------------+------------------------------+--------------+---------------------------+----------------+ | Fedora Linux 41 | SKIPPED | SKIPPED | SKIPPED | PASS | +------------------------------+------------------------------+--------------+---------------------------+----------------+ | Fedora Linux 42 | SKIPPED | SKIPPED | SKIPPED | PASS | +------------------------------+------------------------------+--------------+---------------------------+----------------+ | Ubuntu 24.04 | SKIPPED | SKIPPED | SKIPPED | PASS | +------------------------------+------------------------------+--------------+---------------------------+----------------+ | Debian GNU/Linux 12 | SKIPPED | SKIPPED | SKIPPED | PASS | +------------------------------+------------------------------+--------------+---------------------------+----------------+ | Fedora Linux 40 | SKIPPED | SKIPPED | SKIPPED | PASS | +------------------------------+------------------------------+--------------+---------------------------+----------------+ Debian 12 (arm) Kernel: Depends on container host Compiler: gcc (Debian 12.2.0-14) 12.2.0 Ubuntu 20.04 Kernel: 5.4 Compiler: gcc gcc (Ubuntu 9.4.0-1ubuntu1~20.04.2) 9.4.0 Ubuntu 22.04 Kernel: 5.4 Compiler: gcc gcc (Ubuntu 11.4.0-1ubuntu1~22.04) 11.4.0 CentOS Stream 9 Kernel: 5.4 Compiler: gcc gcc (GCC) 11.5.0 20240719 (Red Hat 11.5.0-11) CentOS Stream 10 Kernel: 5.4 Compiler: gcc gcc (GCC) 14.2.1 20250110 (Red Hat 14.2.1-8) Red Hat Enterprise Linux 9.5 Kernel: 5.4 Compiler: gcc gcc (GCC) 11.5.0 20240719 (Red Hat 11.5.0-2) Fedora Linux 41 Kernel: 5.4 Compiler: clang gcc (GCC) 14.3.1 20250523 (Red Hat 14.3.1-1) Fedora Linux 42 Kernel: 5.4 Compiler: gcc gcc (GCC) 15.2.1 20250808 (Red Hat 15.2.1-1) Ubuntu 24.04 Kernel: 5.4 Compiler: gcc gcc (Ubuntu 13.3.0-6ubuntu2~24.04) 13.3.0 Debian GNU/Linux 12 Kernel: 5.4 Compiler: gcc gcc (Debian 12.2.0-14+deb12u1) 12.2.0 Fedora Linux 40 Kernel: 5.4 Compiler: clang gcc (GCC) 14.2.1 20240912 (Red Hat 14.2.1-3) To view detailed results, visit: https://lab.dpdk.org/results/dashboard/patchsets/34395/ UNH-IOL DPDK Community Lab To manage your email subscriptions, visit: https://lab.dpdk.org/results/dashboard/preferences/subscriptions/