From mboxrd@z Thu Jan 1 00:00:00 1970 Return-Path: Received: from mails.dpdk.org (mails.dpdk.org [217.70.189.124]) by inbox.dpdk.org (Postfix) with ESMTP id 6D04F489F9 for ; Tue, 28 Oct 2025 16:30:35 +0100 (CET) Received: from mails.dpdk.org (localhost [127.0.0.1]) by mails.dpdk.org (Postfix) with ESMTP id 678EF4021E; Tue, 28 Oct 2025 16:30:35 +0100 (CET) Received: from mail-pg1-f226.google.com (mail-pg1-f226.google.com [209.85.215.226]) by mails.dpdk.org (Postfix) with ESMTP id E5A5C4021E for ; Tue, 28 Oct 2025 16:30:34 +0100 (CET) Received: by mail-pg1-f226.google.com with SMTP id 41be03b00d2f7-b6cf1a95273so4471365a12.1 for ; Tue, 28 Oct 2025 08:30:34 -0700 (PDT) DKIM-Signature: v=1; a=rsa-sha256; c=relaxed/relaxed; d=iol.unh.edu; s=unh-iol; t=1761665434; x=1762270234; darn=dpdk.org; h=references:in-reply-to:cc:to:from:subject:message-id:date:from:to :cc:subject:date:message-id:reply-to; bh=49MbUVQMTx0Wbc5FK/Q/N8QzoEtmLdR5ppV1hpJUTB4=; b=Y6IZbk5K19KwKUdXWrXCQiK744YcY8qlokf3CKYzNNeZa9cqB310J2wOryUkre0KA9 yyqN2QOr6PEt/olK9AJdX+4gqwF/fCp5TRcwtn8ELR07Vlg4d8Q+9xXCHH7Aba4gI97L xordyAMtghvSxj2Y96u9lpRJ+6+iV/1TCvFds= X-Google-DKIM-Signature: v=1; a=rsa-sha256; c=relaxed/relaxed; d=1e100.net; s=20230601; t=1761665434; x=1762270234; h=references:in-reply-to:cc:to:from:subject:message-id:date :x-gm-message-state:from:to:cc:subject:date:message-id:reply-to; bh=49MbUVQMTx0Wbc5FK/Q/N8QzoEtmLdR5ppV1hpJUTB4=; b=KOM9whes7ngDmXZ8BKUrLeT1xfNP2h/gLs6jghFQk1VNY7oFFncok4MduJXbC9W+EF 2YVXooxxf1RNiicCMst4KB1Oclgap94qazLPpGd0Cj9BKi/2sFv7nDYHcPQQ0JNUJ2zu Y7RfGA93UwD9hjWYpQTiGzbmY1g4aji1bwDfzoj+3CawEiM9TRTiHKPe90lS77vQ1BLX YMKwzOSztXH9Woq0DdEFpx5dSPxkHGHC5LFk/vZAUDbNeimQ+OrzqD4+v31G90PlqtkH il3uXckJDWwmNCmVoQlWaw/nFbooYgIrTGCebGKWY0ic+iU9Issfn2UmFx/n8pnwBx/v XpMw== X-Gm-Message-State: AOJu0Yyoi6W+38YmZ8FuBHNfToUMeokfSWXevOOKLrzEu1g6g2Noy2Hv EVPTwsXOLPLlXlwoBCNMjC8ky2weCdCcPlkG0yHFkkNv22VHTSzeojBQ+173TNCIXn/XKIHbwq9 L6NgFciG4Tm/o/j0Pjt9AmXvLzvvBLSLYi1KNNnecCXR9 X-Gm-Gg: ASbGncsR+OG0GZz14YI7LSNXZLGxWbZ67UkwqPA+/TPctZtF1/CD6k8S1tJfjcJXG+p Ayl8QEhIm4Tk/2pcWmnkHrFFHGKutcsMUiXxAyYu0JojJE8NvOVCKbLV06/ev+mLUUtPLqqecTa IWsvfihDMWBwGch17d9bGe+9mKXdzXGSLjIB7ywfqNTcJSSevQMHYNs7GUmwPzEV2XeiwxjG2ws FM/NZvNQuQWvOioWZAJPNfF/ZA+Xe9KnIAKdJ0/05lsOwlnRWkJ1iwm/fOo7TKaaxNYjo5ntJXA 5DHwcL+Kfrc27QVK/CNsEDBDfqKjlpwS34EO+kONDqXaGE54p/oJbpwFlbX0tpE+qrduSNdxeuo kkWwj/MMt2Rd2lY7nx0JnstM9cCUJGX8= X-Google-Smtp-Source: AGHT+IETzlxcOYLTGaJO8IzNl5ROUFjV8hiCpJEDs02n/8WqGJTlrEqvVT6Am88SQD+GrNqUCEtiJzLArqZd X-Received: by 2002:a17:902:f68c:b0:26a:ac66:ef3f with SMTP id d9443c01a7336-294cb368b4amr33338855ad.8.1761665433209; Tue, 28 Oct 2025 08:30:33 -0700 (PDT) Received: from postal.iol.unh.edu (postal.iol.unh.edu. [132.177.123.84]) by smtp-relay.gmail.com with ESMTPS id d9443c01a7336-29498d099c1sm10740715ad.16.2025.10.28.08.30.33 (version=TLS1_2 cipher=ECDHE-ECDSA-AES128-GCM-SHA256 bits=128/128); Tue, 28 Oct 2025 08:30:33 -0700 (PDT) X-Relaying-Domain: iol.unh.edu Date: Tue, 28 Oct 2025 08:30:33 -0700 (PDT) Message-ID: <6900e199.170a0220.263c80.17d8SMTPIN_ADDED_MISSING@mx.google.com> Received: from [172.21.0.2] (unknown [172.18.0.240]) by postal.iol.unh.edu (Postfix) with ESMTP id 9EA2A604D420; Tue, 28 Oct 2025 11:30:32 -0400 (EDT) Subject: |SUCCESS| pw158183 [PATCH] graph: fix xstats description allocation From: dpdklab@iol.unh.edu To: Test Report Cc: dpdk-test-reports@iol.unh.edu In-Reply-To: <20251028101333.14776-1-cfontain@redhat.com> References: <20251028101333.14776-1-cfontain@redhat.com> Content-Type: text/plain X-BeenThere: test-report@dpdk.org X-Mailman-Version: 2.1.29 Precedence: list List-Id: automatic DPDK test reports List-Unsubscribe: , List-Archive: List-Post: List-Help: List-Subscribe: , Errors-To: test-report-bounces@dpdk.org Test-Label: iol-compile-arm64-testing Test-Status: SUCCESS http://dpdk.org/patch/158183 _Testing PASS_ Submitter: Christophe Fontaine Date: Tuesday, October 28 2025 10:13:33 DPDK git baseline: Repo:dpdk Branch: master CommitID:39b54f2dcf44ad1f91eabc7080cd5dea763607fd 158183 --> testing pass Upstream job id: Generic-DPDK-Compile-Meson#438443 Test environment and result as below: +------------------------------+--------------------+ | Environment | dpdk_meson_compile | +==============================+====================+ | Red Hat Enterprise Linux 9.5 | PASS | +------------------------------+--------------------+ | Ubuntu 20.04 | PASS | +------------------------------+--------------------+ | Debian GNU/Linux 12 | PASS | +------------------------------+--------------------+ | Fedora Linux 42 | PASS | +------------------------------+--------------------+ | Ubuntu 22.04 | PASS | +------------------------------+--------------------+ | Ubuntu 24.04 | PASS | +------------------------------+--------------------+ | CentOS Stream 9 | PASS | +------------------------------+--------------------+ | CentOS Stream 10 | PASS | +------------------------------+--------------------+ Red Hat Enterprise Linux 9.5 Kernel: 5.4 Compiler: gcc gcc (GCC) 11.5.0 20240719 (Red Hat 11.5.0-2) Ubuntu 20.04 Kernel: 5.15 Compiler: aarch64-linux-gnu-gcc gcc (Ubuntu 9.4.0-1ubuntu1~20.04.2) 9.4.0 Debian GNU/Linux 12 Kernel: 5.4 Compiler: gcc gcc (Debian 12.2.0-14+deb12u1) 12.2.0 Fedora Linux 42 Kernel: 5.4 Compiler: gcc gcc (GCC) 15.2.1 20250808 (Red Hat 15.2.1-1) Ubuntu 22.04 Kernel: 5.4 Compiler: gcc gcc (Ubuntu 11.4.0-1ubuntu1~22.04) 11.4.0 Ubuntu 24.04 Kernel: 5.4 Compiler: gcc gcc (Ubuntu 13.3.0-6ubuntu2~24.04) 13.3.0 CentOS Stream 9 Kernel: 5.4 Compiler: gcc gcc (GCC) 11.5.0 20240719 (Red Hat 11.5.0-11) CentOS Stream 10 Kernel: 5.4 Compiler: gcc gcc (GCC) 14.2.1 20250110 (Red Hat 14.2.1-8) To view detailed results, visit: https://lab.dpdk.org/results/dashboard/patchsets/34397/ UNH-IOL DPDK Community Lab To manage your email subscriptions, visit: https://lab.dpdk.org/results/dashboard/preferences/subscriptions/