From mboxrd@z Thu Jan 1 00:00:00 1970 Return-Path: Received: from mails.dpdk.org (mails.dpdk.org [217.70.189.124]) by inbox.dpdk.org (Postfix) with ESMTP id 8F011489F9 for ; Tue, 28 Oct 2025 16:51:36 +0100 (CET) Received: from mails.dpdk.org (localhost [127.0.0.1]) by mails.dpdk.org (Postfix) with ESMTP id 8AA7E4021E; Tue, 28 Oct 2025 16:51:36 +0100 (CET) Received: from mail-io1-f99.google.com (mail-io1-f99.google.com [209.85.166.99]) by mails.dpdk.org (Postfix) with ESMTP id 2F2924021E for ; Tue, 28 Oct 2025 16:51:36 +0100 (CET) Received: by mail-io1-f99.google.com with SMTP id ca18e2360f4ac-93e7ece3025so690139f.1 for ; Tue, 28 Oct 2025 08:51:36 -0700 (PDT) DKIM-Signature: v=1; a=rsa-sha256; c=relaxed/relaxed; d=iol.unh.edu; s=unh-iol; t=1761666695; x=1762271495; darn=dpdk.org; h=references:in-reply-to:cc:to:from:subject:message-id:date:from:to :cc:subject:date:message-id:reply-to; bh=q/zGsMjV5MfS64oxcu1e2OD3dnynIfzv6qNq+Dl6mfA=; b=K/nGtDUjbScq8jg/Rb1HsJJ9aUJ13UDhcGBLCZ4vSyTEXA9DpJDS8tci5wnRCBsR5m gR5H8TcpruivhNHGeSnhrVBd1OWBEUz75rsheOBPS+nAwTOLrBqGn6Vo80UbU4NI7oBA AWUmNbsrdE681vQXgjP1FpmoICMWDhGePVLlo= X-Google-DKIM-Signature: v=1; a=rsa-sha256; c=relaxed/relaxed; d=1e100.net; s=20230601; t=1761666695; x=1762271495; h=references:in-reply-to:cc:to:from:subject:message-id:date :x-gm-message-state:from:to:cc:subject:date:message-id:reply-to; bh=q/zGsMjV5MfS64oxcu1e2OD3dnynIfzv6qNq+Dl6mfA=; b=mkVl+6tIjctwmtnfIUplLF/zRN7Q07ni2iKoyJW+V8X6hD6GcmsSrq/5wWpd/QRnLv 9B2eTzqcvOu9W7nOcPn3AGr9wKSoQxhfwNa9PRSIaxwm3rXWPLbD8StVJ3vYi5ZRbbwN EeZpOAsZA/pJr1sSHvwzd/q3ja6mojw86w69U1J4zQ7PEBVbPBL7aWy/gS3Sv44bMULN YM3nXTAKFd5cGTJMed8pFOWagrEzf5a5SPxjZasvFkqsoQkMl0BdDmZGpf02m5tuF59G ISbbSjZq6295Ud2mVVrdmO8w62+h2O/KFbUv9jU7y6j1OsnZzx+S9H1bSNVNdlcpi+rh dlVQ== X-Gm-Message-State: AOJu0YzKCeZzxZEPBbv1cX+lj0S330CDLhA4ow/44z0QkKvP54vGvock FXaxdXoTSfLtOicQONHw3uzHbt1wmwF/gweOMnAVRhqX3WNCXnUZhvPbR0snmoGiKpz2+N4Er8T A91NUpKBQfHPUm59dUQGDqic0CaXXBpyOqxeF+xkUBu4tpenpYmXa/7CggHlL X-Gm-Gg: ASbGnctnI8+OLI07Hv9imF6o5PXhXE0z4DYjMUE2sUi+ht/LSmH51SQXxQA/1Jo0/IQ zy99WoRcNSC9Jw9n4P7wkWZHwuGHzpb1Lc7N/EeAqj+9S0x20GTFRE1FCjrI/GkV180TPGX0Htr tANJE0DK3hXXbMGTXdpLKG1uOwDcCn/WKxOzZ2M1ey12GdowHVKUih8jj59ggsgS1i4ZWU3kkNV WwBITzu3rF9MEQKFyqczz+MU5pkp5k98T375RTSzdCrI1ru5oRoYMQY4eCmv/S1bbtoqQ6twLjY ptWReQn5YKuYVkx0BS2/9ubQOPcDU1NtzHugnvu4lQnIOztkswQxW4l9O+zlOTs23VPRvGMHTWM wO5RHWHJg X-Google-Smtp-Source: AGHT+IEy4agZQ47qcbxx0PSkdwKdNoVYBcB06nhmpBBMBk8eK+3ssbgsb+/tcB5rOLK2kROtfzLSyT9N+efQ X-Received: by 2002:a05:6602:14d3:b0:941:179:62dd with SMTP id ca18e2360f4ac-945bb4d6cbbmr543506539f.9.1761666695507; Tue, 28 Oct 2025 08:51:35 -0700 (PDT) Received: from postal.iol.unh.edu (postal.iol.unh.edu. [2606:4100:3880:1234::84]) by smtp-relay.gmail.com with ESMTPS id 8926c6da1cb9f-5aea7be2a4dsm851125173.11.2025.10.28.08.51.35 (version=TLS1_2 cipher=ECDHE-ECDSA-AES128-GCM-SHA256 bits=128/128); Tue, 28 Oct 2025 08:51:35 -0700 (PDT) X-Relaying-Domain: iol.unh.edu Date: Tue, 28 Oct 2025 08:51:35 -0700 (PDT) Message-ID: <6900e687.050a0220.3c150f.6badSMTPIN_ADDED_MISSING@mx.google.com> Received: from [172.21.0.2] (unknown [172.18.0.240]) by postal.iol.unh.edu (Postfix) with ESMTP id 17363604D420; Tue, 28 Oct 2025 11:51:35 -0400 (EDT) Subject: |SUCCESS| pw158183 [PATCH] graph: fix xstats description allocation From: dpdklab@iol.unh.edu To: Test Report Cc: dpdk-test-reports@iol.unh.edu In-Reply-To: <20251028101333.14776-1-cfontain@redhat.com> References: <20251028101333.14776-1-cfontain@redhat.com> Content-Type: text/plain X-BeenThere: test-report@dpdk.org X-Mailman-Version: 2.1.29 Precedence: list List-Id: automatic DPDK test reports List-Unsubscribe: , List-Archive: List-Post: List-Help: List-Subscribe: , Errors-To: test-report-bounces@dpdk.org Test-Label: iol-unit-amd64-testing Test-Status: SUCCESS http://dpdk.org/patch/158183 _Testing PASS_ Submitter: Christophe Fontaine Date: Tuesday, October 28 2025 10:13:33 DPDK git baseline: Repo:dpdk Branch: master CommitID:39b54f2dcf44ad1f91eabc7080cd5dea763607fd 158183 --> testing pass Upstream job id: Generic-VM-Unit-Test-DPDK#32116 Test environment and result as below: +-------------------------------+----------------+ | Environment | dpdk_unit_test | +===============================+================+ | CentOS Stream 9 | PASS | +-------------------------------+----------------+ | Fedora Linux 40 | PASS | +-------------------------------+----------------+ | Debian GNU/Linux 12 | PASS | +-------------------------------+----------------+ | Red Hat Enterprise Linux 8.10 | PASS | +-------------------------------+----------------+ | CentOS Stream 10 | PASS | +-------------------------------+----------------+ | Fedora Linux 41 | PASS | +-------------------------------+----------------+ | Ubuntu 22.04 | PASS | +-------------------------------+----------------+ | Ubuntu 20.04 | PASS | +-------------------------------+----------------+ | Fedora Linux 42 | PASS | +-------------------------------+----------------+ | Ubuntu 24.04 | PASS | +-------------------------------+----------------+ | Red Hat Enterprise Linux 9.5 | PASS | +-------------------------------+----------------+ | Windows Server 2022 | PASS | +-------------------------------+----------------+ CentOS Stream 9 Kernel: 5.15 Compiler: gcc gcc (GCC) 11.5.0 20240719 (Red Hat 11.5.0-11) Fedora Linux 40 Kernel: 5.15 Compiler: gcc gcc (GCC) 14.2.1 20240912 (Red Hat 14.2.1-3) Debian GNU/Linux 12 Kernel: 5.15 Compiler: gcc gcc (Debian 12.2.0-14+deb12u1) 12.2.0 Red Hat Enterprise Linux 8.10 Kernel: 5.15 Compiler: gcc gcc (GCC) 8.5.0 20210514 (Red Hat 8.5.0-22) CentOS Stream 10 Kernel: 5.15 Compiler: gcc gcc (GCC) 14.2.1 20250110 (Red Hat 14.2.1-8) Fedora Linux 41 Kernel: 5.15 Compiler: gcc gcc (GCC) 14.3.1 20250523 (Red Hat 14.3.1-1) Ubuntu 22.04 Kernel: 5.15 Compiler: gcc gcc (Ubuntu 11.4.0-1ubuntu1~22.04) 11.4.0 Ubuntu 20.04 Kernel: 5.15 Compiler: gcc gcc (Ubuntu 9.4.0-1ubuntu1~20.04.2) 9.4.0 Fedora Linux 42 Kernel: 5.15 Compiler: clang gcc (GCC) 15.2.1 20250808 (Red Hat 15.2.1-1) Ubuntu 24.04 Kernel: 5.15 Compiler: gcc gcc (Ubuntu 13.3.0-6ubuntu2~24.04) 13.3.0 Red Hat Enterprise Linux 9.5 Kernel: 5.15 Compiler: gcc gcc (GCC) 11.5.0 20240719 (Red Hat 11.5.0-2) Windows Server 2022 Kernel: 10.0.20348.2031 Compiler: clang 15.0.7, gcc 14.1.0 (MinGW), and MSVC VS 19.39.33521 To view detailed results, visit: https://lab.dpdk.org/results/dashboard/patchsets/34397/ UNH-IOL DPDK Community Lab To manage your email subscriptions, visit: https://lab.dpdk.org/results/dashboard/preferences/subscriptions/