From mboxrd@z Thu Jan 1 00:00:00 1970 Return-Path: Received: from mails.dpdk.org (mails.dpdk.org [217.70.189.124]) by inbox.dpdk.org (Postfix) with ESMTP id 055D0489F9 for ; Tue, 28 Oct 2025 16:54:57 +0100 (CET) Received: from mails.dpdk.org (localhost [127.0.0.1]) by mails.dpdk.org (Postfix) with ESMTP id F1E074021E; Tue, 28 Oct 2025 16:54:56 +0100 (CET) Received: from mail-yw1-f227.google.com (mail-yw1-f227.google.com [209.85.128.227]) by mails.dpdk.org (Postfix) with ESMTP id E3B094021E for ; Tue, 28 Oct 2025 16:54:55 +0100 (CET) Received: by mail-yw1-f227.google.com with SMTP id 00721157ae682-78485808eb3so69471847b3.3 for ; Tue, 28 Oct 2025 08:54:55 -0700 (PDT) DKIM-Signature: v=1; a=rsa-sha256; c=relaxed/relaxed; d=iol.unh.edu; s=unh-iol; t=1761666895; x=1762271695; darn=dpdk.org; h=references:in-reply-to:cc:to:from:subject:message-id:date:from:to :cc:subject:date:message-id:reply-to; bh=exooR9UigdGQ3XSjHbr2maOdBFzZvdoTK/ArN/mSaa8=; b=aBRbmmqvyx8qmjnUxA6aZ8knukglUoIx2s/2KmFB/LYpZnAfbwCKn9i8GA8X1YADL7 YtpWPLOmXCQhPxwT9BaZen2XSW40yPp7v9szbbltwf45nFJj7/87dA+DqNxsgcjVKepm U46cZOBWIXWZ8CTqCZ0p5OgAEln3thGa0EMjU= X-Google-DKIM-Signature: v=1; a=rsa-sha256; c=relaxed/relaxed; d=1e100.net; s=20230601; t=1761666895; x=1762271695; h=references:in-reply-to:cc:to:from:subject:message-id:date :x-gm-message-state:from:to:cc:subject:date:message-id:reply-to; bh=exooR9UigdGQ3XSjHbr2maOdBFzZvdoTK/ArN/mSaa8=; b=O2QhDnVa7tDw6j3npDD9SYrYH2Hgghm17B+MxDPeYQYDoEgsPpc7VsUzhD6FOJPO46 s8vaziK6KfRgHxcHXnODOeqV+zWpKQgQ3vB4f8TPn640tJ8RfNyQg7IZSFoArYxUiDxc nGNX46dq9eejU3JftzE0fgWpQSTbvM/7bHMFQLqpTBpTCnc9eFOzLl+2s2Zsbmo+dm+w 11lfvmX8PV/3QyzrDlpQgWrpsgU2aRCzs3+gZYj7YFGyxRAqe/buCmCPtvh2pB3RlCZN ZBy2Qa9VPcRjiryw0Me071P5AEwS3C1uAu50g+b+wfsQtHCBvpKRLMmtp2xgxZOnDCLe vIyA== X-Gm-Message-State: AOJu0YxoHgNTs8IW5TsQWpC2Fn6u3bdtVAw+6hjH0jUbp/s5lLE+hko3 Obnocwxvbx2yYl+il6hU5LwZFcozP9wJyV7zkILJR4wW88Mn2cwek37A7UBn6lB5hA4unar2qHX pK3jymCmtrF9QWO/Hvc/BQjl5sft38ZMs3jFcH7xkHK1+eeMfnlgUqNshSuOV X-Gm-Gg: ASbGncsA8/wBOb/vOjG+Hs0x2Y8ArA88ImR3sbPpzp/IDBcr7sksd5ssXKpCb0kMU2l eu1LHoxmdpXWDmj0r4pYjl2aQt2er9aRMzRyT03t62SrHYCjzutO0dde/tB66LmNKcwpdprnrVi MbUSYWXyIcvAKFXHW5A90bhDlcDoyw/waaFqKEL/y+Kr585+q+lpoqS9DOPQrnuO3Hz1qEqtvic kTwR6Ye0uY8NNGiyzmAyGUcmAsZWax16VGhZ2x4P/PW0LbfnTAefs0zvrU1hrmKI414N4w6oq2H 7lRpBhybHM+JWkcWCY1ITW2ZTyb9mylTUzwUEMYOBDs9BgbDTKymxfMzioK39zhdloOWVSTlI5n aOCe5lf9V X-Google-Smtp-Source: AGHT+IGfSn+RKDHPrFGLxyGnct64KSPrJBmZ9u2RyLRPuTXYouDY36l/ls62vrIoFwje0Xr585ROz52FodVg X-Received: by 2002:a05:690c:6705:b0:739:7377:fdc4 with SMTP id 00721157ae682-78617f6015fmr37665827b3.35.1761666895239; Tue, 28 Oct 2025 08:54:55 -0700 (PDT) Received: from postal.iol.unh.edu (postal.iol.unh.edu. [2606:4100:3880:1234::84]) by smtp-relay.gmail.com with ESMTPS id 00721157ae682-785ed17a5e8sm7672527b3.11.2025.10.28.08.54.55 (version=TLS1_2 cipher=ECDHE-ECDSA-AES128-GCM-SHA256 bits=128/128); Tue, 28 Oct 2025 08:54:55 -0700 (PDT) X-Relaying-Domain: iol.unh.edu Date: Tue, 28 Oct 2025 08:54:55 -0700 (PDT) Message-ID: <6900e74f.050a0220.b2a0.2612SMTPIN_ADDED_MISSING@mx.google.com> Received: from [172.21.0.2] (unknown [172.18.0.240]) by postal.iol.unh.edu (Postfix) with ESMTP id E5629604D420; Tue, 28 Oct 2025 11:54:54 -0400 (EDT) Subject: |SUCCESS| pw158182 [PATCH] net/mlx5: store rxq MTU at allocation tim From: dpdklab@iol.unh.edu To: Test Report Cc: dpdk-test-reports@iol.unh.edu In-Reply-To: <20251028100144.36284-1-a.schollmeyer@syseleven.de> References: <20251028100144.36284-1-a.schollmeyer@syseleven.de> Content-Type: text/plain X-BeenThere: test-report@dpdk.org X-Mailman-Version: 2.1.29 Precedence: list List-Id: automatic DPDK test reports List-Unsubscribe: , List-Archive: List-Post: List-Help: List-Subscribe: , Errors-To: test-report-bounces@dpdk.org Test-Label: iol-compile-arm64-testing Test-Status: SUCCESS http://dpdk.org/patch/158182 _Testing PASS_ Submitter: Adrian Schollmeyer Date: Tuesday, October 28 2025 10:01:44 DPDK git baseline: Repo:dpdk-next-net-mlx Branch: master CommitID:39b54f2dcf44ad1f91eabc7080cd5dea763607fd 158182 --> testing pass Upstream job id: Generic-DPDK-Compile-Meson#438483 Test environment and result as below: +------------------------------+--------------------+ | Environment | dpdk_meson_compile | +==============================+====================+ | Red Hat Enterprise Linux 9.5 | PASS | +------------------------------+--------------------+ | Ubuntu 20.04 | PASS | +------------------------------+--------------------+ | Debian GNU/Linux 12 | PASS | +------------------------------+--------------------+ | Fedora Linux 42 | PASS | +------------------------------+--------------------+ | Ubuntu 22.04 | PASS | +------------------------------+--------------------+ | Ubuntu 24.04 | PASS | +------------------------------+--------------------+ | CentOS Stream 9 | PASS | +------------------------------+--------------------+ | CentOS Stream 10 | PASS | +------------------------------+--------------------+ Red Hat Enterprise Linux 9.5 Kernel: 5.4 Compiler: gcc gcc (GCC) 11.5.0 20240719 (Red Hat 11.5.0-2) Ubuntu 20.04 Kernel: 5.15 Compiler: aarch64-linux-gnu-gcc gcc (Ubuntu 9.4.0-1ubuntu1~20.04.2) 9.4.0 Debian GNU/Linux 12 Kernel: 5.4 Compiler: gcc gcc (Debian 12.2.0-14+deb12u1) 12.2.0 Fedora Linux 42 Kernel: 5.4 Compiler: gcc gcc (GCC) 15.2.1 20250808 (Red Hat 15.2.1-1) Ubuntu 22.04 Kernel: 5.4 Compiler: gcc gcc (Ubuntu 11.4.0-1ubuntu1~22.04) 11.4.0 Ubuntu 24.04 Kernel: 5.4 Compiler: gcc gcc (Ubuntu 13.3.0-6ubuntu2~24.04) 13.3.0 CentOS Stream 9 Kernel: 5.4 Compiler: gcc gcc (GCC) 11.5.0 20240719 (Red Hat 11.5.0-11) CentOS Stream 10 Kernel: 5.4 Compiler: gcc gcc (GCC) 14.2.1 20250110 (Red Hat 14.2.1-8) To view detailed results, visit: https://lab.dpdk.org/results/dashboard/patchsets/34398/ UNH-IOL DPDK Community Lab To manage your email subscriptions, visit: https://lab.dpdk.org/results/dashboard/preferences/subscriptions/