From mboxrd@z Thu Jan 1 00:00:00 1970 Return-Path: Received: from mails.dpdk.org (mails.dpdk.org [217.70.189.124]) by inbox.dpdk.org (Postfix) with ESMTP id 2165F489F9 for ; Tue, 28 Oct 2025 17:06:19 +0100 (CET) Received: from mails.dpdk.org (localhost [127.0.0.1]) by mails.dpdk.org (Postfix) with ESMTP id 00F3B4021E; Tue, 28 Oct 2025 17:06:19 +0100 (CET) Received: from mail-qv1-f98.google.com (mail-qv1-f98.google.com [209.85.219.98]) by mails.dpdk.org (Postfix) with ESMTP id 444A84021E for ; Tue, 28 Oct 2025 17:06:18 +0100 (CET) Received: by mail-qv1-f98.google.com with SMTP id 6a1803df08f44-7f7835f4478so44041056d6.1 for ; Tue, 28 Oct 2025 09:06:18 -0700 (PDT) DKIM-Signature: v=1; a=rsa-sha256; c=relaxed/relaxed; d=iol.unh.edu; s=unh-iol; t=1761667577; x=1762272377; darn=dpdk.org; h=references:in-reply-to:cc:to:from:subject:message-id:date:from:to :cc:subject:date:message-id:reply-to; bh=OZm2mKs/ugAjttwk+abXoYcbC8uUJo5EFif7kcUsWdE=; b=AOq1nWKk8p9PeKm+sZe1aNupJOuKt88XZU5Xvc2/QU7W8PNLjVBBTPit1cKgFC/33g hsKfNGGfXx+5vaAYNnxAutuBbvYFCs3NGAdnICuJRxtFG45kV/D0rKv4Ohog5eWfnNaJ We4o/poLn3/Pac4x8H9AOelUfr5dTBe9UHegc= X-Google-DKIM-Signature: v=1; a=rsa-sha256; c=relaxed/relaxed; d=1e100.net; s=20230601; t=1761667577; x=1762272377; h=references:in-reply-to:cc:to:from:subject:message-id:date :x-gm-message-state:from:to:cc:subject:date:message-id:reply-to; bh=OZm2mKs/ugAjttwk+abXoYcbC8uUJo5EFif7kcUsWdE=; b=ASlNdhJbzG7Qj9BjAsa/uPiqI+fWyflVhqCzWpidSQSVlEkRAeJpLLCcKQinRC5qrX rrbLeX6dR0BhMM4dexo/7ecZgiLMpZVseq7P7QcLf6T+RZRvG8pNFaveWoTp3AKDcqW/ p76sg8VUZX8wntcxdeRiE7TN+pXumCZ7E9rfKifl3n3r0DSogtYAkv0ER72847a9SY7W FJHx8aprG0YvRGdTgM/+TzyVgBtx2NIfuK1NMtD2+cQwKkJc2bnJSn/O7OFxQ7I6QTnn 5lKBMD8+7pszla71eBATECpqksbE7J9OI82LOylK+6wHJM7kuO/I5d8xgqE9Q3Dpxnx6 72AQ== X-Gm-Message-State: AOJu0YzYvizKZC1C/asgWkpswQp0VkVECRc4DP28S4IEfPPDy07E2HOK RwSKIeNOEIlBDjj1G7MCVX/grrCwWI3rzKEBhDhIvNSqMERxHh6zeu0He6yxsJAyTyGfyRrG7xz xmtX91OYvwqyqGJlCT3Vw1UR9QUuhxXlV23sl75o1f9VD9I8xVksDzqJh08UZ X-Gm-Gg: ASbGnct2+FZaNfUQPezsU2Y1LkqRIvRNn4q9dBCyEVKN0uZEN0CrRqhNn8tHqtmxasd 7nqo+Xul6d7gV06XunOaTc7MLJQq8fwcEQ2TXjptU19ct5EuqriCfhd4Dkhle+PpM0zSR2L0lS0 U7jT5dGNGzlw6qTIoBUityy1AVmJEZhRtGokXQ9aZbQe+mzHgQaasjyGLWe66tPlBIqAHzOW+sV G5woeqdrdDF4PiDjK9Gamccfw0h46GD3KtsPHcHO3ay3rBNvhH7M83NBMXNT8lybH0KLoAg32/O bITnVke+D2398AcQ+hYJIIwZLqMHqPQKi2WPe2f2IZ2hojEPV8NJRT4FSDIkEB8jcqXCYw2zd7P f6NbmHf+0 X-Google-Smtp-Source: AGHT+IHJnJ8ZtcKcqdYIdvXo+4UrfDcYw9+faUnJh/9SkVz2S6G0rAwsjMtUEOm/OuNJXHXaa/3k6EGhfIf3 X-Received: by 2002:a05:622a:30b:b0:4e8:bbd4:99ea with SMTP id d75a77b69052e-4ed075cd9cemr61927691cf.44.1761667577433; Tue, 28 Oct 2025 09:06:17 -0700 (PDT) Received: from postal.iol.unh.edu (postal.iol.unh.edu. [2606:4100:3880:1234::84]) by smtp-relay.gmail.com with ESMTPS id af79cd13be357-89f2346532bsm97476285a.0.2025.10.28.09.06.17 (version=TLS1_2 cipher=ECDHE-ECDSA-AES128-GCM-SHA256 bits=128/128); Tue, 28 Oct 2025 09:06:17 -0700 (PDT) X-Relaying-Domain: iol.unh.edu Date: Tue, 28 Oct 2025 09:06:17 -0700 (PDT) Message-ID: <6900e9f9.050a0220.26926e.c33dSMTPIN_ADDED_MISSING@mx.google.com> Received: from [172.21.0.2] (unknown [172.18.0.240]) by postal.iol.unh.edu (Postfix) with ESMTP id 237C76050A61; Tue, 28 Oct 2025 12:06:17 -0400 (EDT) Subject: |WARNING| pw158180-158181 [PATCH] [2/2] net/mlx5: support PF represe From: dpdklab@iol.unh.edu To: Test Report Cc: dpdk-test-reports@iol.unh.edu, Stephen Hemminger In-Reply-To: <20251028095831.53669-2-getelson@nvidia.com> References: <20251028095831.53669-2-getelson@nvidia.com> Content-Type: text/plain X-BeenThere: test-report@dpdk.org X-Mailman-Version: 2.1.29 Precedence: list List-Id: automatic DPDK test reports List-Unsubscribe: , List-Archive: List-Post: List-Help: List-Subscribe: , Errors-To: test-report-bounces@dpdk.org Test-Label: iol-compile-amd64-testing Test-Status: WARNING http://dpdk.org/patch/158181 _Testing issues_ Submitter: Gregory Etelson Date: Tuesday, October 28 2025 09:58:30 DPDK git baseline: Repo:dpdk-next-net Branch: master CommitID:11a6a4b1f19140ac3a57ace844be3cba00c39eaa 158180-158181 --> testing issues Upstream job id: Generic-DPDK-Compile-Meson#438509 Test environment and result as below: +-------------------------------+--------------------+-------------------+------------------+ | Environment | dpdk_meson_compile | dpdk_compile_spdk | dpdk_compile_ovs | +===============================+====================+===================+==================+ | FreeBSD 14.2 | PASS | SKIPPED | SKIPPED | +-------------------------------+--------------------+-------------------+------------------+ | Ubuntu 20.04 | PASS | SKIPPED | SKIPPED | +-------------------------------+--------------------+-------------------+------------------+ | CentOS Stream 9 | PASS | WARN | SKIPPED | +-------------------------------+--------------------+-------------------+------------------+ | CentOS Stream 10 | PASS | SKIPPED | SKIPPED | +-------------------------------+--------------------+-------------------+------------------+ | Debian GNU/Linux 12 | PASS | WARN | SKIPPED | +-------------------------------+--------------------+-------------------+------------------+ | Fedora Linux 42 | PASS | WARN | PASS | +-------------------------------+--------------------+-------------------+------------------+ | Red Hat Enterprise Linux 8.10 | PASS | SKIPPED | SKIPPED | +-------------------------------+--------------------+-------------------+------------------+ | openSUSE Leap 15.6 | PASS | SKIPPED | SKIPPED | +-------------------------------+--------------------+-------------------+------------------+ | Red Hat Enterprise Linux 9.5 | PASS | SKIPPED | SKIPPED | +-------------------------------+--------------------+-------------------+------------------+ | Ubuntu 22.04 | PASS | WARN | SKIPPED | +-------------------------------+--------------------+-------------------+------------------+ | Ubuntu 24.04 | PASS | WARN | PASS | +-------------------------------+--------------------+-------------------+------------------+ | Alpine Linux 3.22.0 | PASS | SKIPPED | SKIPPED | +-------------------------------+--------------------+-------------------+------------------+ ==== 20 line log output for Ubuntu 24.04 (dpdk_compile_spdk): ==== --- Failed to get log output --- ==== End log output ==== FreeBSD 14.2 Kernel: 14.2-RELEASE Compiler: clang 18.1.6 Ubuntu 20.04 Kernel: 4.19 Compiler: gcc gcc (Ubuntu 9.4.0-1ubuntu1~20.04.2) 9.4.0 CentOS Stream 9 Kernel: 5.15 Compiler: gcc gcc (GCC) 11.5.0 20240719 (Red Hat 11.5.0-11) CentOS Stream 10 Kernel: 5.15 Compiler: gcc gcc (GCC) 14.2.1 20250110 (Red Hat 14.2.1-8) Debian GNU/Linux 12 Kernel: 5.15 Compiler: gcc gcc (Debian 12.2.0-14+deb12u1) 12.2.0 Fedora Linux 42 Kernel: 5.15 Compiler: clang gcc (GCC) 15.2.1 20250808 (Red Hat 15.2.1-1) Red Hat Enterprise Linux 8.10 Kernel: 5.15 Compiler: gcc gcc (GCC) 8.5.0 20210514 (Red Hat 8.5.0-22) openSUSE Leap 15.6 Kernel: 5.15 Compiler: gcc gcc (SUSE Linux) 7.5.0 Red Hat Enterprise Linux 9.5 Kernel: 5.15 Compiler: gcc gcc (GCC) 11.5.0 20240719 (Red Hat 11.5.0-2) Ubuntu 22.04 Kernel: 5.15 Compiler: gcc gcc (Ubuntu 11.4.0-1ubuntu1~22.04) 11.4.0 Ubuntu 24.04 Kernel: 5.15 Compiler: gcc gcc (Ubuntu 13.3.0-6ubuntu2~24.04) 13.3.0 Alpine Linux 3.22.0 Kernel: 5.15 Compiler: gcc gcc (Alpine 14.2.0) 14.2.0 To view detailed results, visit: https://lab.dpdk.org/results/dashboard/patchsets/34399/ UNH-IOL DPDK Community Lab To manage your email subscriptions, visit: https://lab.dpdk.org/results/dashboard/preferences/subscriptions/