From mboxrd@z Thu Jan 1 00:00:00 1970 Return-Path: Received: from mails.dpdk.org (mails.dpdk.org [217.70.189.124]) by inbox.dpdk.org (Postfix) with ESMTP id C105B489F9 for ; Tue, 28 Oct 2025 17:11:40 +0100 (CET) Received: from mails.dpdk.org (localhost [127.0.0.1]) by mails.dpdk.org (Postfix) with ESMTP id BB5F94021E; Tue, 28 Oct 2025 17:11:40 +0100 (CET) Received: from mail-oa1-f98.google.com (mail-oa1-f98.google.com [209.85.160.98]) by mails.dpdk.org (Postfix) with ESMTP id 7F51C4021E for ; Tue, 28 Oct 2025 17:11:39 +0100 (CET) Received: by mail-oa1-f98.google.com with SMTP id 586e51a60fabf-373b7e07182so3442425fac.0 for ; Tue, 28 Oct 2025 09:11:39 -0700 (PDT) DKIM-Signature: v=1; a=rsa-sha256; c=relaxed/relaxed; d=iol.unh.edu; s=unh-iol; t=1761667899; x=1762272699; darn=dpdk.org; h=references:in-reply-to:cc:to:from:subject:message-id:date:from:to :cc:subject:date:message-id:reply-to; bh=0v5nXQ+Jfpvf7kaXDjNIczsqHw9hJsi23kH6bEJ47mE=; b=UIs1OocBfnZbYaUxx02gxNT1X9nJTFRKncLkG3jK4ds/stqFIqYMHTBtrZkzc45q6j s4AgOGrLEE6pNg/hYJ7olbgWQfr6HXUsv+/GmESwjT0VlEXDHYQM8lHGlfzQDX6aEPTr igGEM9arNALB6DtqrweY51kw/7dw5ClhZ7oZw= X-Google-DKIM-Signature: v=1; a=rsa-sha256; c=relaxed/relaxed; d=1e100.net; s=20230601; t=1761667899; x=1762272699; h=references:in-reply-to:cc:to:from:subject:message-id:date :x-gm-message-state:from:to:cc:subject:date:message-id:reply-to; bh=0v5nXQ+Jfpvf7kaXDjNIczsqHw9hJsi23kH6bEJ47mE=; b=Gn8TedKdBoLd4Ea+FZ5TpwTKLpz+mM9xXMWNbTvHWGiJ8DLSAuJXY3BnQipY4soOWY cmdM/LRFnOQuNBc4ocrj4aOcT9oTLaQtMmpHxZ8crJVozgLwnJcbjjirq+g/IY7ZKSqM 8LXihbbcPWFyO1QKwhLcsxT+6E2k6jWP7BAedXZpXwZ1KbcU4D70NkTptXjZazrSOV9Q libVfHXDfeDAiYYa9hXO2ZYxem7AOQ96PkmB/qlBc1FlaLWpQ1ZUooHjmeOqHo3vAyRB tkt11vnUgdcLf24Q915qlTMHx8kpzmhW+xUvoTvvskiAWEIFz+oJpqc84t3C6NyzaEzA IWAA== X-Gm-Message-State: AOJu0YyKO5zmy69VTz6elI+J3wjzi/FAeDFpiGMSVZimu4oVvXP7450n H/QitcRV8PnR1QYm8N+eGoyCS3weV0gHD5Tzit9vSz0ENbcE2q2SSA7W33UK7YyqgVekn8wvINt fTlLDnnyM64rHf9dln58YCRdCeJmYshpz7j0U0uqc6Ot3F44FEApPshxrrzy0 X-Gm-Gg: ASbGncu8eF+wK2jbVPDDnLdDqp0lAdszxiCc1DC/nh6JrZFStdzQtSZiDxt+lsOxG/n JIF3Aoojy1h75uG4oOpdTGWVOjYqRr+fBdiZA7CwFJMbY6G6r4QW/zQl0QZSNf4v6168HmO7mYR iVmMbJNeNZ7OdMB0AYYAoM8k/KW+Wa70weDQpphC6J5ksYu82cphdK0qUeHNkNM3q1o7d+ZpRDv aZ8CnEMjTEButhQsX7C0c1cSqj8C9EGui2C1Ac4DwPGCuqgaHBe2Xwt/2XG4yqjVEslBgHF2ILH 1N5PwGOfiOoMsksLkOITR8j9XYvcCEdQc4hwuD6jZ61IMSKdp8o/UCGl16yiL/gXcNjCG2ERciG gJ0MfHs3W X-Google-Smtp-Source: AGHT+IH0MDSkO3cyRnEJPaFjBqyG1UzGt/VSuNjQCQrw09AQ3BsYXYQT/M6lJ5M+vXO1rN6F9bLWUEzEzN2g X-Received: by 2002:a05:6871:4843:b0:3d4:af78:9db2 with SMTP id 586e51a60fabf-3d5d810e9e6mr1658503fac.22.1761667898766; Tue, 28 Oct 2025 09:11:38 -0700 (PDT) Received: from postal.iol.unh.edu (postal.iol.unh.edu. [2606:4100:3880:1234::84]) by smtp-relay.gmail.com with ESMTPS id 586e51a60fabf-3d1e3a6159csm992494fac.18.2025.10.28.09.11.38 (version=TLS1_2 cipher=ECDHE-ECDSA-AES128-GCM-SHA256 bits=128/128); Tue, 28 Oct 2025 09:11:38 -0700 (PDT) X-Relaying-Domain: iol.unh.edu Date: Tue, 28 Oct 2025 09:11:38 -0700 (PDT) Message-ID: <6900eb3a.050a0220.cb40e.d623SMTPIN_ADDED_MISSING@mx.google.com> Received: from [172.21.0.2] (unknown [172.18.0.240]) by postal.iol.unh.edu (Postfix) with ESMTP id 4AABF6050A61; Tue, 28 Oct 2025 12:11:38 -0400 (EDT) Subject: |WARNING| pw158182 [PATCH] net/mlx5: store rxq MTU at allocation tim From: dpdklab@iol.unh.edu To: Test Report Cc: dpdk-test-reports@iol.unh.edu In-Reply-To: <20251028100144.36284-1-a.schollmeyer@syseleven.de> References: <20251028100144.36284-1-a.schollmeyer@syseleven.de> Content-Type: text/plain X-BeenThere: test-report@dpdk.org X-Mailman-Version: 2.1.29 Precedence: list List-Id: automatic DPDK test reports List-Unsubscribe: , List-Archive: List-Post: List-Help: List-Subscribe: , Errors-To: test-report-bounces@dpdk.org Test-Label: iol-compile-amd64-testing Test-Status: WARNING http://dpdk.org/patch/158182 _Testing issues_ Submitter: Adrian Schollmeyer Date: Tuesday, October 28 2025 10:01:44 DPDK git baseline: Repo:dpdk-next-net-mlx Branch: master CommitID:39b54f2dcf44ad1f91eabc7080cd5dea763607fd 158182 --> testing issues Upstream job id: Windows-Compile-DPDK-VS#7342 Test environment and result as below: +-------------------------------+--------------------+-------------------+------------------+-------------------+ | Environment | dpdk_meson_compile | dpdk_compile_spdk | dpdk_compile_ovs | dpdk_msvc_compile | +===============================+====================+===================+==================+===================+ | FreeBSD 14.2 | PASS | SKIPPED | SKIPPED | SKIPPED | +-------------------------------+--------------------+-------------------+------------------+-------------------+ | Ubuntu 20.04 | PASS | SKIPPED | SKIPPED | SKIPPED | +-------------------------------+--------------------+-------------------+------------------+-------------------+ | CentOS Stream 9 | PASS | WARN | SKIPPED | SKIPPED | +-------------------------------+--------------------+-------------------+------------------+-------------------+ | CentOS Stream 10 | PASS | SKIPPED | SKIPPED | SKIPPED | +-------------------------------+--------------------+-------------------+------------------+-------------------+ | Debian GNU/Linux 12 | PASS | WARN | SKIPPED | SKIPPED | +-------------------------------+--------------------+-------------------+------------------+-------------------+ | Fedora Linux 42 | PASS | WARN | PASS | SKIPPED | +-------------------------------+--------------------+-------------------+------------------+-------------------+ | openSUSE Leap 15.6 | PASS | SKIPPED | SKIPPED | SKIPPED | +-------------------------------+--------------------+-------------------+------------------+-------------------+ | Red Hat Enterprise Linux 8.10 | PASS | SKIPPED | SKIPPED | SKIPPED | +-------------------------------+--------------------+-------------------+------------------+-------------------+ | Ubuntu 22.04 | PASS | WARN | SKIPPED | SKIPPED | +-------------------------------+--------------------+-------------------+------------------+-------------------+ | Ubuntu 24.04 | PASS | WARN | PASS | SKIPPED | +-------------------------------+--------------------+-------------------+------------------+-------------------+ | Alpine Linux 3.22.0 | PASS | SKIPPED | SKIPPED | SKIPPED | +-------------------------------+--------------------+-------------------+------------------+-------------------+ | Red Hat Enterprise Linux 9.5 | PASS | SKIPPED | SKIPPED | SKIPPED | +-------------------------------+--------------------+-------------------+------------------+-------------------+ | Windows Server 2022 | SKIPPED | SKIPPED | SKIPPED | PASS | +-------------------------------+--------------------+-------------------+------------------+-------------------+ ==== 20 line log output for Ubuntu 24.04 (dpdk_compile_spdk): ==== --- Failed to get log output --- ==== End log output ==== FreeBSD 14.2 Kernel: 14.2-RELEASE Compiler: clang 18.1.6 Ubuntu 20.04 Kernel: 4.19 Compiler: gcc gcc (Ubuntu 9.4.0-1ubuntu1~20.04.2) 9.4.0 CentOS Stream 9 Kernel: 5.15 Compiler: gcc gcc (GCC) 11.5.0 20240719 (Red Hat 11.5.0-11) CentOS Stream 10 Kernel: 5.15 Compiler: gcc gcc (GCC) 14.2.1 20250110 (Red Hat 14.2.1-8) Debian GNU/Linux 12 Kernel: 5.15 Compiler: gcc gcc (Debian 12.2.0-14+deb12u1) 12.2.0 Fedora Linux 42 Kernel: 5.15 Compiler: clang gcc (GCC) 15.2.1 20250808 (Red Hat 15.2.1-1) openSUSE Leap 15.6 Kernel: 5.15 Compiler: gcc gcc (SUSE Linux) 7.5.0 Red Hat Enterprise Linux 8.10 Kernel: 5.15 Compiler: gcc gcc (GCC) 8.5.0 20210514 (Red Hat 8.5.0-22) Ubuntu 22.04 Kernel: 5.15 Compiler: gcc gcc (Ubuntu 11.4.0-1ubuntu1~22.04) 11.4.0 Ubuntu 24.04 Kernel: 5.15 Compiler: gcc gcc (Ubuntu 13.3.0-6ubuntu2~24.04) 13.3.0 Alpine Linux 3.22.0 Kernel: 5.15 Compiler: gcc gcc (Alpine 14.2.0) 14.2.0 Red Hat Enterprise Linux 9.5 Kernel: 5.15 Compiler: gcc gcc (GCC) 11.5.0 20240719 (Red Hat 11.5.0-2) Windows Server 2022 Kernel: 10.0.20348.2031 Compiler: clang 15.0.7, gcc 14.1.0 (MinGW), and MSVC VS 19.39.33521 To view detailed results, visit: https://lab.dpdk.org/results/dashboard/patchsets/34398/ UNH-IOL DPDK Community Lab To manage your email subscriptions, visit: https://lab.dpdk.org/results/dashboard/preferences/subscriptions/