From mboxrd@z Thu Jan 1 00:00:00 1970 Return-Path: Received: from mails.dpdk.org (mails.dpdk.org [217.70.189.124]) by inbox.dpdk.org (Postfix) with ESMTP id 77C78489F9 for ; Tue, 28 Oct 2025 17:17:11 +0100 (CET) Received: from mails.dpdk.org (localhost [127.0.0.1]) by mails.dpdk.org (Postfix) with ESMTP id 59B9A4021E; Tue, 28 Oct 2025 17:17:11 +0100 (CET) Received: from mail-ua1-f100.google.com (mail-ua1-f100.google.com [209.85.222.100]) by mails.dpdk.org (Postfix) with ESMTP id 6F20B4021E for ; Tue, 28 Oct 2025 17:17:09 +0100 (CET) Received: by mail-ua1-f100.google.com with SMTP id a1e0cc1a2514c-89019079fbeso2169981241.2 for ; Tue, 28 Oct 2025 09:17:09 -0700 (PDT) DKIM-Signature: v=1; a=rsa-sha256; c=relaxed/relaxed; d=iol.unh.edu; s=unh-iol; t=1761668229; x=1762273029; darn=dpdk.org; h=references:in-reply-to:cc:to:from:subject:message-id:date:from:to :cc:subject:date:message-id:reply-to; bh=6VSVOhr3Kw9u3s/zIwZnGHMmUy4++uWqFZKEguillnk=; b=ZheYami1jo4daNvplQuErA4Pm+vsIQsWGeytMCBxcI7HWPKR7NipYXY+D1e93HbS9s GTh2uDQd4uc3yEiZJcyJDYCX4zaJCI2gCIfpH9xCIsiYjoZNHWox5rK/EBw5Iv8N/O04 QmB6nvNY75/pJxcVDrqVyGy2x69OIwOki4ojE= X-Google-DKIM-Signature: v=1; a=rsa-sha256; c=relaxed/relaxed; d=1e100.net; s=20230601; t=1761668229; x=1762273029; h=references:in-reply-to:cc:to:from:subject:message-id:date :x-gm-message-state:from:to:cc:subject:date:message-id:reply-to; bh=6VSVOhr3Kw9u3s/zIwZnGHMmUy4++uWqFZKEguillnk=; b=RQGW5yQswN1xLqS4dQO3Jw0F99q9f4+AHvcwwmRmWdCg0dj93fIE+eG5J+9hEijjQ2 XwSEQruAiNvcTS1YgMH38PRfYNm1ZSf+mhZrogzoJxYCiwFVEtr/vT6HYBodTw62HZWK HZkTsY0xuLJrZRYd34M6+RuOtp2yQcdX5qJOHnNNYq7SduZVubWGhd5MpCHe4ZMEcp6Z OL1eeBPOKTzyeRMSQ3aaeTgBTVLCd9DvYnLlpzutgb5SDwcftLuaVntMHVH5SEMzuv1y EFcAETyXWxJcLbz1BsccN7bDRL4Uejxh3qaepSnbWRrEIoHTY3iFoFnx3pstRq01nJF6 LPEw== X-Gm-Message-State: AOJu0YwinbfgCVeV06oZ7MPP43O8/a14kPnZ/ZI92OAhShyZXovATnHH 5chLjdPvUOzTS5OLWg8X7MHHELo2z0A7H+FLbju6siBeBCHPxAmnk4SPaghhSOzyFyj2Fpdk2in K/GRUt7XMmtQe5NFIoeeTyr+iYc+ecieqSh0CKhr0+Dt0 X-Gm-Gg: ASbGncsMef6g6ML0IvkY6BEqd9UgllYm71goMk6jLuES4ofXjDd58/Q3E29ZlZo024u TX+kCDZ+42PTD5cIffVOq3vGWeyKQQCYkCYHMKmVm6iAxJi72xGfE7SQIHHG5hsIwVqjigzdxp+ uLCV7tp0hZAkWxm4X+fw+3C0phV0/s8Rz12zR1GdOYVFdKBlM5/cRrLMtRQsFaLealhYBXWv256 y+J4HfsZfZyNmQNbkBoHf9og3ruleHmVqgBcH1DrXEaNf6+3MJZkcZZvbYt0yW6AFdpagFJKQpr W3KevVqZ7GL0ABqYqREpWw4+IXwJWP1hmvXUrBZuPpq9im3ZUpN8kSNFez6CVT2IXT4+i3YUrk+ Y8x8g93KDXeLm5+4Ycfpp97J68EgMWtA= X-Google-Smtp-Source: AGHT+IEXTNqtMmDyJLZMLXZ5UP5kt3M9KeEalm234vu2SFuTQPwz5Tss2GifJcz00NrLlVNkqvSER1dNQoGA X-Received: by 2002:a05:6122:2214:b0:557:c50d:6a14 with SMTP id 71dfb90a1353d-55803539940mr1340332e0c.9.1761668228535; Tue, 28 Oct 2025 09:17:08 -0700 (PDT) Received: from postal.iol.unh.edu (postal.iol.unh.edu. [132.177.123.84]) by smtp-relay.gmail.com with ESMTPS id 71dfb90a1353d-557ddb4f6dbsm1286831e0c.6.2025.10.28.09.17.08 (version=TLS1_2 cipher=ECDHE-ECDSA-AES128-GCM-SHA256 bits=128/128); Tue, 28 Oct 2025 09:17:08 -0700 (PDT) X-Relaying-Domain: iol.unh.edu Date: Tue, 28 Oct 2025 09:17:08 -0700 (PDT) Message-ID: <6900ec84.050a0220.2d0917.a9d9SMTPIN_ADDED_MISSING@mx.google.com> Received: from [172.21.0.2] (unknown [172.18.0.240]) by postal.iol.unh.edu (Postfix) with ESMTP id 3763E6050A61; Tue, 28 Oct 2025 12:17:08 -0400 (EDT) Subject: |WARNING| pw158178 [PATCH] [v1] net/mlx5: remove counter alignment From: dpdklab@iol.unh.edu To: Test Report Cc: dpdk-test-reports@iol.unh.edu In-Reply-To: <20251028092611.1755141-1-rongweil@nvidia.com> References: <20251028092611.1755141-1-rongweil@nvidia.com> Content-Type: text/plain X-BeenThere: test-report@dpdk.org X-Mailman-Version: 2.1.29 Precedence: list List-Id: automatic DPDK test reports List-Unsubscribe: , List-Archive: List-Post: List-Help: List-Subscribe: , Errors-To: test-report-bounces@dpdk.org Test-Label: iol-compile-amd64-testing Test-Status: WARNING http://dpdk.org/patch/158178 _Testing issues_ Submitter: Rongwei Liu Date: Tuesday, October 28 2025 09:26:11 DPDK git baseline: Repo:dpdk-next-net-mlx Branch: master CommitID:39b54f2dcf44ad1f91eabc7080cd5dea763607fd 158178 --> testing issues Upstream job id: Windows-Compile-DPDK-Native#31937 Test environment and result as below: +-------------------------------+--------------------+-------------------+------------------+-------------------+-------------------------+ | Environment | dpdk_meson_compile | dpdk_compile_spdk | dpdk_compile_ovs | dpdk_msvc_compile | dpdk_llvm_clang_compile | +===============================+====================+===================+==================+===================+=========================+ | FreeBSD 14.2 | PASS | SKIPPED | SKIPPED | SKIPPED | SKIPPED | +-------------------------------+--------------------+-------------------+------------------+-------------------+-------------------------+ | Ubuntu 20.04 | PASS | SKIPPED | SKIPPED | SKIPPED | SKIPPED | +-------------------------------+--------------------+-------------------+------------------+-------------------+-------------------------+ | CentOS Stream 9 | PASS | WARN | SKIPPED | SKIPPED | SKIPPED | +-------------------------------+--------------------+-------------------+------------------+-------------------+-------------------------+ | CentOS Stream 10 | PASS | SKIPPED | SKIPPED | SKIPPED | SKIPPED | +-------------------------------+--------------------+-------------------+------------------+-------------------+-------------------------+ | Debian GNU/Linux 12 | PASS | WARN | SKIPPED | SKIPPED | SKIPPED | +-------------------------------+--------------------+-------------------+------------------+-------------------+-------------------------+ | Fedora Linux 42 | PASS | WARN | PASS | SKIPPED | SKIPPED | +-------------------------------+--------------------+-------------------+------------------+-------------------+-------------------------+ | openSUSE Leap 15.6 | PASS | SKIPPED | SKIPPED | SKIPPED | SKIPPED | +-------------------------------+--------------------+-------------------+------------------+-------------------+-------------------------+ | Red Hat Enterprise Linux 8.10 | PASS | SKIPPED | SKIPPED | SKIPPED | SKIPPED | +-------------------------------+--------------------+-------------------+------------------+-------------------+-------------------------+ | Red Hat Enterprise Linux 9.5 | PASS | SKIPPED | SKIPPED | SKIPPED | SKIPPED | +-------------------------------+--------------------+-------------------+------------------+-------------------+-------------------------+ | Ubuntu 22.04 | PASS | WARN | SKIPPED | SKIPPED | SKIPPED | +-------------------------------+--------------------+-------------------+------------------+-------------------+-------------------------+ | Ubuntu 24.04 | PASS | WARN | PASS | SKIPPED | SKIPPED | +-------------------------------+--------------------+-------------------+------------------+-------------------+-------------------------+ | Alpine Linux 3.22.0 | PASS | SKIPPED | SKIPPED | SKIPPED | SKIPPED | +-------------------------------+--------------------+-------------------+------------------+-------------------+-------------------------+ | Windows Server 2022 | SKIPPED | SKIPPED | SKIPPED | PASS | PASS | +-------------------------------+--------------------+-------------------+------------------+-------------------+-------------------------+ ==== 20 line log output for Ubuntu 24.04 (dpdk_compile_spdk): ==== --- Failed to get log output --- ==== End log output ==== FreeBSD 14.2 Kernel: 14.2-RELEASE Compiler: clang 18.1.6 Ubuntu 20.04 Kernel: 4.19 Compiler: gcc gcc (Ubuntu 9.4.0-1ubuntu1~20.04.2) 9.4.0 CentOS Stream 9 Kernel: 5.15 Compiler: gcc gcc (GCC) 11.5.0 20240719 (Red Hat 11.5.0-11) CentOS Stream 10 Kernel: 5.15 Compiler: gcc gcc (GCC) 14.2.1 20250110 (Red Hat 14.2.1-8) Debian GNU/Linux 12 Kernel: 5.15 Compiler: gcc gcc (Debian 12.2.0-14+deb12u1) 12.2.0 Fedora Linux 42 Kernel: 5.15 Compiler: clang gcc (GCC) 15.2.1 20250808 (Red Hat 15.2.1-1) openSUSE Leap 15.6 Kernel: 5.15 Compiler: gcc gcc (SUSE Linux) 7.5.0 Red Hat Enterprise Linux 8.10 Kernel: 5.15 Compiler: gcc gcc (GCC) 8.5.0 20210514 (Red Hat 8.5.0-22) Red Hat Enterprise Linux 9.5 Kernel: 5.15 Compiler: gcc gcc (GCC) 11.5.0 20240719 (Red Hat 11.5.0-2) Ubuntu 22.04 Kernel: 5.15 Compiler: gcc gcc (Ubuntu 11.4.0-1ubuntu1~22.04) 11.4.0 Ubuntu 24.04 Kernel: 5.15 Compiler: gcc gcc (Ubuntu 13.3.0-6ubuntu2~24.04) 13.3.0 Alpine Linux 3.22.0 Kernel: 5.15 Compiler: gcc gcc (Alpine 14.2.0) 14.2.0 Windows Server 2022 Kernel: 10.0.20348.2031 Compiler: clang 15.0.7, gcc 14.1.0 (MinGW), and MSVC VS 19.39.33521 To view detailed results, visit: https://lab.dpdk.org/results/dashboard/patchsets/34395/ UNH-IOL DPDK Community Lab To manage your email subscriptions, visit: https://lab.dpdk.org/results/dashboard/preferences/subscriptions/