From mboxrd@z Thu Jan 1 00:00:00 1970 Return-Path: Received: from mails.dpdk.org (mails.dpdk.org [217.70.189.124]) by inbox.dpdk.org (Postfix) with ESMTP id EFDE448A03 for ; Tue, 28 Oct 2025 17:26:00 +0100 (CET) Received: from mails.dpdk.org (localhost [127.0.0.1]) by mails.dpdk.org (Postfix) with ESMTP id E9F0A402E2; Tue, 28 Oct 2025 17:26:00 +0100 (CET) Received: from mail-yw1-f226.google.com (mail-yw1-f226.google.com [209.85.128.226]) by mails.dpdk.org (Postfix) with ESMTP id BAAB6402E2 for ; Tue, 28 Oct 2025 17:25:59 +0100 (CET) Received: by mail-yw1-f226.google.com with SMTP id 00721157ae682-7849c889ac8so1268827b3.0 for ; Tue, 28 Oct 2025 09:25:59 -0700 (PDT) DKIM-Signature: v=1; a=rsa-sha256; c=relaxed/relaxed; d=iol.unh.edu; s=unh-iol; t=1761668759; x=1762273559; darn=dpdk.org; h=references:in-reply-to:cc:to:from:subject:message-id:date:from:to :cc:subject:date:message-id:reply-to; bh=NjTQwgUO0OTeOt0BU40dzntYufyfN19M5OdgVPkj2aI=; b=BCmbIHrZmpyEON1Uij04yEaquwv/ZD2JX4PmGX4uv8iiXCnRblWfxPGLPdXKC32aa0 sbN3jKd1G1pW8ZiMPsNNhXFUhal+Uom3UyiNpqmEKhHCxYJXv3yEhFX1uDUFTxDhlfgx OKs9/BpBFDuarDePpQYhnCJOwuXvcnIkdh028= X-Google-DKIM-Signature: v=1; a=rsa-sha256; c=relaxed/relaxed; d=1e100.net; s=20230601; t=1761668759; x=1762273559; h=references:in-reply-to:cc:to:from:subject:message-id:date :x-gm-message-state:from:to:cc:subject:date:message-id:reply-to; bh=NjTQwgUO0OTeOt0BU40dzntYufyfN19M5OdgVPkj2aI=; b=UQCvbx6sBQy0jIt4nnkhrLMjVaqr7zxVsoQ4WbuiMrpYUmespql+9nB/27La8Orus+ 0LiE1u7kyqnQMjlV8IPEu/v1ZHzNqvDE4CvpR0AkZc3l78qiUbeqzGWmQeogUOhOkrem vcdTUwafvrO7tn6o455MmYE9DPMKvE4pvZEk8AlBsDy6idXZwZFVxMPAsNLUgp39CETT H3sVeyfRyIWn3XChW4U6u2oP7X0tjIiEYuwQD54b3E1ox4QEZzeDfk9jkK7bBaoDoram OJxBZgEzKoRmYK1H7wR410e2OoQjsXcpLrz0fvN6imyXF0ZIR1a35ot8HDPeh7uuR/ko wuzg== X-Gm-Message-State: AOJu0Yysu/RNABiZ+OWpf5tbf3E70AWlZHatuqZUmJrrxMAiSCjPDW85 IRz7BqEvvMjrjMCs/w5uxeGoC7hVgNZa+GOwZElnSAgb6YqsdWSSNhkn3WR4gf62ijC5UwCi2dT wWTpZ0npCZg2tem0d4Wv6KVp9N7UgvTbGT9FsSS9OHU/etRMeEm47vXiBTODF X-Gm-Gg: ASbGncvSh+jkaorNx1cfCClXvxql4SvG3amc8pxsqQ7qU/8d7HtJGpvwLrtqbMz7cBP 9Qu5X88VB8XDPnhOrt0e/nSqqT2l+in3rAUkcCe6ovHUdp7gcY9rU5+/7L+n9SfZlcvTL6pZKcm n6nvDA9wtDY2FHv80M57Z/52Dnd1aP+9enwML2zeFWrMehfChszXzA2gyw54q+XClch7zDP9vQ7 toGcwOMzt8jepdQKfphUFyexR1pzkIDva7Y1TbWu8Q6E+UzFMZ0GjN40JZoppmn6CJcr44bt1jZ 6ktNXnfVKmBkwObijReNriWTtLLmgFtiZo782FdNmwqKHDPunExkaOW6JKNLU3oTzLoACzNIctF uDqV0K3hD X-Google-Smtp-Source: AGHT+IEo5ytWLZWbokSb0XroUtbhibr7RFOlEbc7CFfJWq7Rfg6d49Y/mC5iL0KujUIJFVl7Fjt4ddOy9ast X-Received: by 2002:a05:690c:6089:b0:784:886e:7c4a with SMTP id 00721157ae682-786190e34bamr33818127b3.24.1761668758999; Tue, 28 Oct 2025 09:25:58 -0700 (PDT) Received: from postal.iol.unh.edu (postal.iol.unh.edu. [2606:4100:3880:1234::84]) by smtp-relay.gmail.com with ESMTPS id 00721157ae682-785ed18d220sm7851917b3.12.2025.10.28.09.25.58 (version=TLS1_2 cipher=ECDHE-ECDSA-AES128-GCM-SHA256 bits=128/128); Tue, 28 Oct 2025 09:25:58 -0700 (PDT) X-Relaying-Domain: iol.unh.edu Date: Tue, 28 Oct 2025 09:25:58 -0700 (PDT) Message-ID: <6900ee96.050a0220.382e1.3fa0SMTPIN_ADDED_MISSING@mx.google.com> Received: from [172.21.0.2] (unknown [172.18.0.240]) by postal.iol.unh.edu (Postfix) with ESMTP id 5FADD6050A61; Tue, 28 Oct 2025 12:25:58 -0400 (EDT) Subject: |SUCCESS| pw158182 [PATCH] net/mlx5: store rxq MTU at allocation tim From: dpdklab@iol.unh.edu To: Test Report Cc: dpdk-test-reports@iol.unh.edu In-Reply-To: <20251028100144.36284-1-a.schollmeyer@syseleven.de> References: <20251028100144.36284-1-a.schollmeyer@syseleven.de> Content-Type: text/plain X-BeenThere: test-report@dpdk.org X-Mailman-Version: 2.1.29 Precedence: list List-Id: automatic DPDK test reports List-Unsubscribe: , List-Archive: List-Post: List-Help: List-Subscribe: , Errors-To: test-report-bounces@dpdk.org Test-Label: iol-unit-amd64-testing Test-Status: SUCCESS http://dpdk.org/patch/158182 _Testing PASS_ Submitter: Adrian Schollmeyer Date: Tuesday, October 28 2025 10:01:44 DPDK git baseline: Repo:dpdk-next-net-mlx Branch: master CommitID:39b54f2dcf44ad1f91eabc7080cd5dea763607fd 158182 --> testing pass Upstream job id: Generic-VM-Unit-Test-DPDK#32117 Test environment and result as below: +-------------------------------+----------------+ | Environment | dpdk_unit_test | +===============================+================+ | Debian GNU/Linux 12 | PASS | +-------------------------------+----------------+ | CentOS Stream 10 | PASS | +-------------------------------+----------------+ | CentOS Stream 9 | PASS | +-------------------------------+----------------+ | Fedora Linux 41 | PASS | +-------------------------------+----------------+ | Fedora Linux 40 | PASS | +-------------------------------+----------------+ | Red Hat Enterprise Linux 8.10 | PASS | +-------------------------------+----------------+ | Fedora Linux 42 | PASS | +-------------------------------+----------------+ | Red Hat Enterprise Linux 9.5 | PASS | +-------------------------------+----------------+ | Ubuntu 24.04 | PASS | +-------------------------------+----------------+ | Ubuntu 22.04 | PASS | +-------------------------------+----------------+ | Ubuntu 20.04 | PASS | +-------------------------------+----------------+ | Windows Server 2022 | PASS | +-------------------------------+----------------+ Debian GNU/Linux 12 Kernel: 5.15 Compiler: gcc gcc (Debian 12.2.0-14+deb12u1) 12.2.0 CentOS Stream 10 Kernel: 5.15 Compiler: gcc gcc (GCC) 14.2.1 20250110 (Red Hat 14.2.1-8) CentOS Stream 9 Kernel: 5.15 Compiler: gcc gcc (GCC) 11.5.0 20240719 (Red Hat 11.5.0-11) Fedora Linux 41 Kernel: 5.15 Compiler: gcc gcc (GCC) 14.3.1 20250523 (Red Hat 14.3.1-1) Fedora Linux 40 Kernel: 5.15 Compiler: gcc gcc (GCC) 14.2.1 20240912 (Red Hat 14.2.1-3) Red Hat Enterprise Linux 8.10 Kernel: 5.15 Compiler: gcc gcc (GCC) 8.5.0 20210514 (Red Hat 8.5.0-22) Fedora Linux 42 Kernel: 5.15 Compiler: gcc gcc (GCC) 15.2.1 20250808 (Red Hat 15.2.1-1) Red Hat Enterprise Linux 9.5 Kernel: 5.15 Compiler: gcc gcc (GCC) 11.5.0 20240719 (Red Hat 11.5.0-2) Ubuntu 24.04 Kernel: 5.15 Compiler: gcc gcc (Ubuntu 13.3.0-6ubuntu2~24.04) 13.3.0 Ubuntu 22.04 Kernel: 5.15 Compiler: gcc gcc (Ubuntu 11.4.0-1ubuntu1~22.04) 11.4.0 Ubuntu 20.04 Kernel: 5.15 Compiler: gcc gcc (Ubuntu 9.4.0-1ubuntu1~20.04.2) 9.4.0 Windows Server 2022 Kernel: 10.0.20348.2031 Compiler: clang 15.0.7, gcc 14.1.0 (MinGW), and MSVC VS 19.39.33521 To view detailed results, visit: https://lab.dpdk.org/results/dashboard/patchsets/34398/ UNH-IOL DPDK Community Lab To manage your email subscriptions, visit: https://lab.dpdk.org/results/dashboard/preferences/subscriptions/