From mboxrd@z Thu Jan 1 00:00:00 1970 Return-Path: Received: from mails.dpdk.org (mails.dpdk.org [217.70.189.124]) by inbox.dpdk.org (Postfix) with ESMTP id 178F948A03 for ; Tue, 28 Oct 2025 17:38:12 +0100 (CET) Received: from mails.dpdk.org (localhost [127.0.0.1]) by mails.dpdk.org (Postfix) with ESMTP id E2DA34021E; Tue, 28 Oct 2025 17:38:11 +0100 (CET) Received: from mail-pf1-f226.google.com (mail-pf1-f226.google.com [209.85.210.226]) by mails.dpdk.org (Postfix) with ESMTP id A46E64021E for ; Tue, 28 Oct 2025 17:38:10 +0100 (CET) Received: by mail-pf1-f226.google.com with SMTP id d2e1a72fcca58-781206cce18so90770b3a.0 for ; Tue, 28 Oct 2025 09:38:10 -0700 (PDT) DKIM-Signature: v=1; a=rsa-sha256; c=relaxed/relaxed; d=iol.unh.edu; s=unh-iol; t=1761669490; x=1762274290; darn=dpdk.org; h=references:in-reply-to:cc:to:from:subject:message-id:date:from:to :cc:subject:date:message-id:reply-to; bh=BH2MyvtV/0LuwIyYCjSiUeSbh8Aw2l3XtUV5mOQutFg=; b=aE+10gRDVy5oenVPgygucqFWM4VLc17EtIZlZfBMbeQr5khg1yAFIs5WcUTHkiMDi+ /f+wASaTS6tVF4KS+NyKHUm5x/7Xeccfe9NJxSPeZuPj2v3ZDjLz7Yoin4wtLB6EWsrY JW7UXL4PRSELLYTRsMFJ4iDTAFUbNlX4RInuA= X-Google-DKIM-Signature: v=1; a=rsa-sha256; c=relaxed/relaxed; d=1e100.net; s=20230601; t=1761669490; x=1762274290; h=references:in-reply-to:cc:to:from:subject:message-id:date :x-gm-message-state:from:to:cc:subject:date:message-id:reply-to; bh=BH2MyvtV/0LuwIyYCjSiUeSbh8Aw2l3XtUV5mOQutFg=; b=dEKVk1peGKEB3kGE29Eu//18UQ4yhhiLJ5JrZ/0e24sQmxV6Lcbv39KKwQyMbWYs8C F7ezDVG2F9jJFPfv6R0AfxVw2fBDQ7TDmqYh2ZZbDc2UE2IPm/VJMVN6fQqIyyV3mSRG mUXYGuCjTdM+6WaTwYlOrcS0pOJ3g0ewUvgwxa2jx4IzX9/4cv5IO68QTtS2RrBXDEJo P3Uhl/XoO1Y8Pjg13gcwsxD2xrMm03Od7i727NzrD3aaaIxJQIwQL5ylaOpDYgkhKZaD 6ojDgSHWtnWtQKKYE7BDoCUw2ppFrNb/afLjJIclQSqSDuCVVD0ADo7WPntT298h9d0K qgkg== X-Gm-Message-State: AOJu0Yy9v3WavJWd5Hu3WtpBOQX5708ICthe9LDY/YRfuV90LSqGKZYb um2IdRIM64SERUgyTszpoLNb1Wcoe/BSUtOxifKWq0NQ6p5kYo4MT2d7qzB49LbW8spvBF/bZpK QVc3gVx1VLJC66mzsN+ano8dGHDlXybgOab1vecD6OkXc X-Gm-Gg: ASbGncu3d90kZgknCP6mszLOvcAdA3W3KYfu2Gp9f68786kI1kAAmDFVTr2z1t5bmwA pZOi6CxeiDnJ+Fiq2lLvC/G5088yyfcgRfXtumcuLQ38JYNOxPwYC+e2R3vBKF7DZjp3gkY0u8a T5srYMtaCXYtJvEyVISEUKkPlTUcVMWrllU4zOMzRORNKPrPwyk2fU+2yBUOkSSxOPtY15Xy7T+ A63wf48uFngKqGobwNSpDozye8DvIomuWrC1rpoz3mruiBkAUbMnQIrbBAIkP6Qm2nN8yrtzjPz veVnItKOhhmnDqwGh7SbXtOiYmwRJbiQePcdXrHafcqSrnTCk0QjREJooBZboWM2rTjIRRaa2/M Oe1E+rqvxAHr5jvNp4sWIKW4bI7SYMgM= X-Google-Smtp-Source: AGHT+IH50ox7sTn7f5VNv/nho5nCCajF3qqu+N+QxV6KReKbTKwzpgEzaMSPbn7cy93KpjKaCWX/ogX2UnaP X-Received: by 2002:a05:6a20:9188:b0:340:d7a6:e4f0 with SMTP id adf61e73a8af0-344de1d7f19mr5319606637.7.1761669489745; Tue, 28 Oct 2025 09:38:09 -0700 (PDT) Received: from postal.iol.unh.edu (postal.iol.unh.edu. [132.177.123.84]) by smtp-relay.gmail.com with ESMTPS id 41be03b00d2f7-b73b68d86basm760502a12.14.2025.10.28.09.38.09 (version=TLS1_2 cipher=ECDHE-ECDSA-AES128-GCM-SHA256 bits=128/128); Tue, 28 Oct 2025 09:38:09 -0700 (PDT) X-Relaying-Domain: iol.unh.edu Date: Tue, 28 Oct 2025 09:38:09 -0700 (PDT) Message-ID: <6900f171.050a0220.3891bf.2672SMTPIN_ADDED_MISSING@mx.google.com> Received: from [172.21.0.2] (unknown [172.18.0.240]) by postal.iol.unh.edu (Postfix) with ESMTP id DEF8B604D420; Tue, 28 Oct 2025 12:38:08 -0400 (EDT) Subject: |SUCCESS| pw158179 [PATCH] net/mlx5: store rxq MTU at allocation tim From: dpdklab@iol.unh.edu To: Test Report Cc: dpdk-test-reports@iol.unh.edu In-Reply-To: <20251028095240.35281-1-a.schollmeyer@syseleven.de> References: <20251028095240.35281-1-a.schollmeyer@syseleven.de> Content-Type: text/plain X-BeenThere: test-report@dpdk.org X-Mailman-Version: 2.1.29 Precedence: list List-Id: automatic DPDK test reports List-Unsubscribe: , List-Archive: List-Post: List-Help: List-Subscribe: , Errors-To: test-report-bounces@dpdk.org Test-Label: iol-unit-arm64-testing Test-Status: SUCCESS http://dpdk.org/patch/158179 _Testing PASS_ Submitter: Adrian Schollmeyer Date: Tuesday, October 28 2025 09:52:40 DPDK git baseline: Repo:dpdk-next-net-mlx Branch: master CommitID:39b54f2dcf44ad1f91eabc7080cd5dea763607fd 158179 --> testing pass Upstream job id: Generic-Unit-Test-DPDK#386015 Test environment and result as below: +------------------------------+----------------+--------------+------------------------------+---------------------------+ | Environment | dpdk_unit_test | lpm_autotest | cryptodev_sw_snow3g_autotest | cryptodev_sw_zuc_autotest | +==============================+================+==============+==============================+===========================+ | Ubuntu 20.04 | PASS | PASS | SKIPPED | SKIPPED | +------------------------------+----------------+--------------+------------------------------+---------------------------+ | Fedora Linux 40 | PASS | SKIPPED | SKIPPED | SKIPPED | +------------------------------+----------------+--------------+------------------------------+---------------------------+ | CentOS Stream 9 | PASS | SKIPPED | SKIPPED | SKIPPED | +------------------------------+----------------+--------------+------------------------------+---------------------------+ | Fedora Linux 41 | PASS | SKIPPED | SKIPPED | SKIPPED | +------------------------------+----------------+--------------+------------------------------+---------------------------+ | CentOS Stream 10 | PASS | SKIPPED | SKIPPED | SKIPPED | +------------------------------+----------------+--------------+------------------------------+---------------------------+ | Fedora Linux 42 | PASS | SKIPPED | SKIPPED | SKIPPED | +------------------------------+----------------+--------------+------------------------------+---------------------------+ | Debian GNU/Linux 12 | PASS | SKIPPED | SKIPPED | SKIPPED | +------------------------------+----------------+--------------+------------------------------+---------------------------+ | Red Hat Enterprise Linux 9.5 | PASS | SKIPPED | SKIPPED | SKIPPED | +------------------------------+----------------+--------------+------------------------------+---------------------------+ | Ubuntu 22.04 | PASS | SKIPPED | SKIPPED | SKIPPED | +------------------------------+----------------+--------------+------------------------------+---------------------------+ | Ubuntu 24.04 | PASS | SKIPPED | SKIPPED | SKIPPED | +------------------------------+----------------+--------------+------------------------------+---------------------------+ | Debian 12 (arm) | SKIPPED | SKIPPED | PASS | PASS | +------------------------------+----------------+--------------+------------------------------+---------------------------+ Ubuntu 20.04 Kernel: 5.4 Compiler: gcc gcc (Ubuntu 9.4.0-1ubuntu1~20.04.2) 9.4.0 Fedora Linux 40 Kernel: 5.4 Compiler: clang gcc (GCC) 14.2.1 20240912 (Red Hat 14.2.1-3) CentOS Stream 9 Kernel: 5.4 Compiler: gcc gcc (GCC) 11.5.0 20240719 (Red Hat 11.5.0-11) Fedora Linux 41 Kernel: 5.4 Compiler: gcc gcc (GCC) 14.3.1 20250523 (Red Hat 14.3.1-1) CentOS Stream 10 Kernel: 5.4 Compiler: gcc gcc (GCC) 14.2.1 20250110 (Red Hat 14.2.1-8) Fedora Linux 42 Kernel: 5.4 Compiler: clang gcc (GCC) 15.2.1 20250808 (Red Hat 15.2.1-1) Debian GNU/Linux 12 Kernel: 5.4 Compiler: gcc gcc (Debian 12.2.0-14+deb12u1) 12.2.0 Red Hat Enterprise Linux 9.5 Kernel: 5.4 Compiler: gcc gcc (GCC) 11.5.0 20240719 (Red Hat 11.5.0-2) Ubuntu 22.04 Kernel: 5.4 Compiler: gcc gcc (Ubuntu 11.4.0-1ubuntu1~22.04) 11.4.0 Ubuntu 24.04 Kernel: 5.4 Compiler: gcc gcc (Ubuntu 13.3.0-6ubuntu2~24.04) 13.3.0 Debian 12 (arm) Kernel: Depends on container host Compiler: gcc (Debian 12.2.0-14) 12.2.0 To view detailed results, visit: https://lab.dpdk.org/results/dashboard/patchsets/34396/ UNH-IOL DPDK Community Lab To manage your email subscriptions, visit: https://lab.dpdk.org/results/dashboard/preferences/subscriptions/