From mboxrd@z Thu Jan 1 00:00:00 1970 Return-Path: Received: from mails.dpdk.org (mails.dpdk.org [217.70.189.124]) by inbox.dpdk.org (Postfix) with ESMTP id 1108448A03 for ; Tue, 28 Oct 2025 17:55:34 +0100 (CET) Received: from mails.dpdk.org (localhost [127.0.0.1]) by mails.dpdk.org (Postfix) with ESMTP id E3C654028D; Tue, 28 Oct 2025 17:55:33 +0100 (CET) Received: from mail-pl1-f226.google.com (mail-pl1-f226.google.com [209.85.214.226]) by mails.dpdk.org (Postfix) with ESMTP id B21E64028D for ; Tue, 28 Oct 2025 17:55:32 +0100 (CET) Received: by mail-pl1-f226.google.com with SMTP id d9443c01a7336-292fd52d527so63417885ad.2 for ; Tue, 28 Oct 2025 09:55:32 -0700 (PDT) DKIM-Signature: v=1; a=rsa-sha256; c=relaxed/relaxed; d=iol.unh.edu; s=unh-iol; t=1761670532; x=1762275332; darn=dpdk.org; h=references:in-reply-to:cc:to:from:subject:message-id:date:from:to :cc:subject:date:message-id:reply-to; bh=79lZ6vXXcXiYLaTbNN/CnyPHM0cynTENQnJOvs3r2cY=; b=dGzhHXQqPkd5nHvDYdtkx3k65vw7q5MLY+5m8QIfyezHzvcX6P1MN6MmTPuFSISD9S hsHXLlVA+LSp2T6kVmzTDHk2VWzA6TaJ5aWiDDHoQ59c7sB2EFIHkQ5amWHuYJId8P+j SQa83aMcv8qfIJZAQL27FvGbjTvecK1ZcJqTc= X-Google-DKIM-Signature: v=1; a=rsa-sha256; c=relaxed/relaxed; d=1e100.net; s=20230601; t=1761670532; x=1762275332; h=references:in-reply-to:cc:to:from:subject:message-id:date :x-gm-message-state:from:to:cc:subject:date:message-id:reply-to; bh=79lZ6vXXcXiYLaTbNN/CnyPHM0cynTENQnJOvs3r2cY=; b=iVTv2M0v9n5w1qXOc5Omy55sf2D2xPSIP+HdmML3Sw9sZlSVu8l267c4KYFz/sse8C FhnhWfJMapt3J1x8IvhhR6lamT+NPNnxk38eBhDQ4r44m0p0j3rybUYunZHd160riI8H d10xYclvc6G6wBb8pgyghdl5a0TEteFL+qqbhBHlOQwyXyV9UoyRUCs+SEewqDLVM2T3 pH2koZ9dEJ+vudKuP0HUndSbLXatiMx9cZp7WX5TOWASgCUeZTLUdt2Cqo/iMxuGfiG0 giKiONEfRX/k8CFncolDnwJk4ECpmah0iSHmJk9GMPg56N6+Htzycbr3wjqHShbBWyFk UDjg== X-Gm-Message-State: AOJu0YwwCZ6j3JqmbbakQuBzjQ0mJgU0oy9zJzZmhLaBUaqTqNJEWJfC 8gEk5cwWb2St9b8Ckp0vSt60ETwNlZNNS7Sp+8itXkQy5oEIEAKfqmeIxwcbGNACQy3qnQvXX+t 9jHGp2woRcQxvw0EnAPsNyN0nbfL61eAP1hIPMqD/4EGn X-Gm-Gg: ASbGncsf/KXwVCsPEJV1f8WgycRfEXMrON6YGI26m7J7HfbVM6hCqpgI0Zg4YAuU5BL vkgAhMp12L6a/j4T6qqNFGY2AiO1vH+x3n1KPzYXTuD2zBelrcMrfVwZ0+h20PzpK9Tyy9sGISe c3ZrLvetfSZYJXMQbIezDVf8OwC9877tP/rOWCshB0gHnHsV33hmCRTgS56OTgEpWyQzPTB9fqK igM3LCD3EnHeZMsjRXDNi2g3tipPR4mTMRwliXsbf3+fs/h1yphFYRbq4gz+UkzSbI8qtKfZOpn taGRV3U0Af7sL9IMy75UlYUQ9a/JKmCJMgVobTzId/NrcqzxUWIl2mUwpCt288Y5+Mig3Kn4UlU 6HL1L1rBIhUK0qWh5bIdHJX8fop4IRkE= X-Google-Smtp-Source: AGHT+IHs+aeModfcVhKmv4LEBmuGgC+wNQ0MEdfEiMrW9G0/fnRycBoQlpt/IMIh6YaH1lpX0Uf+SZcFKIFV X-Received: by 2002:a17:902:e886:b0:290:aa7c:dfd3 with SMTP id d9443c01a7336-294cb535e2emr60361445ad.45.1761670531673; Tue, 28 Oct 2025 09:55:31 -0700 (PDT) Received: from postal.iol.unh.edu (postal.iol.unh.edu. [132.177.123.84]) by smtp-relay.gmail.com with ESMTPS id d9443c01a7336-29498d297ddsm11017775ad.38.2025.10.28.09.55.31 (version=TLS1_2 cipher=ECDHE-ECDSA-AES128-GCM-SHA256 bits=128/128); Tue, 28 Oct 2025 09:55:31 -0700 (PDT) X-Relaying-Domain: iol.unh.edu Date: Tue, 28 Oct 2025 09:55:31 -0700 (PDT) Message-ID: <6900f583.170a0220.33b2e3.307cSMTPIN_ADDED_MISSING@mx.google.com> Received: from [172.21.0.2] (unknown [172.18.0.240]) by postal.iol.unh.edu (Postfix) with ESMTP id F031A604D420; Tue, 28 Oct 2025 12:55:30 -0400 (EDT) Subject: |SUCCESS| pw158182 [PATCH] net/mlx5: store rxq MTU at allocation tim From: dpdklab@iol.unh.edu To: Test Report Cc: dpdk-test-reports@iol.unh.edu In-Reply-To: <20251028100144.36284-1-a.schollmeyer@syseleven.de> References: <20251028100144.36284-1-a.schollmeyer@syseleven.de> Content-Type: text/plain X-BeenThere: test-report@dpdk.org X-Mailman-Version: 2.1.29 Precedence: list List-Id: automatic DPDK test reports List-Unsubscribe: , List-Archive: List-Post: List-Help: List-Subscribe: , Errors-To: test-report-bounces@dpdk.org Test-Label: iol-unit-amd64-testing Test-Status: SUCCESS http://dpdk.org/patch/158182 _Testing PASS_ Submitter: Adrian Schollmeyer Date: Tuesday, October 28 2025 10:01:44 DPDK git baseline: Repo:dpdk-next-net-mlx Branch: master CommitID:39b54f2dcf44ad1f91eabc7080cd5dea763607fd 158182 --> testing pass Upstream job id: Generic-VM-Unit-Test-DPDK#32118 Test environment and result as below: +-------------------------------+----------------+ | Environment | dpdk_unit_test | +===============================+================+ | Debian GNU/Linux 12 | PASS | +-------------------------------+----------------+ | CentOS Stream 10 | PASS | +-------------------------------+----------------+ | CentOS Stream 9 | PASS | +-------------------------------+----------------+ | Fedora Linux 41 | PASS | +-------------------------------+----------------+ | Fedora Linux 40 | PASS | +-------------------------------+----------------+ | Red Hat Enterprise Linux 8.10 | PASS | +-------------------------------+----------------+ | Fedora Linux 42 | PASS | +-------------------------------+----------------+ | Red Hat Enterprise Linux 9.5 | PASS | +-------------------------------+----------------+ | Ubuntu 24.04 | PASS | +-------------------------------+----------------+ | Ubuntu 22.04 | PASS | +-------------------------------+----------------+ | Ubuntu 20.04 | PASS | +-------------------------------+----------------+ | Windows Server 2022 | PASS | +-------------------------------+----------------+ Debian GNU/Linux 12 Kernel: 5.15 Compiler: gcc gcc (Debian 12.2.0-14+deb12u1) 12.2.0 CentOS Stream 10 Kernel: 5.15 Compiler: gcc gcc (GCC) 14.2.1 20250110 (Red Hat 14.2.1-8) CentOS Stream 9 Kernel: 5.15 Compiler: gcc gcc (GCC) 11.5.0 20240719 (Red Hat 11.5.0-11) Fedora Linux 41 Kernel: 5.15 Compiler: gcc gcc (GCC) 14.3.1 20250523 (Red Hat 14.3.1-1) Fedora Linux 40 Kernel: 5.15 Compiler: gcc gcc (GCC) 14.2.1 20240912 (Red Hat 14.2.1-3) Red Hat Enterprise Linux 8.10 Kernel: 5.15 Compiler: gcc gcc (GCC) 8.5.0 20210514 (Red Hat 8.5.0-22) Fedora Linux 42 Kernel: 5.15 Compiler: gcc gcc (GCC) 15.2.1 20250808 (Red Hat 15.2.1-1) Red Hat Enterprise Linux 9.5 Kernel: 5.15 Compiler: gcc gcc (GCC) 11.5.0 20240719 (Red Hat 11.5.0-2) Ubuntu 24.04 Kernel: 5.15 Compiler: gcc gcc (Ubuntu 13.3.0-6ubuntu2~24.04) 13.3.0 Ubuntu 22.04 Kernel: 5.15 Compiler: gcc gcc (Ubuntu 11.4.0-1ubuntu1~22.04) 11.4.0 Ubuntu 20.04 Kernel: 5.15 Compiler: gcc gcc (Ubuntu 9.4.0-1ubuntu1~20.04.2) 9.4.0 Windows Server 2022 Kernel: 10.0.20348.2031 Compiler: clang 15.0.7, gcc 14.1.0 (MinGW), and MSVC VS 19.39.33521 To view detailed results, visit: https://lab.dpdk.org/results/dashboard/patchsets/34398/ UNH-IOL DPDK Community Lab To manage your email subscriptions, visit: https://lab.dpdk.org/results/dashboard/preferences/subscriptions/