From mboxrd@z Thu Jan 1 00:00:00 1970 Return-Path: Received: from mails.dpdk.org (mails.dpdk.org [217.70.189.124]) by inbox.dpdk.org (Postfix) with ESMTP id 2E7F848A03 for ; Tue, 28 Oct 2025 17:57:15 +0100 (CET) Received: from mails.dpdk.org (localhost [127.0.0.1]) by mails.dpdk.org (Postfix) with ESMTP id 1C15E4028D; Tue, 28 Oct 2025 17:57:15 +0100 (CET) Received: from mail-pl1-f227.google.com (mail-pl1-f227.google.com [209.85.214.227]) by mails.dpdk.org (Postfix) with ESMTP id 2DDB640609 for ; Tue, 28 Oct 2025 17:57:13 +0100 (CET) Received: by mail-pl1-f227.google.com with SMTP id d9443c01a7336-290aaff555eso57647995ad.2 for ; Tue, 28 Oct 2025 09:57:13 -0700 (PDT) DKIM-Signature: v=1; a=rsa-sha256; c=relaxed/relaxed; d=iol.unh.edu; s=unh-iol; t=1761670632; x=1762275432; darn=dpdk.org; h=references:in-reply-to:cc:to:from:subject:message-id:date:from:to :cc:subject:date:message-id:reply-to; bh=XK+pGil7gTNPI52QnvjlYsVKu7VmpKYiCmkZ5QV8oP4=; b=YgZp2qExtQ/mwV1AZ86o1XZr0srk/OMNkA4Fp4tpMsJMtJonKkp5JDFjMa9dScND7F OXsbZjJ0JvgK+sN+DaOCmDVshCCIP+ecOqDtH7PHsTATPRei6iDJ06TiwzT9hINC5tqU nxarJZJlVirjxw/ttLGfJpERnPge8erbVB3lM= X-Google-DKIM-Signature: v=1; a=rsa-sha256; c=relaxed/relaxed; d=1e100.net; s=20230601; t=1761670632; x=1762275432; h=references:in-reply-to:cc:to:from:subject:message-id:date :x-gm-message-state:from:to:cc:subject:date:message-id:reply-to; bh=XK+pGil7gTNPI52QnvjlYsVKu7VmpKYiCmkZ5QV8oP4=; b=ip7iumHRcJD2BhO3q9SYLB8XLsGi596eQudMZEtN7yVeJEUXlTsV3xel/W12Ul2G/N vgPsHUIxhOZaF6ucDR62QevtDgW/BHoToVJiNefkvdTbmXzNnRHN6v6I6I625lOaKGNC Ab7eWJcCBbHqTflpSsF9H1t9+7iE4DsiY2EEknK5oRZccHw1xV1evTMk1gtcChgfT8/x XoNgghRokBij0PhXW/p5YkVFBfahqvtdEmAY20JbO5pnLV9Yk1icHPCbZ6UYOw8NeGvI cx8F6/a+7iIlu/nhGc9SXSuc9elzGFN42L9ZocwKGQLGQkk43KjvcKXGm1Ieru9UvQMr okew== X-Gm-Message-State: AOJu0Yw6kVkm5z9qWX6Lh4BYdAGtCdezgSNQu80ZWCIz8811ITawXxoe eDeb/GHkgkCJf5WypPKiaERQX6wS4AVye8kSZqyvCHT7y8VrmRQ3BDm6Yi72GH/Pzo4MIy93tq4 gMOw5YmThppbXTQ7+Z4W/A1/r3TK7fFi2krIG71g4rCwH359ntx5V+vRhWm0t X-Gm-Gg: ASbGncu8WKkkzYuvyTnq+/uyKQhaLGEedy0GTPVnpfx+bw+CY/3EjZOKkZNDnk7XLuW czMiMGy1Vzf1IKJfdHWm0OxqadDFDZfy6cUC8CxMgfskSU0tTYUkmIIZJvvTZswdmVS+lcvDU09 4hJVaaYylY4ZYapmSQYfK33TKHLmSycwP17G67UD2I8SoQJWy1g7YJEZNUK2QqqeNCXGje173+4 biQLUUo+2Xbyl2TeqKdWfNMQpjVZYA05PXVh9Yla6V59xe3W/9Erlqq7rpuyAdbgdSJmo0ZvpJ3 5avMa24fBgmEsyMIgHJwvEYdeoto987U1QCb+POGn7qIx+x2UGrFmrfOnxAfG1gTVXViDEaKGBc D+nOwETi6 X-Google-Smtp-Source: AGHT+IF26j8Wp51Dzt1oGb2OtmOK1wctlbFmcbyKLuwIZwTy0sBaZ2mNIk4eoQEhHBBxKkaxsr+M62UEiC2Y X-Received: by 2002:a17:903:1a70:b0:270:4aa8:2dcc with SMTP id d9443c01a7336-294cb3d433cmr51073975ad.19.1761670632137; Tue, 28 Oct 2025 09:57:12 -0700 (PDT) Received: from postal.iol.unh.edu (postal.iol.unh.edu. [2606:4100:3880:1234::84]) by smtp-relay.gmail.com with ESMTPS id 98e67ed59e1d1-3402a3baae3sm264965a91.4.2025.10.28.09.57.12 (version=TLS1_2 cipher=ECDHE-ECDSA-AES128-GCM-SHA256 bits=128/128); Tue, 28 Oct 2025 09:57:12 -0700 (PDT) X-Relaying-Domain: iol.unh.edu Date: Tue, 28 Oct 2025 09:57:12 -0700 (PDT) Message-ID: <6900f5e8.170a0220.15c089.c782SMTPIN_ADDED_MISSING@mx.google.com> Received: from [172.21.0.2] (unknown [172.18.0.240]) by postal.iol.unh.edu (Postfix) with ESMTP id 5F71C604D420; Tue, 28 Oct 2025 12:57:11 -0400 (EDT) Subject: |SUCCESS| pw158180-158181 [PATCH] [2/2] net/mlx5: support PF represe From: dpdklab@iol.unh.edu To: Test Report Cc: dpdk-test-reports@iol.unh.edu, Stephen Hemminger In-Reply-To: <20251028095831.53669-2-getelson@nvidia.com> References: <20251028095831.53669-2-getelson@nvidia.com> Content-Type: text/plain X-BeenThere: test-report@dpdk.org X-Mailman-Version: 2.1.29 Precedence: list List-Id: automatic DPDK test reports List-Unsubscribe: , List-Archive: List-Post: List-Help: List-Subscribe: , Errors-To: test-report-bounces@dpdk.org Test-Label: iol-compile-arm64-testing Test-Status: SUCCESS http://dpdk.org/patch/158181 _Testing PASS_ Submitter: Gregory Etelson Date: Tuesday, October 28 2025 09:58:30 DPDK git baseline: Repo:dpdk-next-net Branch: master CommitID:11a6a4b1f19140ac3a57ace844be3cba00c39eaa 158180-158181 --> testing pass Upstream job id: Generic-DPDK-Compile-Meson#438497 Test environment and result as below: +------------------------------+--------------------+ | Environment | dpdk_meson_compile | +==============================+====================+ | Red Hat Enterprise Linux 9.5 | PASS | +------------------------------+--------------------+ | Ubuntu 20.04 | PASS | +------------------------------+--------------------+ | Debian GNU/Linux 12 | PASS | +------------------------------+--------------------+ | Fedora Linux 42 | PASS | +------------------------------+--------------------+ | Ubuntu 22.04 | PASS | +------------------------------+--------------------+ | Ubuntu 24.04 | PASS | +------------------------------+--------------------+ | CentOS Stream 9 | PASS | +------------------------------+--------------------+ | CentOS Stream 10 | PASS | +------------------------------+--------------------+ Red Hat Enterprise Linux 9.5 Kernel: 5.4 Compiler: gcc gcc (GCC) 11.5.0 20240719 (Red Hat 11.5.0-2) Ubuntu 20.04 Kernel: 5.15 Compiler: aarch64-linux-gnu-gcc gcc (Ubuntu 9.4.0-1ubuntu1~20.04.2) 9.4.0 Debian GNU/Linux 12 Kernel: 5.4 Compiler: gcc gcc (Debian 12.2.0-14+deb12u1) 12.2.0 Fedora Linux 42 Kernel: 5.4 Compiler: gcc gcc (GCC) 15.2.1 20250808 (Red Hat 15.2.1-1) Ubuntu 22.04 Kernel: 5.4 Compiler: gcc gcc (Ubuntu 11.4.0-1ubuntu1~22.04) 11.4.0 Ubuntu 24.04 Kernel: 5.4 Compiler: gcc gcc (Ubuntu 13.3.0-6ubuntu2~24.04) 13.3.0 CentOS Stream 9 Kernel: 5.4 Compiler: gcc gcc (GCC) 11.5.0 20240719 (Red Hat 11.5.0-11) CentOS Stream 10 Kernel: 5.4 Compiler: gcc gcc (GCC) 14.2.1 20250110 (Red Hat 14.2.1-8) To view detailed results, visit: https://lab.dpdk.org/results/dashboard/patchsets/34399/ UNH-IOL DPDK Community Lab To manage your email subscriptions, visit: https://lab.dpdk.org/results/dashboard/preferences/subscriptions/