From mboxrd@z Thu Jan 1 00:00:00 1970 Return-Path: Received: from mails.dpdk.org (mails.dpdk.org [217.70.189.124]) by inbox.dpdk.org (Postfix) with ESMTP id 4D4F248A03 for ; Tue, 28 Oct 2025 17:58:19 +0100 (CET) Received: from mails.dpdk.org (localhost [127.0.0.1]) by mails.dpdk.org (Postfix) with ESMTP id 45B0C4028D; Tue, 28 Oct 2025 17:58:19 +0100 (CET) Received: from mail-pj1-f99.google.com (mail-pj1-f99.google.com [209.85.216.99]) by mails.dpdk.org (Postfix) with ESMTP id B84B94028D for ; Tue, 28 Oct 2025 17:58:17 +0100 (CET) Received: by mail-pj1-f99.google.com with SMTP id 98e67ed59e1d1-34029c5beabso1297744a91.1 for ; Tue, 28 Oct 2025 09:58:17 -0700 (PDT) DKIM-Signature: v=1; a=rsa-sha256; c=relaxed/relaxed; d=iol.unh.edu; s=unh-iol; t=1761670697; x=1762275497; darn=dpdk.org; h=references:in-reply-to:cc:to:from:subject:message-id:date:from:to :cc:subject:date:message-id:reply-to; bh=4uCDpH0nYM+AJPNMz/BgW0in64CIY3pp9mB3U1zgu7Q=; b=JTHuyYRu4SgKKYUko8AndM8QyaZqrjKPKgUuEVsG43yh1FdsjSDPJGwKNgb2TFDARq widUq21goLv9zXTSsKSR3gUJ6SUHaHZ70DpOpLCm6kVnxYjEwf8zWQxgK21uDnOOwoZR aBeS4OOHi+GP+0zwHxcKD21PaGqJa12cG2HGg= X-Google-DKIM-Signature: v=1; a=rsa-sha256; c=relaxed/relaxed; d=1e100.net; s=20230601; t=1761670697; x=1762275497; h=references:in-reply-to:cc:to:from:subject:message-id:date :x-gm-message-state:from:to:cc:subject:date:message-id:reply-to; bh=4uCDpH0nYM+AJPNMz/BgW0in64CIY3pp9mB3U1zgu7Q=; b=pwJ7LhRwDXEXRBjyui7pqBbyr092KKI8DU11/Yz1cF/En3osezBD8xYu614vy04XIW 1OB4OruMEDOHAWHFP2hU8TaMdH4ysMEsp1Y9+yqrGM/G99QfAazUVdHNOjx4CDl2L9K+ asBXuj9nlYfnmHNbiUdEBCG6pepv4hBo+ZCp5ymYsIV8ZoOFpI4b6QUBZGmGVUR7rGT/ QjFp447nBUjbyK65GspEw8TPUkq+kW1hpeweRaDj/0hiwesG1RU40g3S+eAWlKUZgSQX xS4G7eo+sYB8i6sBTXqG9ztUKl2vjURWDrYL6gfIYb9wQwOuQBA3RQt4YMwuSNRk1z26 USBw== X-Gm-Message-State: AOJu0YwVzcNQhZDfEnjrch5EJ6yWOn+V2CafFSbZ7Q8+if26D3G+eto0 sDK4E920feiIrRMb/En5xhdgeYRyPseJmyWRPF0SXAne8MApqK0MBvFa88R3/Iluqi1I5ejClUv p6hKDbvxW+xRIMaefApUyALXBRiuJ3d+ET9h9coTtdbrY X-Gm-Gg: ASbGncv+4O4yHux7SCNyIWMB8jdfH9AhBqvbcqgk8rVNEl1R/fhR2BHb4/VymvV1lQ2 JZbKxdSbKstYsU7iolRWFkC1AAYwC7A/KAcApxg6ZCNAyIppc1CZebO/Q+wfrp7EyCNQnQlulxU 4Vg7r0yiKatdI4tl4qSmyzTSMUEzPZdc+nR7glhKlkYVTG8FcJ1djf2kFbZmanqrM6+WHOiUjSt Z2i9Tt6eYhIW0dUXjzyenx5iMpSHr5SO4t0ANhDJqXLBUTil6f12Pyx2yGc9KkVxbGgDUAae+J9 rBotRlWSN+ZHyvNBWnz6zXai6Z+oKQb1c4HrAWE7es4jex9IOZeJqA9htxa9U01097OUo7tmn0x jG0S0faS5pSnLRIEKZ1m1PSaB+naDH3Y= X-Google-Smtp-Source: AGHT+IH7tTDI7KyzBserwp1+2UG93xohHZSAZKVsxWjFDO0tONoZvQRBEiHdITDgYAMvUIjCK/6NIfRyowej X-Received: by 2002:a17:90b:5825:b0:339:ef05:3575 with SMTP id 98e67ed59e1d1-34027c0129emr5159699a91.26.1761670696831; Tue, 28 Oct 2025 09:58:16 -0700 (PDT) Received: from postal.iol.unh.edu (postal.iol.unh.edu. [132.177.123.84]) by smtp-relay.gmail.com with ESMTPS id 98e67ed59e1d1-3402a3baae3sm265257a91.4.2025.10.28.09.58.16 (version=TLS1_2 cipher=ECDHE-ECDSA-AES128-GCM-SHA256 bits=128/128); Tue, 28 Oct 2025 09:58:16 -0700 (PDT) X-Relaying-Domain: iol.unh.edu Date: Tue, 28 Oct 2025 09:58:16 -0700 (PDT) Message-ID: <6900f628.170a0220.15c089.c7bcSMTPIN_ADDED_MISSING@mx.google.com> Received: from [172.21.0.2] (unknown [172.18.0.240]) by postal.iol.unh.edu (Postfix) with ESMTP id 43EB8604D420; Tue, 28 Oct 2025 12:58:16 -0400 (EDT) Subject: |SUCCESS| pw158184 [PATCH] [v2] graph: fix xstats description alloca From: dpdklab@iol.unh.edu To: Test Report Cc: dpdk-test-reports@iol.unh.edu In-Reply-To: <20251028110920.16353-1-cfontain@redhat.com> References: <20251028110920.16353-1-cfontain@redhat.com> Content-Type: text/plain X-BeenThere: test-report@dpdk.org X-Mailman-Version: 2.1.29 Precedence: list List-Id: automatic DPDK test reports List-Unsubscribe: , List-Archive: List-Post: List-Help: List-Subscribe: , Errors-To: test-report-bounces@dpdk.org Test-Label: iol-unit-amd64-testing Test-Status: SUCCESS http://dpdk.org/patch/158184 _Testing PASS_ Submitter: Christophe Fontaine Date: Tuesday, October 28 2025 11:09:20 DPDK git baseline: Repo:dpdk Branch: master CommitID:39b54f2dcf44ad1f91eabc7080cd5dea763607fd 158184 --> testing pass Upstream job id: Generic-Unit-Test-DPDK#386135 Test environment and result as below: +-------------------------------+----------------+ | Environment | dpdk_unit_test | +===============================+================+ | CentOS Stream 9 | PASS | +-------------------------------+----------------+ | CentOS Stream 10 | PASS | +-------------------------------+----------------+ | Fedora Linux 41 | PASS | +-------------------------------+----------------+ | Fedora Linux 40 | PASS | +-------------------------------+----------------+ | Debian GNU/Linux 12 | PASS | +-------------------------------+----------------+ | Fedora Linux 42 | PASS | +-------------------------------+----------------+ | Red Hat Enterprise Linux 9.5 | PASS | +-------------------------------+----------------+ | Ubuntu 22.04 | PASS | +-------------------------------+----------------+ | Ubuntu 20.04 | PASS | +-------------------------------+----------------+ | Ubuntu 24.04 | PASS | +-------------------------------+----------------+ | Red Hat Enterprise Linux 8.10 | PASS | +-------------------------------+----------------+ CentOS Stream 9 Kernel: 5.15 Compiler: gcc gcc (GCC) 11.5.0 20240719 (Red Hat 11.5.0-11) CentOS Stream 10 Kernel: 5.15 Compiler: gcc gcc (GCC) 14.2.1 20250110 (Red Hat 14.2.1-8) Fedora Linux 41 Kernel: 5.15 Compiler: gcc gcc (GCC) 14.3.1 20250523 (Red Hat 14.3.1-1) Fedora Linux 40 Kernel: 5.15 Compiler: clang gcc (GCC) 14.2.1 20240912 (Red Hat 14.2.1-3) Debian GNU/Linux 12 Kernel: 5.15 Compiler: gcc gcc (Debian 12.2.0-14+deb12u1) 12.2.0 Fedora Linux 42 Kernel: 5.15 Compiler: gcc gcc (GCC) 15.2.1 20250808 (Red Hat 15.2.1-1) Red Hat Enterprise Linux 9.5 Kernel: 5.15 Compiler: gcc gcc (GCC) 11.5.0 20240719 (Red Hat 11.5.0-2) Ubuntu 22.04 Kernel: 5.15 Compiler: gcc gcc (Ubuntu 11.4.0-1ubuntu1~22.04) 11.4.0 Ubuntu 20.04 Kernel: 5.15 Compiler: gcc gcc (Ubuntu 9.4.0-1ubuntu1~20.04.2) 9.4.0 Ubuntu 24.04 Kernel: 5.15 Compiler: gcc gcc (Ubuntu 13.3.0-6ubuntu2~24.04) 13.3.0 Red Hat Enterprise Linux 8.10 Kernel: 5.15 Compiler: gcc gcc (GCC) 8.5.0 20210514 (Red Hat 8.5.0-22) To view detailed results, visit: https://lab.dpdk.org/results/dashboard/patchsets/34400/ UNH-IOL DPDK Community Lab To manage your email subscriptions, visit: https://lab.dpdk.org/results/dashboard/preferences/subscriptions/