From mboxrd@z Thu Jan 1 00:00:00 1970 Return-Path: Received: from mails.dpdk.org (mails.dpdk.org [217.70.189.124]) by inbox.dpdk.org (Postfix) with ESMTP id 48E8448A04 for ; Tue, 28 Oct 2025 18:18:27 +0100 (CET) Received: from mails.dpdk.org (localhost [127.0.0.1]) by mails.dpdk.org (Postfix) with ESMTP id 265DA4021E; Tue, 28 Oct 2025 18:18:27 +0100 (CET) Received: from mail-pl1-f226.google.com (mail-pl1-f226.google.com [209.85.214.226]) by mails.dpdk.org (Postfix) with ESMTP id 66AAA4021E for ; Tue, 28 Oct 2025 18:18:26 +0100 (CET) Received: by mail-pl1-f226.google.com with SMTP id d9443c01a7336-2697899a202so898345ad.0 for ; Tue, 28 Oct 2025 10:18:26 -0700 (PDT) DKIM-Signature: v=1; a=rsa-sha256; c=relaxed/relaxed; d=iol.unh.edu; s=unh-iol; t=1761671905; x=1762276705; darn=dpdk.org; h=references:in-reply-to:cc:to:from:subject:message-id:date:from:to :cc:subject:date:message-id:reply-to; bh=H6Sx+BtyCTocCC2oQLAUCkSwwkl9Q8jr/y3aAKf1TSo=; b=PGAwfS5CzWBw2db2NRkUJEHO2heGv2Pm/ZUCQhan4vhSKqJDea1L7LhExjCjrwUQTU T00rhmb4qoEwhoa/1ttky+5bMuJ2X41xMGONN5Zd+wKqmT6fCIR//LosKzqFSyYpTsH6 PDgg/gjSgmaOszziPDRTDFdwK6/KSuNd+WA7Q= X-Google-DKIM-Signature: v=1; a=rsa-sha256; c=relaxed/relaxed; d=1e100.net; s=20230601; t=1761671905; x=1762276705; h=references:in-reply-to:cc:to:from:subject:message-id:date :x-gm-message-state:from:to:cc:subject:date:message-id:reply-to; bh=H6Sx+BtyCTocCC2oQLAUCkSwwkl9Q8jr/y3aAKf1TSo=; b=xQjNwj2Taa6/natLNtjj/PicC5D/pDq22iOmbVs5voNX0G3U3HCGGbeVfkAxteo4RA 2MDrMOKXqphzN9mkCuaD+tUvks1UIdmtaVUmQXYGIqN4CZHeqcIp5lfsjnbcZJQIx41p bUAToGvY/jIMvV0HIXBbxkxPgxzK7WDKuLtul7REfw/rzRehzKDXxIrTfDMYJNhI26aP vcZL/VwWmQ50L29qKevNEacjCSHPFPlZcjZzaHPKXwaiXn/tN61gYLIEzQAVVzJIc6Oo bkA+lFbSHX0MWlfKyUY99btdxDCUD+zx5dV9zydtA3CHaTJP+hu55D/xmwYruM45t56G zRow== X-Gm-Message-State: AOJu0YyhfRUgbulVit+K1tLQIEWv0tQg6iWAm46Da9z2zWOWCZwz7U35 RjUTMVWvFlPwqbYEoDUHYqLNb4QuHP6pN4ffLvgBDcAmkPDo9MKjOfYrpoQvBWKrUWJ+PajxUqG kqLy9Qeh16CTuOnnEwDd71kAwLysVqMYVF65PXiV8oji8 X-Gm-Gg: ASbGncuUHp9qFsQlIROgHn2M4zRn8tzbVC9WHwsjLdK0QA5LxDqPH2ULzBoo0gT/WEw 3FNrISDRoVxks3ss0pwgfdRyltk/TXnlyL+UVs1EX4LQjOIhOLrSe0hlB+VHq7C2a8p0o4O6HUh 6Nj54VSxJ48nPdrlH2TZyj2TLsEdpWqEWlWG5NQZHcZ0/sW6g+w+1qA+UlGWOvAh4GBpTd0Y3J7 6vcOA7wGbcRAR1y/bntckHjGRbDtsUD4xIN430jk73JYiR1OtvRltIieJxBba4SaiNZCBwbmAAx 2Dnh0lcSm5rE7W1sNsSC3WSUjRPUzH5tFNHtEFwf7OD1MQdOuZhhuw4kdUQSjvLTX6gtGQYXmEE +IBJ2FT+Hr2OFUWRsFd1eEpaKXduvX+E= X-Google-Smtp-Source: AGHT+IEEIVxdK6inLdcrvJgSwb0K4Co3yZbKB7Ffv91Ah1aerryxKQCqxFEh7+EPbCNcqPTR6Lp+HgvCFBrj X-Received: by 2002:a17:902:c410:b0:26a:6d5a:944e with SMTP id d9443c01a7336-294cc753be9mr43052235ad.24.1761671905319; Tue, 28 Oct 2025 10:18:25 -0700 (PDT) Received: from postal.iol.unh.edu (postal.iol.unh.edu. [132.177.123.84]) by smtp-relay.gmail.com with ESMTPS id d9443c01a7336-29498d274e5sm10730325ad.28.2025.10.28.10.18.25 (version=TLS1_2 cipher=ECDHE-ECDSA-AES128-GCM-SHA256 bits=128/128); Tue, 28 Oct 2025 10:18:25 -0700 (PDT) X-Relaying-Domain: iol.unh.edu Date: Tue, 28 Oct 2025 10:18:25 -0700 (PDT) Message-ID: <6900fae1.170a0220.1582da.1044SMTPIN_ADDED_MISSING@mx.google.com> Received: from [172.21.0.3] (unknown [172.18.0.240]) by postal.iol.unh.edu (Postfix) with ESMTP id 94A39604D420; Tue, 28 Oct 2025 13:18:24 -0400 (EDT) Subject: |WARNING| pw158180-158181 [PATCH] [2/2] net/mlx5: support PF represe From: dpdklab@iol.unh.edu To: Test Report Cc: dpdk-test-reports@iol.unh.edu, Stephen Hemminger In-Reply-To: <20251028095831.53669-2-getelson@nvidia.com> References: <20251028095831.53669-2-getelson@nvidia.com> Content-Type: text/plain X-BeenThere: test-report@dpdk.org X-Mailman-Version: 2.1.29 Precedence: list List-Id: automatic DPDK test reports List-Unsubscribe: , List-Archive: List-Post: List-Help: List-Subscribe: , Errors-To: test-report-bounces@dpdk.org Test-Label: iol-compile-amd64-testing Test-Status: WARNING http://dpdk.org/patch/158181 _Testing issues_ Submitter: Gregory Etelson Date: Tuesday, October 28 2025 09:58:30 DPDK git baseline: Repo:dpdk-next-net Branch: master CommitID:11a6a4b1f19140ac3a57ace844be3cba00c39eaa 158180-158181 --> testing issues Upstream job id: Windows-Compile-DPDK-VS#7343 Test environment and result as below: +-------------------------------+--------------------+-------------------+------------------+-------------------+ | Environment | dpdk_meson_compile | dpdk_compile_spdk | dpdk_compile_ovs | dpdk_msvc_compile | +===============================+====================+===================+==================+===================+ | FreeBSD 14.2 | PASS | SKIPPED | SKIPPED | SKIPPED | +-------------------------------+--------------------+-------------------+------------------+-------------------+ | Ubuntu 20.04 | PASS | SKIPPED | SKIPPED | SKIPPED | +-------------------------------+--------------------+-------------------+------------------+-------------------+ | CentOS Stream 9 | PASS | WARN | SKIPPED | SKIPPED | +-------------------------------+--------------------+-------------------+------------------+-------------------+ | CentOS Stream 10 | PASS | SKIPPED | SKIPPED | SKIPPED | +-------------------------------+--------------------+-------------------+------------------+-------------------+ | Debian GNU/Linux 12 | PASS | WARN | SKIPPED | SKIPPED | +-------------------------------+--------------------+-------------------+------------------+-------------------+ | Fedora Linux 42 | PASS | WARN | PASS | SKIPPED | +-------------------------------+--------------------+-------------------+------------------+-------------------+ | Red Hat Enterprise Linux 8.10 | PASS | SKIPPED | SKIPPED | SKIPPED | +-------------------------------+--------------------+-------------------+------------------+-------------------+ | openSUSE Leap 15.6 | PASS | SKIPPED | SKIPPED | SKIPPED | +-------------------------------+--------------------+-------------------+------------------+-------------------+ | Red Hat Enterprise Linux 9.5 | PASS | SKIPPED | SKIPPED | SKIPPED | +-------------------------------+--------------------+-------------------+------------------+-------------------+ | Ubuntu 22.04 | PASS | WARN | SKIPPED | SKIPPED | +-------------------------------+--------------------+-------------------+------------------+-------------------+ | Ubuntu 24.04 | PASS | WARN | PASS | SKIPPED | +-------------------------------+--------------------+-------------------+------------------+-------------------+ | Alpine Linux 3.22.0 | PASS | SKIPPED | SKIPPED | SKIPPED | +-------------------------------+--------------------+-------------------+------------------+-------------------+ | Windows Server 2022 | SKIPPED | SKIPPED | SKIPPED | PASS | +-------------------------------+--------------------+-------------------+------------------+-------------------+ ==== 20 line log output for Ubuntu 24.04 (dpdk_compile_spdk): ==== --- Failed to get log output --- ==== End log output ==== FreeBSD 14.2 Kernel: 14.2-RELEASE Compiler: clang 18.1.6 Ubuntu 20.04 Kernel: 4.19 Compiler: gcc gcc (Ubuntu 9.4.0-1ubuntu1~20.04.2) 9.4.0 CentOS Stream 9 Kernel: 5.15 Compiler: gcc gcc (GCC) 11.5.0 20240719 (Red Hat 11.5.0-11) CentOS Stream 10 Kernel: 5.15 Compiler: gcc gcc (GCC) 14.2.1 20250110 (Red Hat 14.2.1-8) Debian GNU/Linux 12 Kernel: 5.15 Compiler: gcc gcc (Debian 12.2.0-14+deb12u1) 12.2.0 Fedora Linux 42 Kernel: 5.15 Compiler: clang gcc (GCC) 15.2.1 20250808 (Red Hat 15.2.1-1) Red Hat Enterprise Linux 8.10 Kernel: 5.15 Compiler: gcc gcc (GCC) 8.5.0 20210514 (Red Hat 8.5.0-22) openSUSE Leap 15.6 Kernel: 5.15 Compiler: gcc gcc (SUSE Linux) 7.5.0 Red Hat Enterprise Linux 9.5 Kernel: 5.15 Compiler: gcc gcc (GCC) 11.5.0 20240719 (Red Hat 11.5.0-2) Ubuntu 22.04 Kernel: 5.15 Compiler: gcc gcc (Ubuntu 11.4.0-1ubuntu1~22.04) 11.4.0 Ubuntu 24.04 Kernel: 5.15 Compiler: gcc gcc (Ubuntu 13.3.0-6ubuntu2~24.04) 13.3.0 Alpine Linux 3.22.0 Kernel: 5.15 Compiler: gcc gcc (Alpine 14.2.0) 14.2.0 Windows Server 2022 Kernel: 10.0.20348.2031 Compiler: clang 15.0.7, gcc 14.1.0 (MinGW), and MSVC VS 19.39.33521 To view detailed results, visit: https://lab.dpdk.org/results/dashboard/patchsets/34399/ UNH-IOL DPDK Community Lab To manage your email subscriptions, visit: https://lab.dpdk.org/results/dashboard/preferences/subscriptions/