From mboxrd@z Thu Jan 1 00:00:00 1970 Return-Path: Received: from mails.dpdk.org (mails.dpdk.org [217.70.189.124]) by inbox.dpdk.org (Postfix) with ESMTP id 97FB248A05 for ; Tue, 28 Oct 2025 18:20:12 +0100 (CET) Received: from mails.dpdk.org (localhost [127.0.0.1]) by mails.dpdk.org (Postfix) with ESMTP id 71E9540611; Tue, 28 Oct 2025 18:20:12 +0100 (CET) Received: from mail-io1-f99.google.com (mail-io1-f99.google.com [209.85.166.99]) by mails.dpdk.org (Postfix) with ESMTP id 2C7AC40262 for ; Tue, 28 Oct 2025 18:20:10 +0100 (CET) Received: by mail-io1-f99.google.com with SMTP id ca18e2360f4ac-94359aa7f60so403835639f.0 for ; Tue, 28 Oct 2025 10:20:10 -0700 (PDT) DKIM-Signature: v=1; a=rsa-sha256; c=relaxed/relaxed; d=iol.unh.edu; s=unh-iol; t=1761672009; x=1762276809; darn=dpdk.org; h=references:in-reply-to:cc:to:from:subject:message-id:date:from:to :cc:subject:date:message-id:reply-to; bh=aXzEoRRjKB/SzzdfuHlG737a+1IBWJX8gwx2nEAUQ38=; b=AHsDIBoZE/9gl7+SnSPqNTG9119dIQ3+Qo9P9Dj9np5W3d1neN7aupP4Qjcpl+sNjN ppPr0W95hgOiMzvc8ILxDCHCDdKMjOVPSfQYisZVWoBe7XiBgtLz3wcFzOQiDZl4DxkN 1mUwTDAEigvtV/M2SQzev4DNo5ZvnfY0IDqk4= X-Google-DKIM-Signature: v=1; a=rsa-sha256; c=relaxed/relaxed; d=1e100.net; s=20230601; t=1761672009; x=1762276809; h=references:in-reply-to:cc:to:from:subject:message-id:date :x-gm-message-state:from:to:cc:subject:date:message-id:reply-to; bh=aXzEoRRjKB/SzzdfuHlG737a+1IBWJX8gwx2nEAUQ38=; b=cI4oP/Ytw/rRNNe8sAMhEy47eDym/mtfnFuMA3MN3SM5BD71HMnztKsCWQ7ArNEZxj tPno5EC/CAVAjq9sLAH5mZHmMU8vgfsxmlWKQkzXbYPJ2BGpMYrwGhugT3pl+zD/M1Qf kX0yFomHk1VDchRkY7x1fhpRUvBdZfM4BMZTUkJtAJvI/hvoumEiAkIp5CNIUUJgoqCm l1nyCaiM9od5TV/w9PN9Lw5tl3dQV83euH7wCsGxBDb1PCBpsOsSjbbMv/V468Sld4gV N5obfcplgHd7z5ojIx1r6DMthEBb5hpPTMvac0STr9PvDk6DugLUEHkx+r/yVy+488o9 tdzQ== X-Gm-Message-State: AOJu0YwVPxq0on2AuzW+YLTvydK7L2K9NK2zgjQHLXg/0FVoE4o70kFs MIMU8AcrYWdULJgRvuV2/5yqUVIpVUR35wFEHe7dtAZUw3fYThJgodM0kcDW4ocUOPEabeXeEgw 0caWkdRu98JnX7idS6Bq7cQoDs23gEiKuzKPDaQkm5vOG X-Gm-Gg: ASbGncvMC6nwRd1wOi10GEWy5mVDBsde8oPJf8k5hpftXxDEUpk5K/2roeCwUnaonq7 nZzwQNR8zwZdisD+DDGj527jRPjnkpvbOIagjOp7DYX54hh2mWrKvHlYelqpF1mCrSVE3o+WNrl 5dzLM7kNxoq/Sw+UJPCJHm6Edw0vJ1RjN3UYd9MFw+MA2ma6QfhE8iyJXfrbUE43WmI/P9mbWrA kAO2up/9NfAG+ZxaR6190UteISiCAgs2bwON86A08QneoJfaj0Bxpqj2+NSNaT3W1nlV5UMCZqb alOhAoY4F/pcgbQIveNdsBdcirIj11jPMMrkr2NgLZK1/I9PBEuiBgcxK/rCaGKg6adufpwXQgP HCqoKwwg34QAgfgq+MQslYhdxIRdfYiA= X-Google-Smtp-Source: AGHT+IEDHmokodk/wxar7RBQp3OQhemoIwU6xSCRhGa/24D0UF3WRMScaRc7KZiqhMujGiZX5DP9hsTIomyh X-Received: by 2002:a05:6e02:2584:b0:430:a65c:d7ce with SMTP id e9e14a558f8ab-432f831a5f2mr6711925ab.22.1761672009399; Tue, 28 Oct 2025 10:20:09 -0700 (PDT) Received: from postal.iol.unh.edu (postal.iol.unh.edu. [132.177.123.84]) by smtp-relay.gmail.com with ESMTPS id e9e14a558f8ab-431f688cbe7sm10630225ab.16.2025.10.28.10.20.09 (version=TLS1_2 cipher=ECDHE-ECDSA-AES128-GCM-SHA256 bits=128/128); Tue, 28 Oct 2025 10:20:09 -0700 (PDT) X-Relaying-Domain: iol.unh.edu Date: Tue, 28 Oct 2025 10:20:09 -0700 (PDT) Message-ID: <6900fb49.050a0220.179d77.11d6SMTPIN_ADDED_MISSING@mx.google.com> Received: from [172.21.0.2] (unknown [172.18.0.240]) by postal.iol.unh.edu (Postfix) with ESMTP id EB7F0604D420; Tue, 28 Oct 2025 13:20:08 -0400 (EDT) Subject: |WARNING| pw158178 [PATCH] [v1] net/mlx5: remove counter alignment From: dpdklab@iol.unh.edu To: Test Report Cc: dpdk-test-reports@iol.unh.edu In-Reply-To: <20251028092611.1755141-1-rongweil@nvidia.com> References: <20251028092611.1755141-1-rongweil@nvidia.com> Content-Type: text/plain X-BeenThere: test-report@dpdk.org X-Mailman-Version: 2.1.29 Precedence: list List-Id: automatic DPDK test reports List-Unsubscribe: , List-Archive: List-Post: List-Help: List-Subscribe: , Errors-To: test-report-bounces@dpdk.org Test-Label: iol-compile-amd64-testing Test-Status: WARNING http://dpdk.org/patch/158178 _Testing issues_ Submitter: Rongwei Liu Date: Tuesday, October 28 2025 09:26:11 DPDK git baseline: Repo:dpdk-next-net-mlx Branch: master CommitID:39b54f2dcf44ad1f91eabc7080cd5dea763607fd 158178 --> testing issues Upstream job id: Windows-Compile-DPDK-Native#31938 Test environment and result as below: +-------------------------------+--------------------+-------------------+------------------+-------------------+-------------------------+----------------------+ | Environment | dpdk_meson_compile | dpdk_compile_spdk | dpdk_compile_ovs | dpdk_msvc_compile | dpdk_llvm_clang_compile | dpdk_mingw64_compile | +===============================+====================+===================+==================+===================+=========================+======================+ | FreeBSD 14.2 | PASS | SKIPPED | SKIPPED | SKIPPED | SKIPPED | SKIPPED | +-------------------------------+--------------------+-------------------+------------------+-------------------+-------------------------+----------------------+ | Ubuntu 20.04 | PASS | SKIPPED | SKIPPED | SKIPPED | SKIPPED | SKIPPED | +-------------------------------+--------------------+-------------------+------------------+-------------------+-------------------------+----------------------+ | CentOS Stream 9 | PASS | WARN | SKIPPED | SKIPPED | SKIPPED | SKIPPED | +-------------------------------+--------------------+-------------------+------------------+-------------------+-------------------------+----------------------+ | CentOS Stream 10 | PASS | SKIPPED | SKIPPED | SKIPPED | SKIPPED | SKIPPED | +-------------------------------+--------------------+-------------------+------------------+-------------------+-------------------------+----------------------+ | Debian GNU/Linux 12 | PASS | WARN | SKIPPED | SKIPPED | SKIPPED | SKIPPED | +-------------------------------+--------------------+-------------------+------------------+-------------------+-------------------------+----------------------+ | Fedora Linux 42 | PASS | WARN | PASS | SKIPPED | SKIPPED | SKIPPED | +-------------------------------+--------------------+-------------------+------------------+-------------------+-------------------------+----------------------+ | openSUSE Leap 15.6 | PASS | SKIPPED | SKIPPED | SKIPPED | SKIPPED | SKIPPED | +-------------------------------+--------------------+-------------------+------------------+-------------------+-------------------------+----------------------+ | Red Hat Enterprise Linux 8.10 | PASS | SKIPPED | SKIPPED | SKIPPED | SKIPPED | SKIPPED | +-------------------------------+--------------------+-------------------+------------------+-------------------+-------------------------+----------------------+ | Red Hat Enterprise Linux 9.5 | PASS | SKIPPED | SKIPPED | SKIPPED | SKIPPED | SKIPPED | +-------------------------------+--------------------+-------------------+------------------+-------------------+-------------------------+----------------------+ | Ubuntu 22.04 | PASS | WARN | SKIPPED | SKIPPED | SKIPPED | SKIPPED | +-------------------------------+--------------------+-------------------+------------------+-------------------+-------------------------+----------------------+ | Ubuntu 24.04 | PASS | WARN | PASS | SKIPPED | SKIPPED | SKIPPED | +-------------------------------+--------------------+-------------------+------------------+-------------------+-------------------------+----------------------+ | Alpine Linux 3.22.0 | PASS | SKIPPED | SKIPPED | SKIPPED | SKIPPED | SKIPPED | +-------------------------------+--------------------+-------------------+------------------+-------------------+-------------------------+----------------------+ | Windows Server 2022 | SKIPPED | SKIPPED | SKIPPED | PASS | PASS | PASS | +-------------------------------+--------------------+-------------------+------------------+-------------------+-------------------------+----------------------+ ==== 20 line log output for Ubuntu 24.04 (dpdk_compile_spdk): ==== --- Failed to get log output --- ==== End log output ==== FreeBSD 14.2 Kernel: 14.2-RELEASE Compiler: clang 18.1.6 Ubuntu 20.04 Kernel: 4.19 Compiler: gcc gcc (Ubuntu 9.4.0-1ubuntu1~20.04.2) 9.4.0 CentOS Stream 9 Kernel: 5.15 Compiler: gcc gcc (GCC) 11.5.0 20240719 (Red Hat 11.5.0-11) CentOS Stream 10 Kernel: 5.15 Compiler: gcc gcc (GCC) 14.2.1 20250110 (Red Hat 14.2.1-8) Debian GNU/Linux 12 Kernel: 5.15 Compiler: gcc gcc (Debian 12.2.0-14+deb12u1) 12.2.0 Fedora Linux 42 Kernel: 5.15 Compiler: clang gcc (GCC) 15.2.1 20250808 (Red Hat 15.2.1-1) openSUSE Leap 15.6 Kernel: 5.15 Compiler: gcc gcc (SUSE Linux) 7.5.0 Red Hat Enterprise Linux 8.10 Kernel: 5.15 Compiler: gcc gcc (GCC) 8.5.0 20210514 (Red Hat 8.5.0-22) Red Hat Enterprise Linux 9.5 Kernel: 5.15 Compiler: gcc gcc (GCC) 11.5.0 20240719 (Red Hat 11.5.0-2) Ubuntu 22.04 Kernel: 5.15 Compiler: gcc gcc (Ubuntu 11.4.0-1ubuntu1~22.04) 11.4.0 Ubuntu 24.04 Kernel: 5.15 Compiler: gcc gcc (Ubuntu 13.3.0-6ubuntu2~24.04) 13.3.0 Alpine Linux 3.22.0 Kernel: 5.15 Compiler: gcc gcc (Alpine 14.2.0) 14.2.0 Windows Server 2022 Kernel: 10.0.20348.2031 Compiler: clang 15.0.7, gcc 14.1.0 (MinGW), and MSVC VS 19.39.33521 To view detailed results, visit: https://lab.dpdk.org/results/dashboard/patchsets/34395/ UNH-IOL DPDK Community Lab To manage your email subscriptions, visit: https://lab.dpdk.org/results/dashboard/preferences/subscriptions/