From mboxrd@z Thu Jan 1 00:00:00 1970 Return-Path: Received: from mails.dpdk.org (mails.dpdk.org [217.70.189.124]) by inbox.dpdk.org (Postfix) with ESMTP id 34EDA48A04 for ; Tue, 28 Oct 2025 18:22:14 +0100 (CET) Received: from mails.dpdk.org (localhost [127.0.0.1]) by mails.dpdk.org (Postfix) with ESMTP id 2DDF740611; Tue, 28 Oct 2025 18:22:14 +0100 (CET) Received: from mail-vs1-f100.google.com (mail-vs1-f100.google.com [209.85.217.100]) by mails.dpdk.org (Postfix) with ESMTP id C76C94021E for ; Tue, 28 Oct 2025 18:22:12 +0100 (CET) Received: by mail-vs1-f100.google.com with SMTP id ada2fe7eead31-5aa6b7c085aso7886017137.2 for ; Tue, 28 Oct 2025 10:22:12 -0700 (PDT) DKIM-Signature: v=1; a=rsa-sha256; c=relaxed/relaxed; d=iol.unh.edu; s=unh-iol; t=1761672132; x=1762276932; darn=dpdk.org; h=references:in-reply-to:cc:to:from:subject:message-id:date:from:to :cc:subject:date:message-id:reply-to; bh=6F0xGfvUD4A44q1KmfJZ204aJS3NjS1YOUXYJVNi5L8=; b=TRI863JL2OdFEoJfONVwlWYtrMTf/pVyvVZgbt0FPCivSOndl3J+U+uP6HasWTLBKS HHThHJ2+JULlLrwxU0sDMrR6+IGMUXMtnXWTN6FKLNP5wZJqm/+pXJ7+Lluz3deFPbXG kAXb7Bd2TMUZH3TnAdtSEpErgno8asrGlT1SU= X-Google-DKIM-Signature: v=1; a=rsa-sha256; c=relaxed/relaxed; d=1e100.net; s=20230601; t=1761672132; x=1762276932; h=references:in-reply-to:cc:to:from:subject:message-id:date :x-gm-message-state:from:to:cc:subject:date:message-id:reply-to; bh=6F0xGfvUD4A44q1KmfJZ204aJS3NjS1YOUXYJVNi5L8=; b=NrtYlrtNhbNLUQZJYkG9QlFGyfImjg5I2/7c24eXL8OF0mNioj2MtMWQU6iksxP1Yp 3yyARo2QIbNba88zJiO4bl47dqXFiVz4RfMPUZ+niVLJYQgPTOYTZ8UsumAY4VVRBitZ V4IP6hhdIW0tJMEcXUF3/jNSshh6DU4mTTND2EfOsSOXxcHACexRqhGcLlcVsn0v9YWU +NuD+79AbGuhEiYysO0kAJd0oZW95ZxOigV0W9Dr9S+EbMZ9UOUZf4fa5gvdkDHqHjHd EaaXC1KfTZte/wSnd14GDS+xhVKMHzOyIGGYQwa11CfAlovmF0r9GXqvYJNatBXRHWkE QaoA== X-Gm-Message-State: AOJu0Yy2MFtavKlBPxqIBHuQi8w5GbOCx3QaWDGbVUDAAlFmEuIkE0Wj /d5J2MHwvrDPyWVnCvb6l4gj1YRIWlPCvkClYY19m2TsHbgsih+4z/hzWAZvZekUJJzGc97axH/ TgeziyNIV2zfyaU9B80cQMG2cX6H+cvWZuLZXXRt9iYDW X-Gm-Gg: ASbGnctdCdozk86YnZlWndiEguCT/D1lgsmuuXyci1fGIxqmCUyZSYGSHcl1k/Nb3QP 5Cy0Fe5siiChFwpR2Zf2zgElPle+wXaKH22sHPCzBfRF43fZbGd5MTazs8lhWVA9e64QzeYoFds Z6o29HYBfKuFVUG12UagPcAC0hjIS51KWZalJgfV7kfvnPUDns4fmJz7hJyPVsrwQtkj4wNepib FqURT3vJDeC39AOidjdMezzdjBFgaQbdeTcoSTZ9NlPJHTcN/JDC2C5nLUtey0DpMni4J/uwz+P IaOKkkt4U8zQKV70QkUYaJL1sf7DiIHqSM8RzIsVdICrIMwu8U4YHBW3D5eNNKhW2YUHHZbtJIw 2KSeGeo80MWC3qOK9sXdKi5g9Zp2GLAM= X-Google-Smtp-Source: AGHT+IExB21vJW+qarv58em+axhYaADCihmHT6JVFgTD7svwJZlRJhvYFrZBVxqOFxJAs1MPoCae1vDHYfEN X-Received: by 2002:a05:6102:6895:b0:5d5:f6ae:38f0 with SMTP id ada2fe7eead31-5db7cc2485bmr1736754137.39.1761672132197; Tue, 28 Oct 2025 10:22:12 -0700 (PDT) Received: from postal.iol.unh.edu (postal.iol.unh.edu. [132.177.123.84]) by smtp-relay.gmail.com with ESMTPS id ada2fe7eead31-5db4e58a52dsm1188049137.1.2025.10.28.10.22.12 (version=TLS1_2 cipher=ECDHE-ECDSA-AES128-GCM-SHA256 bits=128/128); Tue, 28 Oct 2025 10:22:12 -0700 (PDT) X-Relaying-Domain: iol.unh.edu Date: Tue, 28 Oct 2025 10:22:12 -0700 (PDT) Message-ID: <6900fbc4.050a0220.218a97.6011SMTPIN_ADDED_MISSING@mx.google.com> Received: from [172.21.0.2] (unknown [172.18.0.240]) by postal.iol.unh.edu (Postfix) with ESMTP id DC6A3604D420; Tue, 28 Oct 2025 13:22:11 -0400 (EDT) Subject: |WARNING| pw158185-158187 [PATCH] [v11,3/3] dts: add Rx Tx offload t From: dpdklab@iol.unh.edu To: Test Report Cc: dpdk-test-reports@iol.unh.edu In-Reply-To: <20251028122240.112773-4-abailey@iol.unh.edu> References: <20251028122240.112773-4-abailey@iol.unh.edu> Content-Type: text/plain X-BeenThere: test-report@dpdk.org X-Mailman-Version: 2.1.29 Precedence: list List-Id: automatic DPDK test reports List-Unsubscribe: , List-Archive: List-Post: List-Help: List-Subscribe: , Errors-To: test-report-bounces@dpdk.org Test-Label: iol-compile-amd64-testing Test-Status: WARNING http://dpdk.org/patch/158187 _Testing issues_ Submitter: Andrew Bailey Date: Tuesday, October 28 2025 12:22:40 DPDK git baseline: Repo:dpdk-next-dts Branch: master CommitID:39b54f2dcf44ad1f91eabc7080cd5dea763607fd 158185-158187 --> testing issues Upstream job id: Generic-DPDK-Compile-Meson#438553 Test environment and result as below: +-------------------------------+--------------------+-------------------+------------------+ | Environment | dpdk_meson_compile | dpdk_compile_spdk | dpdk_compile_ovs | +===============================+====================+===================+==================+ | FreeBSD 14.2 | PASS | SKIPPED | SKIPPED | +-------------------------------+--------------------+-------------------+------------------+ | Ubuntu 20.04 | PASS | SKIPPED | SKIPPED | +-------------------------------+--------------------+-------------------+------------------+ | CentOS Stream 9 | PASS | WARN | SKIPPED | +-------------------------------+--------------------+-------------------+------------------+ | CentOS Stream 10 | PASS | SKIPPED | SKIPPED | +-------------------------------+--------------------+-------------------+------------------+ | Alpine Linux 3.22.0 | PASS | SKIPPED | SKIPPED | +-------------------------------+--------------------+-------------------+------------------+ | Debian GNU/Linux 12 | PASS | PEND | SKIPPED | +-------------------------------+--------------------+-------------------+------------------+ | Fedora Linux 42 | PEND | PEND | PEND | +-------------------------------+--------------------+-------------------+------------------+ | openSUSE Leap 15.6 | PASS | SKIPPED | SKIPPED | +-------------------------------+--------------------+-------------------+------------------+ | Red Hat Enterprise Linux 8.10 | PASS | SKIPPED | SKIPPED | +-------------------------------+--------------------+-------------------+------------------+ | Red Hat Enterprise Linux 9.5 | PASS | SKIPPED | SKIPPED | +-------------------------------+--------------------+-------------------+------------------+ | Ubuntu 22.04 | PEND | PEND | SKIPPED | +-------------------------------+--------------------+-------------------+------------------+ | Ubuntu 24.04 | PEND | PEND | PEND | +-------------------------------+--------------------+-------------------+------------------+ ==== 20 line log output for CentOS Stream 9 (dpdk_compile_spdk): ==== --- Failed to get log output --- ==== End log output ==== FreeBSD 14.2 Kernel: 14.2-RELEASE Compiler: clang 18.1.6 Ubuntu 20.04 Kernel: 4.19 Compiler: gcc gcc (Ubuntu 9.4.0-1ubuntu1~20.04.2) 9.4.0 CentOS Stream 9 Kernel: 5.15 Compiler: gcc gcc (GCC) 11.5.0 20240719 (Red Hat 11.5.0-11) CentOS Stream 10 Kernel: 5.15 Compiler: gcc gcc (GCC) 14.2.1 20250110 (Red Hat 14.2.1-8) Alpine Linux 3.22.0 Kernel: 5.15 Compiler: gcc gcc (Alpine 14.2.0) 14.2.0 Debian GNU/Linux 12 Kernel: 5.15 Compiler: gcc gcc (Debian 12.2.0-14+deb12u1) 12.2.0 Fedora Linux 42 Kernel: 5.15 Compiler: clang gcc (GCC) 15.2.1 20250808 (Red Hat 15.2.1-1) openSUSE Leap 15.6 Kernel: 5.15 Compiler: gcc gcc (SUSE Linux) 7.5.0 Red Hat Enterprise Linux 8.10 Kernel: 5.15 Compiler: gcc gcc (GCC) 8.5.0 20210514 (Red Hat 8.5.0-22) Red Hat Enterprise Linux 9.5 Kernel: 5.15 Compiler: gcc gcc (GCC) 11.5.0 20240719 (Red Hat 11.5.0-2) Ubuntu 22.04 Kernel: 5.15 Compiler: gcc gcc (Ubuntu 11.4.0-1ubuntu1~22.04) 11.4.0 Ubuntu 24.04 Kernel: 5.15 Compiler: gcc gcc (Ubuntu 13.3.0-6ubuntu2~24.04) 13.3.0 To view detailed results, visit: https://lab.dpdk.org/results/dashboard/patchsets/34401/ UNH-IOL DPDK Community Lab To manage your email subscriptions, visit: https://lab.dpdk.org/results/dashboard/preferences/subscriptions/