From mboxrd@z Thu Jan 1 00:00:00 1970 Return-Path: Received: from mails.dpdk.org (mails.dpdk.org [217.70.189.124]) by inbox.dpdk.org (Postfix) with ESMTP id DE28648A04 for ; Tue, 28 Oct 2025 18:43:37 +0100 (CET) Received: from mails.dpdk.org (localhost [127.0.0.1]) by mails.dpdk.org (Postfix) with ESMTP id BDE014021E; Tue, 28 Oct 2025 18:43:37 +0100 (CET) Received: from mail-il1-f228.google.com (mail-il1-f228.google.com [209.85.166.228]) by mails.dpdk.org (Postfix) with ESMTP id 2C1CB4021E for ; Tue, 28 Oct 2025 18:43:36 +0100 (CET) Received: by mail-il1-f228.google.com with SMTP id e9e14a558f8ab-430ab5ee3afso60451815ab.2 for ; Tue, 28 Oct 2025 10:43:36 -0700 (PDT) DKIM-Signature: v=1; a=rsa-sha256; c=relaxed/relaxed; d=iol.unh.edu; s=unh-iol; t=1761673415; x=1762278215; darn=dpdk.org; h=references:in-reply-to:cc:to:from:subject:message-id:date:from:to :cc:subject:date:message-id:reply-to; bh=opvzY67Vsa5LTSVfGYZ93nXhlcg5YfhitRgQdPoVSJk=; b=AL7D00tNTdoYlV4OqyLx8Pz5Fx2Vm3634xu+Nb0BL5mwS+Qo4R6OsYyLfcpRT4IFGV Xqu8N36JoTI/k+u4OFdxy4Mepcl3Pc/vM0667HcGWCsO/d70/DWLTFhXdo1wTbvNiuFl Bjz44Tn0k/Qvrx3uC3pnPRh8Iaai4ZnQGUKs8= X-Google-DKIM-Signature: v=1; a=rsa-sha256; c=relaxed/relaxed; d=1e100.net; s=20230601; t=1761673415; x=1762278215; h=references:in-reply-to:cc:to:from:subject:message-id:date :x-gm-message-state:from:to:cc:subject:date:message-id:reply-to; bh=opvzY67Vsa5LTSVfGYZ93nXhlcg5YfhitRgQdPoVSJk=; b=MAmr5vpZLEF2WSOX2kQMi25JVqoBQ4r0uS10AaVLdLR7u3wWwHBmhH7cEMgVXR5+pA 3PPVu/LcmvnIlhasE3/JKVTKcTAa6obcqjJB5mD5Q9prCz2QPwfBFUeqeExqflN3tIMn 6khF1yFdPRV49LczsKM0V8PD/VZL0aUSfn8S3QinNttzEUowWJ4xJmX8CQi+YFS3lV5K Cfj0+r5ANQgLQQg77+Z+3/93RmuC6iuF6lNh66gQ8a9IOoPXNbqurcHbJJZstAErgTeD kQZUbXy6tXAnydJxgiaoY+cF9h7Iq1QDm36o20w2jSF9twCq/BABR4LKeEdakXVWg6gt 5avw== X-Gm-Message-State: AOJu0YxOUIKcqQltWUD5zYg6mKfnc6aH/7yfhcpd2V/YU1hurI7i3LL8 XacxbLHooMNjtZd7jHa9Q9kjgpN9OxXWHEZFxzgwQI3tLp+dyGGUXg9fNGie4QtWQpWrWhwsTf2 gl5wKhOmmqPDsUKczkeGVKzl+oYm/X1hTI5rIxNHp34oS X-Gm-Gg: ASbGnctKexeRyQqdmu1ronPSuwENpuTbJzJhPD3K68kK8zuILAUEbJpCrwwUjhtY4j2 CrvmzGRd1q3Zdyf1HwlK/bY9O/v2LH9O3m34LUMgwU8A0tWpK25uFjSapBXTjeugXm+BBYOnPTJ OGs0kKAsW4YU8u9lZSY3Y+oq5Uc+TZSWwVB/Pum1+ltG3teerJEiQsZ7qVSnrjgVMol74jzaFVb bGLQZ3zPmyHinlMI9hNdjOaSK9+nfRAwVkWAvdv3drdHrOJLjSup2y5rdKuTLQvkzqeWwu/UbN2 3mkXw4gOtKE0w7h3S75C06//F8TcslGpGGJLpEeQscmhsrBT1OVMmX7tJh8US+k0THGn0rUx8cR LpLtUomL+CPRF/0gLBwuxvnirM8gSm38= X-Google-Smtp-Source: AGHT+IEySni2vqvBHxg+kINed2dmk4KeMORa11dFzY0YhiaPYJCwvCu8bQNYSfsoZWMFcZNbgF4ApYkDAKXM X-Received: by 2002:a05:6e02:17c9:b0:42f:8d40:6c4b with SMTP id e9e14a558f8ab-432f8faca17mr489815ab.11.1761673415382; Tue, 28 Oct 2025 10:43:35 -0700 (PDT) Received: from postal.iol.unh.edu (postal.iol.unh.edu. [132.177.123.84]) by smtp-relay.gmail.com with ESMTPS id 8926c6da1cb9f-5aea9e32c85sm817066173.29.2025.10.28.10.43.35 (version=TLS1_2 cipher=ECDHE-ECDSA-AES128-GCM-SHA256 bits=128/128); Tue, 28 Oct 2025 10:43:35 -0700 (PDT) X-Relaying-Domain: iol.unh.edu Date: Tue, 28 Oct 2025 10:43:35 -0700 (PDT) Message-ID: <690100c7.050a0220.13e9aa.53efSMTPIN_ADDED_MISSING@mx.google.com> Received: from [172.21.0.2] (unknown [172.18.0.240]) by postal.iol.unh.edu (Postfix) with ESMTP id CEABD604D420; Tue, 28 Oct 2025 13:43:34 -0400 (EDT) Subject: |SUCCESS| pw158183 [PATCH] graph: fix xstats description allocation From: dpdklab@iol.unh.edu To: Test Report Cc: dpdk-test-reports@iol.unh.edu In-Reply-To: <20251028101333.14776-1-cfontain@redhat.com> References: <20251028101333.14776-1-cfontain@redhat.com> Content-Type: text/plain X-BeenThere: test-report@dpdk.org X-Mailman-Version: 2.1.29 Precedence: list List-Id: automatic DPDK test reports List-Unsubscribe: , List-Archive: List-Post: List-Help: List-Subscribe: , Errors-To: test-report-bounces@dpdk.org Test-Label: iol-unit-arm64-testing Test-Status: SUCCESS http://dpdk.org/patch/158183 _Testing PASS_ Submitter: Christophe Fontaine Date: Tuesday, October 28 2025 10:13:33 DPDK git baseline: Repo:dpdk Branch: master CommitID:39b54f2dcf44ad1f91eabc7080cd5dea763607fd 158183 --> testing pass Upstream job id: Generic-Unit-Test-DPDK#386042 Test environment and result as below: +------------------------------+------------------------------+---------------------------+--------------+----------------+ | Environment | cryptodev_sw_snow3g_autotest | cryptodev_sw_zuc_autotest | lpm_autotest | dpdk_unit_test | +==============================+==============================+===========================+==============+================+ | Debian 12 (arm) | PASS | PASS | SKIPPED | SKIPPED | +------------------------------+------------------------------+---------------------------+--------------+----------------+ | Ubuntu 20.04 | SKIPPED | SKIPPED | PASS | PASS | +------------------------------+------------------------------+---------------------------+--------------+----------------+ | CentOS Stream 10 | SKIPPED | SKIPPED | SKIPPED | PASS | +------------------------------+------------------------------+---------------------------+--------------+----------------+ | Debian GNU/Linux 12 | SKIPPED | SKIPPED | SKIPPED | PASS | +------------------------------+------------------------------+---------------------------+--------------+----------------+ | Fedora Linux 42 | SKIPPED | SKIPPED | SKIPPED | PASS | +------------------------------+------------------------------+---------------------------+--------------+----------------+ | Fedora Linux 40 | SKIPPED | SKIPPED | SKIPPED | PASS | +------------------------------+------------------------------+---------------------------+--------------+----------------+ | Fedora Linux 41 | SKIPPED | SKIPPED | SKIPPED | PASS | +------------------------------+------------------------------+---------------------------+--------------+----------------+ | CentOS Stream 9 | SKIPPED | SKIPPED | SKIPPED | PASS | +------------------------------+------------------------------+---------------------------+--------------+----------------+ | Ubuntu 24.04 | SKIPPED | SKIPPED | SKIPPED | PASS | +------------------------------+------------------------------+---------------------------+--------------+----------------+ | Ubuntu 22.04 | SKIPPED | SKIPPED | SKIPPED | PASS | +------------------------------+------------------------------+---------------------------+--------------+----------------+ | Red Hat Enterprise Linux 9.5 | SKIPPED | SKIPPED | SKIPPED | PASS | +------------------------------+------------------------------+---------------------------+--------------+----------------+ Debian 12 (arm) Kernel: Depends on container host Compiler: gcc (Debian 12.2.0-14) 12.2.0 Ubuntu 20.04 Kernel: 5.4 Compiler: gcc gcc (Ubuntu 9.4.0-1ubuntu1~20.04.2) 9.4.0 CentOS Stream 10 Kernel: 5.4 Compiler: gcc gcc (GCC) 14.2.1 20250110 (Red Hat 14.2.1-8) Debian GNU/Linux 12 Kernel: 5.4 Compiler: gcc gcc (Debian 12.2.0-14+deb12u1) 12.2.0 Fedora Linux 42 Kernel: 5.4 Compiler: gcc gcc (GCC) 15.2.1 20250808 (Red Hat 15.2.1-1) Fedora Linux 40 Kernel: 5.4 Compiler: clang gcc (GCC) 14.2.1 20240912 (Red Hat 14.2.1-3) Fedora Linux 41 Kernel: 5.4 Compiler: gcc gcc (GCC) 14.3.1 20250523 (Red Hat 14.3.1-1) CentOS Stream 9 Kernel: 5.4 Compiler: gcc gcc (GCC) 11.5.0 20240719 (Red Hat 11.5.0-11) Ubuntu 24.04 Kernel: 5.4 Compiler: gcc gcc (Ubuntu 13.3.0-6ubuntu2~24.04) 13.3.0 Ubuntu 22.04 Kernel: 5.4 Compiler: gcc gcc (Ubuntu 11.4.0-1ubuntu1~22.04) 11.4.0 Red Hat Enterprise Linux 9.5 Kernel: 5.4 Compiler: gcc gcc (GCC) 11.5.0 20240719 (Red Hat 11.5.0-2) To view detailed results, visit: https://lab.dpdk.org/results/dashboard/patchsets/34397/ UNH-IOL DPDK Community Lab To manage your email subscriptions, visit: https://lab.dpdk.org/results/dashboard/preferences/subscriptions/