From mboxrd@z Thu Jan 1 00:00:00 1970 Return-Path: Received: from mails.dpdk.org (mails.dpdk.org [217.70.189.124]) by inbox.dpdk.org (Postfix) with ESMTP id D84A748A04 for ; Tue, 28 Oct 2025 18:49:03 +0100 (CET) Received: from mails.dpdk.org (localhost [127.0.0.1]) by mails.dpdk.org (Postfix) with ESMTP id D451A4021E; Tue, 28 Oct 2025 18:49:03 +0100 (CET) Received: from mail-pl1-f228.google.com (mail-pl1-f228.google.com [209.85.214.228]) by mails.dpdk.org (Postfix) with ESMTP id 60B424021E for ; Tue, 28 Oct 2025 18:49:02 +0100 (CET) Received: by mail-pl1-f228.google.com with SMTP id d9443c01a7336-27eec33b737so89842905ad.1 for ; Tue, 28 Oct 2025 10:49:02 -0700 (PDT) DKIM-Signature: v=1; a=rsa-sha256; c=relaxed/relaxed; d=iol.unh.edu; s=unh-iol; t=1761673741; x=1762278541; darn=dpdk.org; h=references:in-reply-to:cc:to:from:subject:message-id:date:from:to :cc:subject:date:message-id:reply-to; bh=TAtg/FI63XPkyp+zg2P7oxpEX4pg7MiAqdKXpLReRGQ=; b=VnYg+Or/dzH7uXL6iw/xSLIOxAeqPc6RhSN9aioKpK8UytHp6onnAI1FAYddjWc8iJ karltH+x8ke/9aMDz47DaAhcPEXKuP393Dd3EOr0JQZ9pGm50pcFWMMu2p5JiPqIqbRo XeuuC8sLJgayA5Q/V4t473tDk9+RGtZZ24cQo= X-Google-DKIM-Signature: v=1; a=rsa-sha256; c=relaxed/relaxed; d=1e100.net; s=20230601; t=1761673741; x=1762278541; h=references:in-reply-to:cc:to:from:subject:message-id:date :x-gm-message-state:from:to:cc:subject:date:message-id:reply-to; bh=TAtg/FI63XPkyp+zg2P7oxpEX4pg7MiAqdKXpLReRGQ=; b=HdhIlcBch9zZD889lIz7jn46T1ZJIH15mSCa+fSN2LpdVhDrm+Syekdvc8XxEnxK05 X59iGXVfhh2RnK8ESiMtnH96FwYkjB1NI5hmZXg1T/90CsD3A/1UpWecRtyRNjOj24WZ F/GMFPRe0PozuaW5quGk54b8H8H/DnI3ELezSphcw4RYq6GUZSdwZ4DSrY7+HTZrR7lF 4wTjsCSo4b2+0RwwSbWDFcKLzgx1d1d1SQ81fMC427OnC8MLnOysRx8NjctT+HG6XpQK rHytgPR2Nw1nFbFPUMtCPfQ2sbcqjPtP+agAu6HgvEvxqyq/OaFCMyWponXO6hdZogk4 71Mw== X-Gm-Message-State: AOJu0YwArHVcVP9l+epuRp05SDEHLu7ThqLfYJV0i5E4mCqYWwX2Jz+k i/3amLTnA94LbW/i48M6DKSd6/wnzDr5vLMtjmoh/WDpK8cSEQwfxsadhH4/jD6dYWtNFNHPNK1 /m/Cba/T00saTRn2QqQAvUXmPGj9Hv1zcSFz528dPlQ+u X-Gm-Gg: ASbGncs3B7iChHoMsy5xWMR8HhfSD3pCKOXAamzQdBb04g27LNvs6BNcZkvaZezmqgV 6Uk8/ivfUlPb4M1H+on8GXnVsVdy+pDJt/l+TPLpfPhaq+7wp4n2q+1yiJ4EzRxcV74rwMaY6KG rnaaR5uN7RA3n37/Qx9GXkkZDLUpeWL9U/n3GHoZypUL8f8KACGBaWObP/K0bEswTGetYt8C6CG gO3e9X51239//V05PBxcILD7p4W276hQ5ku+hixfsMiLT/68pr/RtkYFAiLuW230QtjN3e5DkA0 IxIYdairNNjKQQ6P6a0VH8IFAKqf1DECSVAwh2f6tYqMOM5p2I6LJ5qavojPFHxW5tg29E0RzQB 4U4v92riAAuDuaifWC9VZ5XcpJsA2lLY= X-Google-Smtp-Source: AGHT+IFkR0vRBK40UbPWaeQ0SfPIO3FBPZ7RpJU/sK0jgEGttc0GqGy+FN0ONrug8o54pnCjmvjVnICRWPE1 X-Received: by 2002:a17:902:ea0a:b0:27e:e77f:57f3 with SMTP id d9443c01a7336-294dee1cc54mr472725ad.14.1761673741603; Tue, 28 Oct 2025 10:49:01 -0700 (PDT) Received: from postal.iol.unh.edu (postal.iol.unh.edu. [132.177.123.84]) by smtp-relay.gmail.com with ESMTPS id d9443c01a7336-29498cf49f8sm10728195ad.3.2025.10.28.10.49.01 (version=TLS1_2 cipher=ECDHE-ECDSA-AES128-GCM-SHA256 bits=128/128); Tue, 28 Oct 2025 10:49:01 -0700 (PDT) X-Relaying-Domain: iol.unh.edu Date: Tue, 28 Oct 2025 10:49:01 -0700 (PDT) Message-ID: <6901020d.170a0220.1a6010.183eSMTPIN_ADDED_MISSING@mx.google.com> Received: from [172.21.0.2] (unknown [172.18.0.240]) by postal.iol.unh.edu (Postfix) with ESMTP id 1DDF1604D420; Tue, 28 Oct 2025 13:49:01 -0400 (EDT) Subject: |WARNING| pw158185-158187 [PATCH] [v11,3/3] dts: add Rx Tx offload t From: dpdklab@iol.unh.edu To: Test Report Cc: dpdk-test-reports@iol.unh.edu In-Reply-To: <20251028122240.112773-4-abailey@iol.unh.edu> References: <20251028122240.112773-4-abailey@iol.unh.edu> Content-Type: text/plain X-BeenThere: test-report@dpdk.org X-Mailman-Version: 2.1.29 Precedence: list List-Id: automatic DPDK test reports List-Unsubscribe: , List-Archive: List-Post: List-Help: List-Subscribe: , Errors-To: test-report-bounces@dpdk.org Test-Label: iol-compile-amd64-testing Test-Status: WARNING http://dpdk.org/patch/158187 _Testing issues_ Submitter: Andrew Bailey Date: Tuesday, October 28 2025 12:22:40 DPDK git baseline: Repo:dpdk-next-dts Branch: master CommitID:39b54f2dcf44ad1f91eabc7080cd5dea763607fd 158185-158187 --> testing issues Upstream job id: Generic-DPDK-Compile-Meson#438558 Test environment and result as below: +-------------------------------+--------------------+-------------------+------------------+ | Environment | dpdk_meson_compile | dpdk_compile_spdk | dpdk_compile_ovs | +===============================+====================+===================+==================+ | FreeBSD 14.2 | PASS | SKIPPED | SKIPPED | +-------------------------------+--------------------+-------------------+------------------+ | Ubuntu 20.04 | PASS | SKIPPED | SKIPPED | +-------------------------------+--------------------+-------------------+------------------+ | CentOS Stream 9 | PASS | WARN | SKIPPED | +-------------------------------+--------------------+-------------------+------------------+ | CentOS Stream 10 | PASS | SKIPPED | SKIPPED | +-------------------------------+--------------------+-------------------+------------------+ | Alpine Linux 3.22.0 | PASS | SKIPPED | SKIPPED | +-------------------------------+--------------------+-------------------+------------------+ | Debian GNU/Linux 12 | PASS | WARN | SKIPPED | +-------------------------------+--------------------+-------------------+------------------+ | Fedora Linux 42 | PASS | WARN | PASS | +-------------------------------+--------------------+-------------------+------------------+ | openSUSE Leap 15.6 | PASS | SKIPPED | SKIPPED | +-------------------------------+--------------------+-------------------+------------------+ | Red Hat Enterprise Linux 8.10 | PASS | SKIPPED | SKIPPED | +-------------------------------+--------------------+-------------------+------------------+ | Red Hat Enterprise Linux 9.5 | PASS | SKIPPED | SKIPPED | +-------------------------------+--------------------+-------------------+------------------+ | Ubuntu 22.04 | PASS | WARN | SKIPPED | +-------------------------------+--------------------+-------------------+------------------+ | Ubuntu 24.04 | PASS | WARN | PASS | +-------------------------------+--------------------+-------------------+------------------+ ==== 20 line log output for Ubuntu 24.04 (dpdk_compile_spdk): ==== --- Failed to get log output --- ==== End log output ==== FreeBSD 14.2 Kernel: 14.2-RELEASE Compiler: clang 18.1.6 Ubuntu 20.04 Kernel: 4.19 Compiler: gcc gcc (Ubuntu 9.4.0-1ubuntu1~20.04.2) 9.4.0 CentOS Stream 9 Kernel: 5.15 Compiler: gcc gcc (GCC) 11.5.0 20240719 (Red Hat 11.5.0-11) CentOS Stream 10 Kernel: 5.15 Compiler: gcc gcc (GCC) 14.2.1 20250110 (Red Hat 14.2.1-8) Alpine Linux 3.22.0 Kernel: 5.15 Compiler: gcc gcc (Alpine 14.2.0) 14.2.0 Debian GNU/Linux 12 Kernel: 5.15 Compiler: gcc gcc (Debian 12.2.0-14+deb12u1) 12.2.0 Fedora Linux 42 Kernel: 5.15 Compiler: clang gcc (GCC) 15.2.1 20250808 (Red Hat 15.2.1-1) openSUSE Leap 15.6 Kernel: 5.15 Compiler: gcc gcc (SUSE Linux) 7.5.0 Red Hat Enterprise Linux 8.10 Kernel: 5.15 Compiler: gcc gcc (GCC) 8.5.0 20210514 (Red Hat 8.5.0-22) Red Hat Enterprise Linux 9.5 Kernel: 5.15 Compiler: gcc gcc (GCC) 11.5.0 20240719 (Red Hat 11.5.0-2) Ubuntu 22.04 Kernel: 5.15 Compiler: gcc gcc (Ubuntu 11.4.0-1ubuntu1~22.04) 11.4.0 Ubuntu 24.04 Kernel: 5.15 Compiler: gcc gcc (Ubuntu 13.3.0-6ubuntu2~24.04) 13.3.0 To view detailed results, visit: https://lab.dpdk.org/results/dashboard/patchsets/34401/ UNH-IOL DPDK Community Lab To manage your email subscriptions, visit: https://lab.dpdk.org/results/dashboard/preferences/subscriptions/