From mboxrd@z Thu Jan 1 00:00:00 1970 Return-Path: Received: from mails.dpdk.org (mails.dpdk.org [217.70.189.124]) by inbox.dpdk.org (Postfix) with ESMTP id 5A8A948A04 for ; Tue, 28 Oct 2025 19:17:18 +0100 (CET) Received: from mails.dpdk.org (localhost [127.0.0.1]) by mails.dpdk.org (Postfix) with ESMTP id 55A2E4021E; Tue, 28 Oct 2025 19:17:18 +0100 (CET) Received: from mail-pf1-f226.google.com (mail-pf1-f226.google.com [209.85.210.226]) by mails.dpdk.org (Postfix) with ESMTP id 32C4B4021E for ; Tue, 28 Oct 2025 19:17:17 +0100 (CET) Received: by mail-pf1-f226.google.com with SMTP id d2e1a72fcca58-781ea2cee3fso6049204b3a.0 for ; Tue, 28 Oct 2025 11:17:17 -0700 (PDT) DKIM-Signature: v=1; a=rsa-sha256; c=relaxed/relaxed; d=iol.unh.edu; s=unh-iol; t=1761675436; x=1762280236; darn=dpdk.org; h=references:in-reply-to:cc:to:from:subject:message-id:date:from:to :cc:subject:date:message-id:reply-to; bh=KvxoZMim0s978hhsAv0NwFqiyiGBOXdBEbpMfMrPzRk=; b=Q45HZ1oQ4/9uxlvC9e1jTrexBnXPBIi/RVXZk+6CscNjfJS7/VuKHW1duLxLw+W871 ZhHsmxo8pS59J4KPz6DU2uCa0PAkp0E+6ngOKtH7uCQyhdLIjor74B6k5n/wvt24wP3R I4Em0xsIPhn/EDuOO1dwQNYstMUyyvKRqR20g= X-Google-DKIM-Signature: v=1; a=rsa-sha256; c=relaxed/relaxed; d=1e100.net; s=20230601; t=1761675436; x=1762280236; h=references:in-reply-to:cc:to:from:subject:message-id:date :x-gm-message-state:from:to:cc:subject:date:message-id:reply-to; bh=KvxoZMim0s978hhsAv0NwFqiyiGBOXdBEbpMfMrPzRk=; b=NyQUM243pw3PYUWNMQuWgfQtsqTIpZFm0vZ8berP4D+VAWWhP4FpyWPbzrpdHCGw8S 8PkTUf/01gXq44I9AWoKOF4rbZhUR5L7A2YWRHjQNiFeU+4Px41JtXctjX0VI2RFJxmi ApmYFHGNCtvrfLS5kuBXNJLtb2msNoAGSgQfMTgskH+M0ATROZq6T8W9GvCfpbs++yT+ 9Eslyw/gQAjQqUqAkS7lSsi4tICRTf9FJBv2b6gBJC0HnXwfsivU5+5nwU3UayzJoUax zf7iZFxglDPc3Kx/s/S/CG8no9qVXEUhiaVmhcwrBRBWl9HR0U0dopiXaAY7lfnRyS4R xLLA== X-Gm-Message-State: AOJu0YxqC4tq2p1S1WLQyj0V8uLDSQLEQYv1EXyuZjyVat/ObGIg0KU1 Dz4LO/Wtvfv2vDHO38uxXUFfGzLAyKAA7TDqm4EXIEAejGDXryIcy2Sc+IfOr0fTijBK6Dpw9n0 Cbx9mCpezNn38FeRlnCP5vzhKP36fpe3QVe+dPsRzl8b4 X-Gm-Gg: ASbGnctvFZ47mjKGhyFN/7SYOvJ9GztdAok6jRzunGOclQYeUAW2PVdAKoOw7hVTdk/ V7B8MSOuz9M98+cXFTfpAE95++REnfMlKSkQYx7THnC+KLHhA4e33RmPtWSQLanueSu8p0s4H0D Ciz1E87Q1rESYfcBOskdiJ6ROGkJ3iOb2QWJfYz8cYsD39he3LKTXy3rKsv9j4RcJine93WkvGx Gp/GIirrhmqFyTt8Hv7rYJVizi6tE65R6igpljVLZictmfbgnKJHRyB/936gzbukN43q+iBoN0y I1DCHrwpgu92sYLBeJfN6taCS0GV9gRxJ1kWHxnD5FFpHTFmPzwqv7768HtBZPn45C/71+RSuo8 eecOEcEqCg7HmQM03KOuzyiVIkztc0gg= X-Google-Smtp-Source: AGHT+IHQKQ5t9AVt6rNmTpu+wJtyGMjO/+5Kdofw54tSe8Hk7FCY5SSymSWCZYa3Fq2mISEy2hcgMTWp5gBZ X-Received: by 2002:a17:902:d487:b0:290:c07f:e8ee with SMTP id d9443c01a7336-294deee23a3mr1236745ad.43.1761675436279; Tue, 28 Oct 2025 11:17:16 -0700 (PDT) Received: from postal.iol.unh.edu (postal.iol.unh.edu. [132.177.123.84]) by smtp-relay.gmail.com with ESMTPS id d9443c01a7336-29498d428c7sm10939775ad.46.2025.10.28.11.17.16 (version=TLS1_2 cipher=ECDHE-ECDSA-AES128-GCM-SHA256 bits=128/128); Tue, 28 Oct 2025 11:17:16 -0700 (PDT) X-Relaying-Domain: iol.unh.edu Date: Tue, 28 Oct 2025 11:17:16 -0700 (PDT) Message-ID: <690108ac.170a0220.b190e.2717SMTPIN_ADDED_MISSING@mx.google.com> Received: from [172.21.0.2] (unknown [172.18.0.240]) by postal.iol.unh.edu (Postfix) with ESMTP id AF2EF604D420; Tue, 28 Oct 2025 14:17:15 -0400 (EDT) Subject: |SUCCESS| pw158185-158187 [PATCH] [v11,3/3] dts: add Rx Tx offload t From: dpdklab@iol.unh.edu To: Test Report Cc: dpdk-test-reports@iol.unh.edu In-Reply-To: <20251028122240.112773-4-abailey@iol.unh.edu> References: <20251028122240.112773-4-abailey@iol.unh.edu> Content-Type: text/plain X-BeenThere: test-report@dpdk.org X-Mailman-Version: 2.1.29 Precedence: list List-Id: automatic DPDK test reports List-Unsubscribe: , List-Archive: List-Post: List-Help: List-Subscribe: , Errors-To: test-report-bounces@dpdk.org Test-Label: iol-unit-amd64-testing Test-Status: SUCCESS http://dpdk.org/patch/158187 _Testing PASS_ Submitter: Andrew Bailey Date: Tuesday, October 28 2025 12:22:40 DPDK git baseline: Repo:dpdk-next-dts Branch: master CommitID:39b54f2dcf44ad1f91eabc7080cd5dea763607fd 158185-158187 --> testing pass Upstream job id: Generic-Unit-Test-DPDK#386165 Test environment and result as below: +-------------------------------+----------------+ | Environment | dpdk_unit_test | +===============================+================+ | Debian GNU/Linux 12 | PASS | +-------------------------------+----------------+ | CentOS Stream 9 | PASS | +-------------------------------+----------------+ | CentOS Stream 10 | PASS | +-------------------------------+----------------+ | Fedora Linux 40 | PASS | +-------------------------------+----------------+ | Ubuntu 20.04 | PASS | +-------------------------------+----------------+ | Fedora Linux 41 | PASS | +-------------------------------+----------------+ | Red Hat Enterprise Linux 8.10 | PASS | +-------------------------------+----------------+ | Fedora Linux 42 | PASS | +-------------------------------+----------------+ | Red Hat Enterprise Linux 9.5 | PASS | +-------------------------------+----------------+ | Ubuntu 24.04 | PASS | +-------------------------------+----------------+ | Ubuntu 22.04 | PASS | +-------------------------------+----------------+ Debian GNU/Linux 12 Kernel: 5.15 Compiler: gcc gcc (Debian 12.2.0-14+deb12u1) 12.2.0 CentOS Stream 9 Kernel: 5.15 Compiler: gcc gcc (GCC) 11.5.0 20240719 (Red Hat 11.5.0-11) CentOS Stream 10 Kernel: 5.15 Compiler: gcc gcc (GCC) 14.2.1 20250110 (Red Hat 14.2.1-8) Fedora Linux 40 Kernel: 5.15 Compiler: clang gcc (GCC) 14.2.1 20240912 (Red Hat 14.2.1-3) Ubuntu 20.04 Kernel: 5.15 Compiler: gcc gcc (Ubuntu 9.4.0-1ubuntu1~20.04.2) 9.4.0 Fedora Linux 41 Kernel: 5.15 Compiler: gcc gcc (GCC) 14.3.1 20250523 (Red Hat 14.3.1-1) Red Hat Enterprise Linux 8.10 Kernel: 5.15 Compiler: gcc gcc (GCC) 8.5.0 20210514 (Red Hat 8.5.0-22) Fedora Linux 42 Kernel: 5.15 Compiler: gcc gcc (GCC) 15.2.1 20250808 (Red Hat 15.2.1-1) Red Hat Enterprise Linux 9.5 Kernel: 5.15 Compiler: gcc gcc (GCC) 11.5.0 20240719 (Red Hat 11.5.0-2) Ubuntu 24.04 Kernel: 5.15 Compiler: gcc gcc (Ubuntu 13.3.0-6ubuntu2~24.04) 13.3.0 Ubuntu 22.04 Kernel: 5.15 Compiler: gcc gcc (Ubuntu 11.4.0-1ubuntu1~22.04) 11.4.0 To view detailed results, visit: https://lab.dpdk.org/results/dashboard/patchsets/34401/ UNH-IOL DPDK Community Lab To manage your email subscriptions, visit: https://lab.dpdk.org/results/dashboard/preferences/subscriptions/