From mboxrd@z Thu Jan 1 00:00:00 1970 Return-Path: Received: from mails.dpdk.org (mails.dpdk.org [217.70.189.124]) by inbox.dpdk.org (Postfix) with ESMTP id 48F8748A04 for ; Tue, 28 Oct 2025 19:34:02 +0100 (CET) Received: from mails.dpdk.org (localhost [127.0.0.1]) by mails.dpdk.org (Postfix) with ESMTP id 2B5E6402AE; Tue, 28 Oct 2025 19:34:02 +0100 (CET) Received: from mail-il1-f225.google.com (mail-il1-f225.google.com [209.85.166.225]) by mails.dpdk.org (Postfix) with ESMTP id A29684021E for ; Tue, 28 Oct 2025 19:34:00 +0100 (CET) Received: by mail-il1-f225.google.com with SMTP id e9e14a558f8ab-430bf3b7608so67006795ab.3 for ; Tue, 28 Oct 2025 11:34:00 -0700 (PDT) DKIM-Signature: v=1; a=rsa-sha256; c=relaxed/relaxed; d=iol.unh.edu; s=unh-iol; t=1761676440; x=1762281240; darn=dpdk.org; h=references:in-reply-to:cc:to:from:subject:message-id:date:from:to :cc:subject:date:message-id:reply-to; bh=xxzoO5SOUUw+8U+3hUHzmNZzVt3xQGkWGPWXmwr4wEw=; b=AB3V/eKLRzdf6HhrMfrzVRoM9uOqjCealoWz2H8NDzn8p6Cl4IYQu7t52cNCH/b8sp 1fWP0dfQBqQZ/Ip2KvnuqJaOwDyZtajXg6hxN2nimQb1jLlXiapCs1ZEtsFaTaUYPmMw 0fUP7VDFE5lLPzanFmuGYgnzZXbjjw0qfvrkA= X-Google-DKIM-Signature: v=1; a=rsa-sha256; c=relaxed/relaxed; d=1e100.net; s=20230601; t=1761676440; x=1762281240; h=references:in-reply-to:cc:to:from:subject:message-id:date :x-gm-message-state:from:to:cc:subject:date:message-id:reply-to; bh=xxzoO5SOUUw+8U+3hUHzmNZzVt3xQGkWGPWXmwr4wEw=; b=YLZ94yWelV2YdAIAB7QQRQK+Q9dv8AReGowGyYR9oKoe6+RAcl/81EzwsQe1xybtVo +W4yBD53NIjLEn+6MBFILOvBLzjD0AmNw1XMWKb7sRpBtVWlY4Z9HthCEpcPRzG2nik3 CHE2OEBa0dvOBF9y3HOJYo7AW0BTVnubYi/Cj7id5wW+FiqX7K0z2IAY/C3ad05epLel MqTXh+k4cOHSUf84j7iV7l3ku2OWdERa/fEmyRQ/Hbo9Qx43c0KU5iO5zEV+xzse+u20 PEKjeL3P3acpRVWwvrD4A+Agwm1e0ZaEpQIVHIv3P6mlJf2ehSq18awc6h4kL6wFzOMa ME0Q== X-Gm-Message-State: AOJu0Ywj726yA4TLrN2R1t137k1Wfm1Ps5rjiQJapEAcI3JEqOQMWylt MaDz+LX6spRWeNGfCy+PWiafl27yr45ri5M+NBZLHBfBtDlor8JgAZrEUlbzE43xMFCRXhyG9Uh L98KutMnl0L9m0XqfElnsTAFWG7ql8ohoMALdo821L+mugtinTGZyQXmPtSDg X-Gm-Gg: ASbGncuIXfJLNxSF9NanX+Xht1n7ZSe3nURZ+9W63uqsOjcYt2t/gP4Dx8uKLuS5PD9 pTVp1TSfn3Q0zk+xl1kYeOHjKDZj5E4kkmKYDlkdaOsEVwV+Yx7tOtJsZtfjYGmub0S5H4TPT2y CXVwRVW/h2C52sf0Ee24q7PQTIG/ymHe1Ks5rcGdeGe19CX0JEDJDHXWkY+Ka3aRwMTXmw7NWDP tS5RMqRHGIMgUbM2xWlTR27ux1csZqdA8djd8frqIQ2VLlj0KPxXChD3Nu1obWu7mb2asE6OlZn cYfyirOZ7R3vky7MZjCrCHXQkQry8pDGwOpIic+kv4faDbYbfMiBLlHTcCdC1fOrzfUMxrhOYeS SZqDvNwxT X-Google-Smtp-Source: AGHT+IG+Mpvuj63X8R4ghPsqjJgXGAwrdhovJJZzdKBjAfgxSXmDIoIQhKVlt1lP83ux2IrNCom+APKqGDBq X-Received: by 2002:a05:6e02:12eb:b0:430:a8c5:fdb7 with SMTP id e9e14a558f8ab-432f8fc7fbfmr3361955ab.3.1761676439838; Tue, 28 Oct 2025 11:33:59 -0700 (PDT) Received: from postal.iol.unh.edu (postal.iol.unh.edu. [2606:4100:3880:1234::84]) by smtp-relay.gmail.com with ESMTPS id e9e14a558f8ab-431f67ea498sm10838895ab.6.2025.10.28.11.33.59 (version=TLS1_2 cipher=ECDHE-ECDSA-AES128-GCM-SHA256 bits=128/128); Tue, 28 Oct 2025 11:33:59 -0700 (PDT) X-Relaying-Domain: iol.unh.edu Date: Tue, 28 Oct 2025 11:33:59 -0700 (PDT) Message-ID: <69010c97.050a0220.38876d.3d58SMTPIN_ADDED_MISSING@mx.google.com> Received: from [172.21.0.4] (unknown [172.18.0.240]) by postal.iol.unh.edu (Postfix) with ESMTP id 5FB0F604D420; Tue, 28 Oct 2025 14:33:59 -0400 (EDT) Subject: |WARNING| pw158184 [PATCH] [v2] graph: fix xstats description alloca From: dpdklab@iol.unh.edu To: Test Report Cc: dpdk-test-reports@iol.unh.edu In-Reply-To: <20251028110920.16353-1-cfontain@redhat.com> References: <20251028110920.16353-1-cfontain@redhat.com> Content-Type: text/plain X-BeenThere: test-report@dpdk.org X-Mailman-Version: 2.1.29 Precedence: list List-Id: automatic DPDK test reports List-Unsubscribe: , List-Archive: List-Post: List-Help: List-Subscribe: , Errors-To: test-report-bounces@dpdk.org Test-Label: iol-compile-amd64-testing Test-Status: WARNING http://dpdk.org/patch/158184 _Testing issues_ Submitter: Christophe Fontaine Date: Tuesday, October 28 2025 11:09:20 DPDK git baseline: Repo:dpdk Branch: master CommitID:39b54f2dcf44ad1f91eabc7080cd5dea763607fd 158184 --> testing issues Upstream job id: Windows-Compile-DPDK-VS#7344 Test environment and result as below: +-------------------------------+--------------------+-------------------+------------------+-------------------+ | Environment | dpdk_meson_compile | dpdk_compile_spdk | dpdk_compile_ovs | dpdk_msvc_compile | +===============================+====================+===================+==================+===================+ | Ubuntu 20.04 | PASS | SKIPPED | SKIPPED | SKIPPED | +-------------------------------+--------------------+-------------------+------------------+-------------------+ | FreeBSD 14.2 | PASS | SKIPPED | SKIPPED | SKIPPED | +-------------------------------+--------------------+-------------------+------------------+-------------------+ | CentOS Stream 9 | PASS | WARN | SKIPPED | SKIPPED | +-------------------------------+--------------------+-------------------+------------------+-------------------+ | CentOS Stream 10 | PASS | SKIPPED | SKIPPED | SKIPPED | +-------------------------------+--------------------+-------------------+------------------+-------------------+ | Debian GNU/Linux 12 | PASS | WARN | SKIPPED | SKIPPED | +-------------------------------+--------------------+-------------------+------------------+-------------------+ | Fedora Linux 42 | PASS | WARN | PASS | SKIPPED | +-------------------------------+--------------------+-------------------+------------------+-------------------+ | openSUSE Leap 15.6 | PASS | SKIPPED | SKIPPED | SKIPPED | +-------------------------------+--------------------+-------------------+------------------+-------------------+ | Red Hat Enterprise Linux 8.10 | PASS | SKIPPED | SKIPPED | SKIPPED | +-------------------------------+--------------------+-------------------+------------------+-------------------+ | Red Hat Enterprise Linux 9.5 | PASS | SKIPPED | SKIPPED | SKIPPED | +-------------------------------+--------------------+-------------------+------------------+-------------------+ | Ubuntu 22.04 | PASS | WARN | SKIPPED | SKIPPED | +-------------------------------+--------------------+-------------------+------------------+-------------------+ | Ubuntu 24.04 | PASS | WARN | PASS | SKIPPED | +-------------------------------+--------------------+-------------------+------------------+-------------------+ | Alpine Linux 3.22.0 | PASS | SKIPPED | SKIPPED | SKIPPED | +-------------------------------+--------------------+-------------------+------------------+-------------------+ | Windows Server 2022 | SKIPPED | SKIPPED | SKIPPED | PASS | +-------------------------------+--------------------+-------------------+------------------+-------------------+ ==== 20 line log output for Ubuntu 24.04 (dpdk_compile_spdk): ==== --- Failed to get log output --- ==== End log output ==== Ubuntu 20.04 Kernel: 4.19 Compiler: gcc gcc (Ubuntu 9.4.0-1ubuntu1~20.04.2) 9.4.0 FreeBSD 14.2 Kernel: 14.2-RELEASE Compiler: clang 18.1.6 CentOS Stream 9 Kernel: 5.15 Compiler: gcc gcc (GCC) 11.5.0 20240719 (Red Hat 11.5.0-11) CentOS Stream 10 Kernel: 5.15 Compiler: gcc gcc (GCC) 14.2.1 20250110 (Red Hat 14.2.1-8) Debian GNU/Linux 12 Kernel: 5.15 Compiler: gcc gcc (Debian 12.2.0-14+deb12u1) 12.2.0 Fedora Linux 42 Kernel: 5.15 Compiler: clang gcc (GCC) 15.2.1 20250808 (Red Hat 15.2.1-1) openSUSE Leap 15.6 Kernel: 5.15 Compiler: gcc gcc (SUSE Linux) 7.5.0 Red Hat Enterprise Linux 8.10 Kernel: 5.15 Compiler: gcc gcc (GCC) 8.5.0 20210514 (Red Hat 8.5.0-22) Red Hat Enterprise Linux 9.5 Kernel: 5.15 Compiler: gcc gcc (GCC) 11.5.0 20240719 (Red Hat 11.5.0-2) Ubuntu 22.04 Kernel: 5.15 Compiler: gcc gcc (Ubuntu 11.4.0-1ubuntu1~22.04) 11.4.0 Ubuntu 24.04 Kernel: 5.15 Compiler: gcc gcc (Ubuntu 13.3.0-6ubuntu2~24.04) 13.3.0 Alpine Linux 3.22.0 Kernel: 5.15 Compiler: gcc gcc (Alpine 14.2.0) 14.2.0 Windows Server 2022 Kernel: 10.0.20348.2031 Compiler: clang 15.0.7, gcc 14.1.0 (MinGW), and MSVC VS 19.39.33521 To view detailed results, visit: https://lab.dpdk.org/results/dashboard/patchsets/34400/ UNH-IOL DPDK Community Lab To manage your email subscriptions, visit: https://lab.dpdk.org/results/dashboard/preferences/subscriptions/