From mboxrd@z Thu Jan 1 00:00:00 1970 Return-Path: Received: from mails.dpdk.org (mails.dpdk.org [217.70.189.124]) by inbox.dpdk.org (Postfix) with ESMTP id E1FF348A04 for ; Tue, 28 Oct 2025 19:40:21 +0100 (CET) Received: from mails.dpdk.org (localhost [127.0.0.1]) by mails.dpdk.org (Postfix) with ESMTP id C173D4021E; Tue, 28 Oct 2025 19:40:21 +0100 (CET) Received: from mail-yx1-f97.google.com (mail-yx1-f97.google.com [74.125.224.97]) by mails.dpdk.org (Postfix) with ESMTP id 0D9544021E for ; Tue, 28 Oct 2025 19:40:21 +0100 (CET) Received: by mail-yx1-f97.google.com with SMTP id 956f58d0204a3-63e0c6f0adfso6520138d50.3 for ; Tue, 28 Oct 2025 11:40:20 -0700 (PDT) DKIM-Signature: v=1; a=rsa-sha256; c=relaxed/relaxed; d=iol.unh.edu; s=unh-iol; t=1761676820; x=1762281620; darn=dpdk.org; h=references:in-reply-to:cc:to:from:subject:message-id:date:from:to :cc:subject:date:message-id:reply-to; bh=JRzKvE5oWSsLScFECt0ZQMkU0JSBgxxapRFYucefICY=; b=OrVkXGdEtqBYAPyjcrTu35igZe41hAjyF5NIP8WbexXj3PJsq8rILwtcOHXM1C5epx LxDVvlFN8YlKjW0UgZNM3Iqta2yNHOadudnAr32U3bpVn4PSfBz00v+64UQh0sbdFddq 4MH6m0j6i1a75GVstKT3v8uKtQq0GIqWB8vkQ= X-Google-DKIM-Signature: v=1; a=rsa-sha256; c=relaxed/relaxed; d=1e100.net; s=20230601; t=1761676820; x=1762281620; h=references:in-reply-to:cc:to:from:subject:message-id:date :x-gm-message-state:from:to:cc:subject:date:message-id:reply-to; bh=JRzKvE5oWSsLScFECt0ZQMkU0JSBgxxapRFYucefICY=; b=RV64cn9RI+jPdrVeFVwv//TWns/eWe7iaHL290gLs9KaAiYZ3dHek6SJsST/CrZFS+ kuETqV8lfo4VkhGuKkLIg21ts8PTylytOOBMJqvDOR45+P4jdaZg4AH7FCC4J2kZRP27 KS4fNUMrYpfM8JnngkVW8OOmID70DSJonmnxP9BdOy5tUSdFWY9gT7bNQsqvqGwJdUpY RCFirWVjipB1cnsjVlQECLeq046aX7BtNRM910TJagpAesL9/Sy9I83zIdV2Mfj0n6zc iusSz7WOp3BRaQzCYa3PmvpKFklAAShAd6qC23ZcVlkwwJiCDEFZAzQaLYbUPglVwasx EvcQ== X-Gm-Message-State: AOJu0YyNooai+IuHNHjD0nTzJ3ycqYjw924oJETC6gJS76dRYe3umZ9y gyk8QCZH6tkRDZBXXupx0p7nqMLtzhB74k3I+P8kb6iJbcorFiCXMpC6WJW+oR7MOACZChLp18y 6Byh4uBaP8pUqGM31qHNcpTbnAlIJ8Fu71hYATW3ao3e0 X-Gm-Gg: ASbGnct1+7PZdLn7N+uhvdLw1Xz9fGEpNGTfVVoYywieY/Ur6+Dnum+zJQXTAsTev8e M3WtsqG5N2XPsheTgy8M1gY0kbxqmCNS74OP+LnAalLCaoqCi6qzOx7pQAvu7JMUbn5G+P7yAgD sKBTZgBWtyTDSJ40jFK93H8gLjRZYsYwPQzXkx/vXQQm1/QQxmWpu2nhfW0TPeAu9UoL2FAG+sf AIStzBobQ3H+lQI1klRPjTPGePn1eTFcZJfk/jBp+PuodLNwrdNMFRnkUxwtCAcpWDbzqV1ty8d QVPDmQ7h2Lce8RtIgP+psbGD2F1xqa3eyHGddOHISPBHf3KnCnez+HijMkwuch5ynb7sEX1tYwi Rd5jrJ0D+hhKZuoYm/ab7NbOAL64g80U= X-Google-Smtp-Source: AGHT+IGjhd8zOiL5l6W9Lxg9hNwzTmEmxCC2k5dBJ0w3HVG9nhx4lKCthqTnqb5thbKse+4ZlXlqmZCs6I5g X-Received: by 2002:a53:d056:0:20b0:63e:17d8:d96e with SMTP id 956f58d0204a3-63f76d486f9mr412016d50.26.1761676820246; Tue, 28 Oct 2025 11:40:20 -0700 (PDT) Received: from postal.iol.unh.edu (postal.iol.unh.edu. [132.177.123.84]) by smtp-relay.gmail.com with ESMTPS id 00721157ae682-785ed18d220sm8061827b3.12.2025.10.28.11.40.20 (version=TLS1_2 cipher=ECDHE-ECDSA-AES128-GCM-SHA256 bits=128/128); Tue, 28 Oct 2025 11:40:20 -0700 (PDT) X-Relaying-Domain: iol.unh.edu Date: Tue, 28 Oct 2025 11:40:20 -0700 (PDT) Message-ID: <69010e14.050a0220.382e1.5376SMTPIN_ADDED_MISSING@mx.google.com> Received: from [172.21.0.3] (unknown [172.18.0.240]) by postal.iol.unh.edu (Postfix) with ESMTP id CD9C3604D420; Tue, 28 Oct 2025 14:40:19 -0400 (EDT) Subject: |WARNING| pw158179 [PATCH] net/mlx5: store rxq MTU at allocation tim From: dpdklab@iol.unh.edu To: Test Report Cc: dpdk-test-reports@iol.unh.edu In-Reply-To: <20251028095240.35281-1-a.schollmeyer@syseleven.de> References: <20251028095240.35281-1-a.schollmeyer@syseleven.de> Content-Type: text/plain X-BeenThere: test-report@dpdk.org X-Mailman-Version: 2.1.29 Precedence: list List-Id: automatic DPDK test reports List-Unsubscribe: , List-Archive: List-Post: List-Help: List-Subscribe: , Errors-To: test-report-bounces@dpdk.org Test-Label: iol-compile-amd64-testing Test-Status: WARNING http://dpdk.org/patch/158179 _Testing issues_ Submitter: Adrian Schollmeyer Date: Tuesday, October 28 2025 09:52:40 DPDK git baseline: Repo:dpdk-next-net-mlx Branch: master CommitID:39b54f2dcf44ad1f91eabc7080cd5dea763607fd 158179 --> testing issues Upstream job id: Windows-Compile-DPDK-Native#31939 Test environment and result as below: +-------------------------------+--------------------+-------------------+------------------+-------------------+-------------------------+ | Environment | dpdk_meson_compile | dpdk_compile_spdk | dpdk_compile_ovs | dpdk_msvc_compile | dpdk_llvm_clang_compile | +===============================+====================+===================+==================+===================+=========================+ | Ubuntu 20.04 | PASS | SKIPPED | SKIPPED | SKIPPED | SKIPPED | +-------------------------------+--------------------+-------------------+------------------+-------------------+-------------------------+ | FreeBSD 14.2 | PASS | SKIPPED | SKIPPED | SKIPPED | SKIPPED | +-------------------------------+--------------------+-------------------+------------------+-------------------+-------------------------+ | CentOS Stream 9 | PASS | WARN | SKIPPED | SKIPPED | SKIPPED | +-------------------------------+--------------------+-------------------+------------------+-------------------+-------------------------+ | CentOS Stream 10 | PASS | SKIPPED | SKIPPED | SKIPPED | SKIPPED | +-------------------------------+--------------------+-------------------+------------------+-------------------+-------------------------+ | Debian GNU/Linux 12 | PASS | WARN | SKIPPED | SKIPPED | SKIPPED | +-------------------------------+--------------------+-------------------+------------------+-------------------+-------------------------+ | Fedora Linux 42 | PASS | WARN | PASS | SKIPPED | SKIPPED | +-------------------------------+--------------------+-------------------+------------------+-------------------+-------------------------+ | openSUSE Leap 15.6 | PASS | SKIPPED | SKIPPED | SKIPPED | SKIPPED | +-------------------------------+--------------------+-------------------+------------------+-------------------+-------------------------+ | Red Hat Enterprise Linux 8.10 | PASS | SKIPPED | SKIPPED | SKIPPED | SKIPPED | +-------------------------------+--------------------+-------------------+------------------+-------------------+-------------------------+ | Red Hat Enterprise Linux 9.5 | PASS | SKIPPED | SKIPPED | SKIPPED | SKIPPED | +-------------------------------+--------------------+-------------------+------------------+-------------------+-------------------------+ | Ubuntu 22.04 | PASS | WARN | SKIPPED | SKIPPED | SKIPPED | +-------------------------------+--------------------+-------------------+------------------+-------------------+-------------------------+ | Ubuntu 24.04 | PASS | WARN | PASS | SKIPPED | SKIPPED | +-------------------------------+--------------------+-------------------+------------------+-------------------+-------------------------+ | Alpine Linux 3.22.0 | PASS | SKIPPED | SKIPPED | SKIPPED | SKIPPED | +-------------------------------+--------------------+-------------------+------------------+-------------------+-------------------------+ | Windows Server 2022 | SKIPPED | SKIPPED | SKIPPED | PASS | PASS | +-------------------------------+--------------------+-------------------+------------------+-------------------+-------------------------+ ==== 20 line log output for Ubuntu 24.04 (dpdk_compile_spdk): ==== --- Failed to get log output --- ==== End log output ==== Ubuntu 20.04 Kernel: 4.19 Compiler: gcc gcc (Ubuntu 9.4.0-1ubuntu1~20.04.2) 9.4.0 FreeBSD 14.2 Kernel: 14.2-RELEASE Compiler: clang 18.1.6 CentOS Stream 9 Kernel: 5.15 Compiler: gcc gcc (GCC) 11.5.0 20240719 (Red Hat 11.5.0-11) CentOS Stream 10 Kernel: 5.15 Compiler: gcc gcc (GCC) 14.2.1 20250110 (Red Hat 14.2.1-8) Debian GNU/Linux 12 Kernel: 5.15 Compiler: gcc gcc (Debian 12.2.0-14+deb12u1) 12.2.0 Fedora Linux 42 Kernel: 5.15 Compiler: clang gcc (GCC) 15.2.1 20250808 (Red Hat 15.2.1-1) openSUSE Leap 15.6 Kernel: 5.15 Compiler: gcc gcc (SUSE Linux) 7.5.0 Red Hat Enterprise Linux 8.10 Kernel: 5.15 Compiler: gcc gcc (GCC) 8.5.0 20210514 (Red Hat 8.5.0-22) Red Hat Enterprise Linux 9.5 Kernel: 5.15 Compiler: gcc gcc (GCC) 11.5.0 20240719 (Red Hat 11.5.0-2) Ubuntu 22.04 Kernel: 5.15 Compiler: gcc gcc (Ubuntu 11.4.0-1ubuntu1~22.04) 11.4.0 Ubuntu 24.04 Kernel: 5.15 Compiler: gcc gcc (Ubuntu 13.3.0-6ubuntu2~24.04) 13.3.0 Alpine Linux 3.22.0 Kernel: 5.15 Compiler: gcc gcc (Alpine 14.2.0) 14.2.0 Windows Server 2022 Kernel: 10.0.20348.2031 Compiler: clang 15.0.7, gcc 14.1.0 (MinGW), and MSVC VS 19.39.33521 To view detailed results, visit: https://lab.dpdk.org/results/dashboard/patchsets/34396/ UNH-IOL DPDK Community Lab To manage your email subscriptions, visit: https://lab.dpdk.org/results/dashboard/preferences/subscriptions/