From mboxrd@z Thu Jan 1 00:00:00 1970 Return-Path: Received: from mails.dpdk.org (mails.dpdk.org [217.70.189.124]) by inbox.dpdk.org (Postfix) with ESMTP id A30F548A04 for ; Tue, 28 Oct 2025 19:47:40 +0100 (CET) Received: from mails.dpdk.org (localhost [127.0.0.1]) by mails.dpdk.org (Postfix) with ESMTP id 7F75D4021E; Tue, 28 Oct 2025 19:47:40 +0100 (CET) Received: from mail-oa1-f99.google.com (mail-oa1-f99.google.com [209.85.160.99]) by mails.dpdk.org (Postfix) with ESMTP id 885E44021E for ; Tue, 28 Oct 2025 19:47:39 +0100 (CET) Received: by mail-oa1-f99.google.com with SMTP id 586e51a60fabf-3c9a42d6349so8337403fac.1 for ; Tue, 28 Oct 2025 11:47:39 -0700 (PDT) DKIM-Signature: v=1; a=rsa-sha256; c=relaxed/relaxed; d=iol.unh.edu; s=unh-iol; t=1761677259; x=1762282059; darn=dpdk.org; h=references:in-reply-to:cc:to:from:subject:message-id:date:from:to :cc:subject:date:message-id:reply-to; bh=rFMq7vV4/NP+OKau2PorQ2fKg3Yu5CMOL85doxjNFzQ=; b=c+fwf0BArf0Iti8R3yjEeXb4tmbFEFfHcN8pPZtJlzRUuwjdtrTH+BpLWhq/gAQLRZ zwKcFnz4zxqUHJ7GORIdnD0kdCcK1b7Ht3wcbGxgzohu7I3c6lmVaxQ6fOVI5S6LwqAh zOTIYsHW0+EWWlxhJeYEC2wSHVwKWJLq9qvQo= X-Google-DKIM-Signature: v=1; a=rsa-sha256; c=relaxed/relaxed; d=1e100.net; s=20230601; t=1761677259; x=1762282059; h=references:in-reply-to:cc:to:from:subject:message-id:date :x-gm-message-state:from:to:cc:subject:date:message-id:reply-to; bh=rFMq7vV4/NP+OKau2PorQ2fKg3Yu5CMOL85doxjNFzQ=; b=ABg4xGSi8HddjIYdRC7FYabiZC7VsLWU4J23/VH1BvMJHTGaLNlSZQfMYw2tU89HJM DEjrvr85cANgFs6F9lo2glZid47E7cDmw9zqY68atNqg/dKw8aW3ETmQWobCYCijFJsn omAkjNj8bluCscHeXDSY/w+FoiLdTSJm460lEju/RVpklq4HuHcMA9As+T0HoibYGluq n6h4/LqAJM8Q8AIsfAqDabbNYsjI0jra264SrYuzONnvS3lWwP9EfftG/2JhjKdeQqey NBT9e1hHlFvVp2XVNpq+st+KTuazFXovpTDm3CZJFT3c0b15XVYuDImrlqrKsEGzA1Jw RQXQ== X-Gm-Message-State: AOJu0Yz7kS8T225WarPYuAs83NpSroZepLGikygHwIuRjiBXzHXL21eI iZ4jX1VNd4yhYwpePg37y3Cx8URyiAiLxgwf9hSDE8fRs2lM3qBuQ2qqElQVchTOObHTYwS/5Sp qBZ6/g6zDPKWmTsM+5Qf8AqmbP+sU3rCKpC29z1Prfn5+ezpaZJ3QekEc3uJM X-Gm-Gg: ASbGncu1c1YkYWEXecMeuHiR0uAix7LiYWXPH4dIlHVVkmYDZIVdsDusD1LlN6LSBf0 28UfcqM5QFZFYF4Dwpb5pMkYukp/pL70Gigcec+/odtcxd3Ci8bNsmmuAdVqhE9VjmuUjhNLZse PlslPOIl40tIHpuZFKM37EYsrHA0XKepuhRZ+DEK1xYhno5xM3GSVcBSBGyCiEwMtvRNZUj4r4W r5JJSMvgs11O8Hz/t7LO0fBDS/cltzajHDMdOyaZsYKxwUiKmjbHlBvC2OcXDObVG63JDxX2Htd 9GxxM9AA5kvUHUaWOiOBqu61TZGNW2GRIw3p6LW/nbREEpGnY4yRKXZnUGJQ8WpEiXWVz55KE66 KbXQKR0vz X-Google-Smtp-Source: AGHT+IEH6Q8vzHNjNb/+8nurEKrL30Qqoda/49aXe8sBPlSLkcuI6S1zLbtuuIOF1GPvG0dWpKumc4eeauld X-Received: by 2002:a05:6871:7995:b0:368:f36e:6124 with SMTP id 586e51a60fabf-3d745d995e2mr243968fac.11.1761677258735; Tue, 28 Oct 2025 11:47:38 -0700 (PDT) Received: from postal.iol.unh.edu (postal.iol.unh.edu. [2606:4100:3880:1234::84]) by smtp-relay.gmail.com with ESMTPS id 586e51a60fabf-3d1e21f22c8sm1067031fac.1.2025.10.28.11.47.38 (version=TLS1_2 cipher=ECDHE-ECDSA-AES128-GCM-SHA256 bits=128/128); Tue, 28 Oct 2025 11:47:38 -0700 (PDT) X-Relaying-Domain: iol.unh.edu Date: Tue, 28 Oct 2025 11:47:38 -0700 (PDT) Message-ID: <69010fca.050a0220.1fb12.25b3SMTPIN_ADDED_MISSING@mx.google.com> Received: from [172.21.0.2] (unknown [172.18.0.240]) by postal.iol.unh.edu (Postfix) with ESMTP id 3EDEB604D420; Tue, 28 Oct 2025 14:47:38 -0400 (EDT) Subject: |SUCCESS| pw158184 [PATCH] [v2] graph: fix xstats description alloca From: dpdklab@iol.unh.edu To: Test Report Cc: dpdk-test-reports@iol.unh.edu In-Reply-To: <20251028110920.16353-1-cfontain@redhat.com> References: <20251028110920.16353-1-cfontain@redhat.com> Content-Type: text/plain X-BeenThere: test-report@dpdk.org X-Mailman-Version: 2.1.29 Precedence: list List-Id: automatic DPDK test reports List-Unsubscribe: , List-Archive: List-Post: List-Help: List-Subscribe: , Errors-To: test-report-bounces@dpdk.org Test-Label: iol-unit-amd64-testing Test-Status: SUCCESS http://dpdk.org/patch/158184 _Testing PASS_ Submitter: Christophe Fontaine Date: Tuesday, October 28 2025 11:09:20 DPDK git baseline: Repo:dpdk Branch: master CommitID:39b54f2dcf44ad1f91eabc7080cd5dea763607fd 158184 --> testing pass Upstream job id: Generic-VM-Unit-Test-DPDK#32121 Test environment and result as below: +-------------------------------+----------------+ | Environment | dpdk_unit_test | +===============================+================+ | CentOS Stream 9 | PASS | +-------------------------------+----------------+ | CentOS Stream 10 | PASS | +-------------------------------+----------------+ | Fedora Linux 41 | PASS | +-------------------------------+----------------+ | Fedora Linux 40 | PASS | +-------------------------------+----------------+ | Debian GNU/Linux 12 | PASS | +-------------------------------+----------------+ | Fedora Linux 42 | PASS | +-------------------------------+----------------+ | Red Hat Enterprise Linux 9.5 | PASS | +-------------------------------+----------------+ | Ubuntu 22.04 | PASS | +-------------------------------+----------------+ | Ubuntu 20.04 | PASS | +-------------------------------+----------------+ | Ubuntu 24.04 | PASS | +-------------------------------+----------------+ | Red Hat Enterprise Linux 8.10 | PASS | +-------------------------------+----------------+ | Windows Server 2022 | PASS | +-------------------------------+----------------+ CentOS Stream 9 Kernel: 5.15 Compiler: gcc gcc (GCC) 11.5.0 20240719 (Red Hat 11.5.0-11) CentOS Stream 10 Kernel: 5.15 Compiler: gcc gcc (GCC) 14.2.1 20250110 (Red Hat 14.2.1-8) Fedora Linux 41 Kernel: 5.15 Compiler: gcc gcc (GCC) 14.3.1 20250523 (Red Hat 14.3.1-1) Fedora Linux 40 Kernel: 5.15 Compiler: clang gcc (GCC) 14.2.1 20240912 (Red Hat 14.2.1-3) Debian GNU/Linux 12 Kernel: 5.15 Compiler: gcc gcc (Debian 12.2.0-14+deb12u1) 12.2.0 Fedora Linux 42 Kernel: 5.15 Compiler: gcc gcc (GCC) 15.2.1 20250808 (Red Hat 15.2.1-1) Red Hat Enterprise Linux 9.5 Kernel: 5.15 Compiler: gcc gcc (GCC) 11.5.0 20240719 (Red Hat 11.5.0-2) Ubuntu 22.04 Kernel: 5.15 Compiler: gcc gcc (Ubuntu 11.4.0-1ubuntu1~22.04) 11.4.0 Ubuntu 20.04 Kernel: 5.15 Compiler: gcc gcc (Ubuntu 9.4.0-1ubuntu1~20.04.2) 9.4.0 Ubuntu 24.04 Kernel: 5.15 Compiler: gcc gcc (Ubuntu 13.3.0-6ubuntu2~24.04) 13.3.0 Red Hat Enterprise Linux 8.10 Kernel: 5.15 Compiler: gcc gcc (GCC) 8.5.0 20210514 (Red Hat 8.5.0-22) Windows Server 2022 Kernel: 10.0.20348.2031 Compiler: clang 15.0.7, gcc 14.1.0 (MinGW), and MSVC VS 19.39.33521 To view detailed results, visit: https://lab.dpdk.org/results/dashboard/patchsets/34400/ UNH-IOL DPDK Community Lab To manage your email subscriptions, visit: https://lab.dpdk.org/results/dashboard/preferences/subscriptions/