From mboxrd@z Thu Jan 1 00:00:00 1970 Return-Path: Received: from mails.dpdk.org (mails.dpdk.org [217.70.189.124]) by inbox.dpdk.org (Postfix) with ESMTP id 5458A48A05 for ; Tue, 28 Oct 2025 20:05:07 +0100 (CET) Received: from mails.dpdk.org (localhost [127.0.0.1]) by mails.dpdk.org (Postfix) with ESMTP id 36D7F4021E; Tue, 28 Oct 2025 20:05:07 +0100 (CET) Received: from mail-yx1-f100.google.com (mail-yx1-f100.google.com [74.125.224.100]) by mails.dpdk.org (Postfix) with ESMTP id 7EDAA4021E for ; Tue, 28 Oct 2025 20:05:05 +0100 (CET) Received: by mail-yx1-f100.google.com with SMTP id 956f58d0204a3-63d97bcb898so443006d50.0 for ; Tue, 28 Oct 2025 12:05:05 -0700 (PDT) DKIM-Signature: v=1; a=rsa-sha256; c=relaxed/relaxed; d=iol.unh.edu; s=unh-iol; t=1761678305; x=1762283105; darn=dpdk.org; h=references:in-reply-to:cc:to:from:subject:message-id:date:from:to :cc:subject:date:message-id:reply-to; bh=rm/oCyk3YO+dQ0qLiEdLgnzHnkLTYLVLdkoLGtfTV54=; b=aL57YbCm+W0AU1gNBrMQcDJwrE9VHZKItuzM+zxrQZneT7qRaIOqQ89EocRzlgJhrl YUpnv5KBb0taiFqiRLrf1tCoIHQkP45SJtEI7QkwNBkMwc1gw3T2HL5O6hIHBf7bS2Qd 0agrYpdQ4wtnaMQgZehKzCjSgfcNVbPKxmyWA= X-Google-DKIM-Signature: v=1; a=rsa-sha256; c=relaxed/relaxed; d=1e100.net; s=20230601; t=1761678305; x=1762283105; h=references:in-reply-to:cc:to:from:subject:message-id:date :x-gm-message-state:from:to:cc:subject:date:message-id:reply-to; bh=rm/oCyk3YO+dQ0qLiEdLgnzHnkLTYLVLdkoLGtfTV54=; b=Njjt5mFWWFwO6BSd8kbaXVdrvA5c074xXcu5hEbzBCodtI83pp1BxAHuKIPw/ThPNp oTfmKxEywGfBXSckpcCo6dmXbWUhrNCC5+W7bmAODOAimyoirx9vw3gOspT1UNPMRyuk TvWyQKMnfE+USh9hohqLhG1sRnx4P4OQUJRu1q6HL1wMicTXBkDap8mgxJWUzynbEu5K iZ481U2bO7mpEmkWavdMZVTzxFjK889lYgYoBEXZEZYvdIp2rLg//BS7DM3kV6xD+9su Y0fHOJUAH7qfpscvEnyE2xR1m35IrHf+IYouvnxorM5/HBEXiYbkwG8eQjIoNiaWptGr zKXQ== X-Gm-Message-State: AOJu0YzMkolPrblCkN/k7ekQ9fQEM1y55h5Xb4pqsdl42QjSZeCdoXI6 jCvo2bziGdfWoLFKhtDoFaUgRgHKHzLWcVN5RWULmj5gMjRCXJL0WxWF2oHHPelUhoxo+Vg5m6m Tv20Ow7wjBtwMSXQmnTmywr7Lpu17h3TIT8QUOAGIR96R X-Gm-Gg: ASbGncsVacoyjSkUtnruIjb2ZpftQonOxQwGt8jypaTaVSMDGdsfVoxyDDFu2ghT0ZT Tq77sS3yBt4cscDUs8KGKedRXNl2AWrNRZYpvGo8EE0wnmHmWxT1ujsNezYDv9RlMjlMOYXqF5o EWNQ7l2CtZyDL+++12H+ErkOMtVx+tg+wL7rDWmAmN5tgJiMuIFugVEacZ/huU8ddzk6A/cT7z1 Esf21lrwYGzp0Qjn0/6d/zL1nTkOo3N8O3TU9R1H2eJiAdpL/ZPR/PrcZA+27Ol5gfgqSVnqF/9 QGXAR0QO/wfb9L6eWg3ajqAUo2vmkGFb/9dB58tSVlDDoNc1g+iusgljmqEi3hQQUwX+ODk9SF/ 34Ru6PlVlxDLEK3ew42EnGja4+feKtag= X-Google-Smtp-Source: AGHT+IFQUnWXpL9lXBgwIlmaewEC16A8Rr8+q0YyPteIBrz9B+Wdu03FGuY2T+zAMvFOnVmBrwJRxi1fqNwQ X-Received: by 2002:a53:d058:0:20b0:63e:c3a:ea77 with SMTP id 956f58d0204a3-63f772d0774mr282121d50.14.1761678303136; Tue, 28 Oct 2025 12:05:03 -0700 (PDT) Received: from postal.iol.unh.edu (postal.iol.unh.edu. [132.177.123.84]) by smtp-relay.gmail.com with ESMTPS id 956f58d0204a3-63f4c3be96csm871079d50.3.2025.10.28.12.05.03 (version=TLS1_2 cipher=ECDHE-ECDSA-AES128-GCM-SHA256 bits=128/128); Tue, 28 Oct 2025 12:05:03 -0700 (PDT) X-Relaying-Domain: iol.unh.edu Date: Tue, 28 Oct 2025 12:05:03 -0700 (PDT) Message-ID: <690113df.050a0220.6002f.7b22SMTPIN_ADDED_MISSING@mx.google.com> Received: from [172.21.0.2] (unknown [172.18.0.240]) by postal.iol.unh.edu (Postfix) with ESMTP id 500006051830; Tue, 28 Oct 2025 15:05:02 -0400 (EDT) Subject: |WARNING| pw158185-158187 [PATCH] [v11,3/3] dts: add Rx Tx offload t From: dpdklab@iol.unh.edu To: Test Report Cc: dpdk-test-reports@iol.unh.edu In-Reply-To: <20251028122240.112773-4-abailey@iol.unh.edu> References: <20251028122240.112773-4-abailey@iol.unh.edu> Content-Type: text/plain X-BeenThere: test-report@dpdk.org X-Mailman-Version: 2.1.29 Precedence: list List-Id: automatic DPDK test reports List-Unsubscribe: , List-Archive: List-Post: List-Help: List-Subscribe: , Errors-To: test-report-bounces@dpdk.org Test-Label: iol-compile-amd64-testing Test-Status: WARNING http://dpdk.org/patch/158187 _Testing issues_ Submitter: Andrew Bailey Date: Tuesday, October 28 2025 12:22:40 DPDK git baseline: Repo:dpdk-next-dts Branch: master CommitID:39b54f2dcf44ad1f91eabc7080cd5dea763607fd 158185-158187 --> testing issues Upstream job id: Windows-Compile-DPDK-VS#7345 Test environment and result as below: +-------------------------------+--------------------+-------------------+------------------+-------------------+ | Environment | dpdk_meson_compile | dpdk_compile_spdk | dpdk_compile_ovs | dpdk_msvc_compile | +===============================+====================+===================+==================+===================+ | FreeBSD 14.2 | PASS | SKIPPED | SKIPPED | SKIPPED | +-------------------------------+--------------------+-------------------+------------------+-------------------+ | Ubuntu 20.04 | PASS | SKIPPED | SKIPPED | SKIPPED | +-------------------------------+--------------------+-------------------+------------------+-------------------+ | CentOS Stream 9 | PASS | WARN | SKIPPED | SKIPPED | +-------------------------------+--------------------+-------------------+------------------+-------------------+ | CentOS Stream 10 | PASS | SKIPPED | SKIPPED | SKIPPED | +-------------------------------+--------------------+-------------------+------------------+-------------------+ | Alpine Linux 3.22.0 | PASS | SKIPPED | SKIPPED | SKIPPED | +-------------------------------+--------------------+-------------------+------------------+-------------------+ | Debian GNU/Linux 12 | PASS | WARN | SKIPPED | SKIPPED | +-------------------------------+--------------------+-------------------+------------------+-------------------+ | Fedora Linux 42 | PASS | WARN | PASS | SKIPPED | +-------------------------------+--------------------+-------------------+------------------+-------------------+ | openSUSE Leap 15.6 | PASS | SKIPPED | SKIPPED | SKIPPED | +-------------------------------+--------------------+-------------------+------------------+-------------------+ | Red Hat Enterprise Linux 8.10 | PASS | SKIPPED | SKIPPED | SKIPPED | +-------------------------------+--------------------+-------------------+------------------+-------------------+ | Red Hat Enterprise Linux 9.5 | PASS | SKIPPED | SKIPPED | SKIPPED | +-------------------------------+--------------------+-------------------+------------------+-------------------+ | Ubuntu 22.04 | PASS | WARN | SKIPPED | SKIPPED | +-------------------------------+--------------------+-------------------+------------------+-------------------+ | Ubuntu 24.04 | PASS | WARN | PASS | SKIPPED | +-------------------------------+--------------------+-------------------+------------------+-------------------+ | Windows Server 2022 | SKIPPED | SKIPPED | SKIPPED | PASS | +-------------------------------+--------------------+-------------------+------------------+-------------------+ ==== 20 line log output for Ubuntu 24.04 (dpdk_compile_spdk): ==== --- Failed to get log output --- ==== End log output ==== FreeBSD 14.2 Kernel: 14.2-RELEASE Compiler: clang 18.1.6 Ubuntu 20.04 Kernel: 4.19 Compiler: gcc gcc (Ubuntu 9.4.0-1ubuntu1~20.04.2) 9.4.0 CentOS Stream 9 Kernel: 5.15 Compiler: gcc gcc (GCC) 11.5.0 20240719 (Red Hat 11.5.0-11) CentOS Stream 10 Kernel: 5.15 Compiler: gcc gcc (GCC) 14.2.1 20250110 (Red Hat 14.2.1-8) Alpine Linux 3.22.0 Kernel: 5.15 Compiler: gcc gcc (Alpine 14.2.0) 14.2.0 Debian GNU/Linux 12 Kernel: 5.15 Compiler: gcc gcc (Debian 12.2.0-14+deb12u1) 12.2.0 Fedora Linux 42 Kernel: 5.15 Compiler: clang gcc (GCC) 15.2.1 20250808 (Red Hat 15.2.1-1) openSUSE Leap 15.6 Kernel: 5.15 Compiler: gcc gcc (SUSE Linux) 7.5.0 Red Hat Enterprise Linux 8.10 Kernel: 5.15 Compiler: gcc gcc (GCC) 8.5.0 20210514 (Red Hat 8.5.0-22) Red Hat Enterprise Linux 9.5 Kernel: 5.15 Compiler: gcc gcc (GCC) 11.5.0 20240719 (Red Hat 11.5.0-2) Ubuntu 22.04 Kernel: 5.15 Compiler: gcc gcc (Ubuntu 11.4.0-1ubuntu1~22.04) 11.4.0 Ubuntu 24.04 Kernel: 5.15 Compiler: gcc gcc (Ubuntu 13.3.0-6ubuntu2~24.04) 13.3.0 Windows Server 2022 Kernel: 10.0.20348.2031 Compiler: clang 15.0.7, gcc 14.1.0 (MinGW), and MSVC VS 19.39.33521 To view detailed results, visit: https://lab.dpdk.org/results/dashboard/patchsets/34401/ UNH-IOL DPDK Community Lab To manage your email subscriptions, visit: https://lab.dpdk.org/results/dashboard/preferences/subscriptions/