From mboxrd@z Thu Jan 1 00:00:00 1970 Return-Path: Received: from mails.dpdk.org (mails.dpdk.org [217.70.189.124]) by inbox.dpdk.org (Postfix) with ESMTP id 5A01748A05 for ; Tue, 28 Oct 2025 20:05:42 +0100 (CET) Received: from mails.dpdk.org (localhost [127.0.0.1]) by mails.dpdk.org (Postfix) with ESMTP id 561D84021E; Tue, 28 Oct 2025 20:05:42 +0100 (CET) Received: from mail-io1-f97.google.com (mail-io1-f97.google.com [209.85.166.97]) by mails.dpdk.org (Postfix) with ESMTP id 879944021E for ; Tue, 28 Oct 2025 20:05:40 +0100 (CET) Received: by mail-io1-f97.google.com with SMTP id ca18e2360f4ac-938bf212b72so271377539f.1 for ; Tue, 28 Oct 2025 12:05:40 -0700 (PDT) DKIM-Signature: v=1; a=rsa-sha256; c=relaxed/relaxed; d=iol.unh.edu; s=unh-iol; t=1761678340; x=1762283140; darn=dpdk.org; h=references:in-reply-to:cc:to:from:subject:message-id:date:from:to :cc:subject:date:message-id:reply-to; bh=GIjAwIXy3c7QPLPlmH5rbdXFV3TdDloEqh2Ui7+/RvM=; b=OL2Rk2PtmGMtNH4CNyFKMlrFK7yryJIwn4yJo+D+WywhHcSrZD15fLBnW8tueVEhdh p0uTQUjjesPDaG1Vzpsy1G/yYgt9yKZkzxxFYWdcFpqT2b+I9/iBpeWBYU3a+5pA44j7 gEdkKCoM1aRGB/4EPx0KwTaviYFsA1qOV5A7s= X-Google-DKIM-Signature: v=1; a=rsa-sha256; c=relaxed/relaxed; d=1e100.net; s=20230601; t=1761678340; x=1762283140; h=references:in-reply-to:cc:to:from:subject:message-id:date :x-gm-message-state:from:to:cc:subject:date:message-id:reply-to; bh=GIjAwIXy3c7QPLPlmH5rbdXFV3TdDloEqh2Ui7+/RvM=; b=QaTWwg3f+E6hPEwLavQDpqVt++tftHB1/7A58VvbrZL6LKajTuAnc2X+aAADfqpaBj VeP2VbnjfVCNphvG+RpqdBjpGnPZyC9I17XgdXB9SOXtV80m5fLoWf3EvVkX2+Cf/ib1 Q1DKhLPM9Sr4rXKPt/9GFHnZ+dWqpF7hmpOW18zKAvJ5HH7rtga6zOz/Wip/gRnSvnNe yMNWo2U7QuT6kJYd5JqdmF3E7fHBLfQtvPrr89knN2XtPz+5Ha8uiS3fhIh9iZPeZZ47 Q40LvkZyNe9dvRh9tHPeRnMfyXalyKa3S4ciXfOnWBQ+jysRbVV5SwEVb5kAFIqyeyOR p4fA== X-Gm-Message-State: AOJu0Yw1tDxgDPqXQufLusOUpFf33MAJpF2RaYFFchJNYdEkT8QQF7S2 Lwz1XIAIYeJ+vGtDj9IA7L6f94rzdksmQ0Ti1dcp7nXjNyX3LjPCoMlqycNRiTUzK04X92KZgAe Gm6GadBbk6FlUWphJQa30cKT2dHZ22CvqOU7kvILBIAl3v5kzTqOsl9yXYEwS X-Gm-Gg: ASbGncvyt7Z6V69QJkOi89Fz+OhPqA+a/gtP05lec7yi7rblP/B1ZYA2olsuxZacHJ0 O/hafnl5ffao7PW9JGi+GExhqJvxUgh1I2NCArGLHB3hqd1689BR0flECxwpm9g4z1+fF2Q3Zwj +msgtj3btlnngeRl2frGIOjJF8uXjEe40qOp6cvkySG65HiKkEr3jwEnQWbQInbBzSM933nvJlh oxsZZxYhJfuUE7klveiwJHJQsfLk34vwUIdxIr/gqsHZOr22niamjAUja+PUiPChsjHp8tskKy6 9tKd1JBMTuuZlvlO7In50sa1IFR3GkgyEdo1kbMKgSpaVqldyrP/fPRgKP2bpy0ontjGty/aa7F /p/I3xywd X-Google-Smtp-Source: AGHT+IGDothtZ9sAY10wHLIGNNPr2FKba/kaFZs7Q8eaCG0WpZb7b5bHZ21k403EG3LIHl3SnlSV0RBx2kWI X-Received: by 2002:a05:6e02:23c6:b0:42d:bb9d:5358 with SMTP id e9e14a558f8ab-432f9045877mr4172915ab.27.1761678339772; Tue, 28 Oct 2025 12:05:39 -0700 (PDT) Received: from postal.iol.unh.edu (postal.iol.unh.edu. [2606:4100:3880:1234::84]) by smtp-relay.gmail.com with ESMTPS id e9e14a558f8ab-431f688cb87sm11310335ab.18.2025.10.28.12.05.39 (version=TLS1_2 cipher=ECDHE-ECDSA-AES128-GCM-SHA256 bits=128/128); Tue, 28 Oct 2025 12:05:39 -0700 (PDT) X-Relaying-Domain: iol.unh.edu Date: Tue, 28 Oct 2025 12:05:39 -0700 (PDT) Message-ID: <69011403.050a0220.26b683.4a0eSMTPIN_ADDED_MISSING@mx.google.com> Received: from [172.21.0.2] (unknown [172.18.0.240]) by postal.iol.unh.edu (Postfix) with ESMTP id 703586051830; Tue, 28 Oct 2025 15:05:39 -0400 (EDT) Subject: |SUCCESS| pw158182 [PATCH] net/mlx5: store rxq MTU at allocation tim From: dpdklab@iol.unh.edu To: Test Report Cc: dpdk-test-reports@iol.unh.edu In-Reply-To: <20251028100144.36284-1-a.schollmeyer@syseleven.de> References: <20251028100144.36284-1-a.schollmeyer@syseleven.de> Content-Type: text/plain X-BeenThere: test-report@dpdk.org X-Mailman-Version: 2.1.29 Precedence: list List-Id: automatic DPDK test reports List-Unsubscribe: , List-Archive: List-Post: List-Help: List-Subscribe: , Errors-To: test-report-bounces@dpdk.org Test-Label: iol-unit-arm64-testing Test-Status: SUCCESS http://dpdk.org/patch/158182 _Testing PASS_ Submitter: Adrian Schollmeyer Date: Tuesday, October 28 2025 10:01:44 DPDK git baseline: Repo:dpdk-next-net-mlx Branch: master CommitID:39b54f2dcf44ad1f91eabc7080cd5dea763607fd 158182 --> testing pass Upstream job id: Generic-Unit-Test-DPDK#386069 Test environment and result as below: +------------------------------+----------------+------------------------------+---------------------------+--------------+ | Environment | dpdk_unit_test | cryptodev_sw_snow3g_autotest | cryptodev_sw_zuc_autotest | lpm_autotest | +==============================+================+==============================+===========================+==============+ | Fedora Linux 40 | PASS | SKIPPED | SKIPPED | SKIPPED | +------------------------------+----------------+------------------------------+---------------------------+--------------+ | CentOS Stream 9 | PASS | SKIPPED | SKIPPED | SKIPPED | +------------------------------+----------------+------------------------------+---------------------------+--------------+ | CentOS Stream 10 | PASS | SKIPPED | SKIPPED | SKIPPED | +------------------------------+----------------+------------------------------+---------------------------+--------------+ | Ubuntu 22.04 | PASS | SKIPPED | SKIPPED | SKIPPED | +------------------------------+----------------+------------------------------+---------------------------+--------------+ | Fedora Linux 41 | PASS | SKIPPED | SKIPPED | SKIPPED | +------------------------------+----------------+------------------------------+---------------------------+--------------+ | Debian GNU/Linux 12 | PASS | SKIPPED | SKIPPED | SKIPPED | +------------------------------+----------------+------------------------------+---------------------------+--------------+ | Red Hat Enterprise Linux 9.5 | PASS | SKIPPED | SKIPPED | SKIPPED | +------------------------------+----------------+------------------------------+---------------------------+--------------+ | Fedora Linux 42 | PASS | SKIPPED | SKIPPED | SKIPPED | +------------------------------+----------------+------------------------------+---------------------------+--------------+ | Ubuntu 20.04 | PASS | SKIPPED | SKIPPED | PASS | +------------------------------+----------------+------------------------------+---------------------------+--------------+ | Ubuntu 24.04 | PASS | SKIPPED | SKIPPED | SKIPPED | +------------------------------+----------------+------------------------------+---------------------------+--------------+ | Debian 12 (arm) | SKIPPED | PASS | PASS | SKIPPED | +------------------------------+----------------+------------------------------+---------------------------+--------------+ Fedora Linux 40 Kernel: 5.4 Compiler: gcc gcc (GCC) 14.2.1 20240912 (Red Hat 14.2.1-3) CentOS Stream 9 Kernel: 5.4 Compiler: gcc gcc (GCC) 11.5.0 20240719 (Red Hat 11.5.0-11) CentOS Stream 10 Kernel: 5.4 Compiler: gcc gcc (GCC) 14.2.1 20250110 (Red Hat 14.2.1-8) Ubuntu 22.04 Kernel: 5.4 Compiler: gcc gcc (Ubuntu 11.4.0-1ubuntu1~22.04) 11.4.0 Fedora Linux 41 Kernel: 5.4 Compiler: gcc gcc (GCC) 14.3.1 20250523 (Red Hat 14.3.1-1) Debian GNU/Linux 12 Kernel: 5.4 Compiler: gcc gcc (Debian 12.2.0-14+deb12u1) 12.2.0 Red Hat Enterprise Linux 9.5 Kernel: 5.4 Compiler: gcc gcc (GCC) 11.5.0 20240719 (Red Hat 11.5.0-2) Fedora Linux 42 Kernel: 5.4 Compiler: clang gcc (GCC) 15.2.1 20250808 (Red Hat 15.2.1-1) Ubuntu 20.04 Kernel: 5.4 Compiler: gcc gcc (Ubuntu 9.4.0-1ubuntu1~20.04.2) 9.4.0 Ubuntu 24.04 Kernel: 5.4 Compiler: gcc gcc (Ubuntu 13.3.0-6ubuntu2~24.04) 13.3.0 Debian 12 (arm) Kernel: Depends on container host Compiler: gcc (Debian 12.2.0-14) 12.2.0 To view detailed results, visit: https://lab.dpdk.org/results/dashboard/patchsets/34398/ UNH-IOL DPDK Community Lab To manage your email subscriptions, visit: https://lab.dpdk.org/results/dashboard/preferences/subscriptions/