From mboxrd@z Thu Jan 1 00:00:00 1970 Return-Path: Received: from mails.dpdk.org (mails.dpdk.org [217.70.189.124]) by inbox.dpdk.org (Postfix) with ESMTP id 6DEF348A05 for ; Tue, 28 Oct 2025 20:06:03 +0100 (CET) Received: from mails.dpdk.org (localhost [127.0.0.1]) by mails.dpdk.org (Postfix) with ESMTP id 689694021E; Tue, 28 Oct 2025 20:06:03 +0100 (CET) Received: from mail-pg1-f227.google.com (mail-pg1-f227.google.com [209.85.215.227]) by mails.dpdk.org (Postfix) with ESMTP id D5E294021E for ; Tue, 28 Oct 2025 20:06:01 +0100 (CET) Received: by mail-pg1-f227.google.com with SMTP id 41be03b00d2f7-b62e7221351so5597438a12.1 for ; Tue, 28 Oct 2025 12:06:01 -0700 (PDT) DKIM-Signature: v=1; a=rsa-sha256; c=relaxed/relaxed; d=iol.unh.edu; s=unh-iol; t=1761678361; x=1762283161; darn=dpdk.org; h=references:in-reply-to:cc:to:from:subject:message-id:date:from:to :cc:subject:date:message-id:reply-to; bh=vMQAIRwydosi8bY2f/pYw53Gqz7wP3CgCc+7M4H6e60=; b=ZDQXrB8B9MuW4xHMx6RpxPYCJFLUBz+oTFfnycC13f8ADvfV+QiBH6/rC2bnW7l7jB X5Xw4ARa/SLRIVnhWy2N/UrpRAvEey9Nvme6HUN2fo1AQ0G46Vaah7wngzC+6lu1HDzh 4sF0OJ/LETusomYKHazVNsqMYfW+hoJOEKUn4= X-Google-DKIM-Signature: v=1; a=rsa-sha256; c=relaxed/relaxed; d=1e100.net; s=20230601; t=1761678361; x=1762283161; h=references:in-reply-to:cc:to:from:subject:message-id:date :x-gm-message-state:from:to:cc:subject:date:message-id:reply-to; bh=vMQAIRwydosi8bY2f/pYw53Gqz7wP3CgCc+7M4H6e60=; b=idbRBBPiRKysfLc5lGt/naK46CgX6GJe+zyXRRqM7iQLV1HcfZnFCfS5bRIxDsrYp7 L5bJFzDx5yrdtsanG4mYocLykaYK+2jou3IlqLYhhWxR5OltgHrncuKXnUa2wJn6Lme0 EIOeC37YqTpdtJKxWQQId8St10WHvKwfTbuguDDCVMsTdat3DNuOk+j6FQbtDLAyW3ud qS9/bIQ7u/ThzpWxGU+g4UyJ3BSXb9XCznFDBCnoMq0tsyFNn5lJtejDUL6HbLZM+2Ak mYcvu5TExaYjdPmXTU0Du7edP7BLvEQNdhYahL9VD1Hk153q8R2QplkhPHIKzCNXfhxf gGiw== X-Gm-Message-State: AOJu0YzSwbenuUPgPBcBHZ2GYwXvWox4e4xThYx96+NgLA04Mu/Snmm3 78RuRk7HUX8vtuqiwgB6y55KXYDv33MaxSJOydTzjU9esSuMJA2Wf++91O7Zf9KY3t9DjEZUX1p BCU5tvvG3ZXZ0msMUp2rgfDuTYizvfSfBttvK23gpXg6BK74oRjzaggKe4hk6 X-Gm-Gg: ASbGncujfRoMT6tty8zt8Ox5ghno6PkR3kIoot2SG/mCxW0EiQ+R7x14x4cSYokPYVJ hjAqzeJZCoGR48JyfvtFDHJT/8a5lNivB1s5crKh9LYo418LjmPu3Zq8GTA7xJojxYX3SC8Waki tTAYKS7E6O7ELd2+F8Ke+POvSmzoiUoFgWtzvHTY/9fDfEQ9gvBqKtb+HNvwjOdZh/3P8EkeHez cYDpx1vW4pS8aKd7klkUeDBT/hijNvqhdVfsL2YfI+/NhhFAYcUQvCgqd/21xEYmy2EMzYXbE9K n5ODhj30dPIqJTdqStxlxELAm0o2+AKC0ikMXMTrxbZMWHP2LQtg6lzVWyUS+wp5hjG1rNYqRyy 1g3oD7mQ1 X-Google-Smtp-Source: AGHT+IHqwHDMPP5Uh2Mbx4FG9VQIdi3C4NLg764yNmOOUgjRWEitKnLnAmHdgAboF5cQCHXD8lPtOPp6RRaK X-Received: by 2002:a17:902:e5ce:b0:294:d953:6ff9 with SMTP id d9443c01a7336-294deef6c5dmr2937705ad.47.1761678361028; Tue, 28 Oct 2025 12:06:01 -0700 (PDT) Received: from postal.iol.unh.edu (postal.iol.unh.edu. [2606:4100:3880:1234::84]) by smtp-relay.gmail.com with ESMTPS id d9443c01a7336-29498d42a14sm11360515ad.48.2025.10.28.12.06.00 (version=TLS1_2 cipher=ECDHE-ECDSA-AES128-GCM-SHA256 bits=128/128); Tue, 28 Oct 2025 12:06:01 -0700 (PDT) X-Relaying-Domain: iol.unh.edu Date: Tue, 28 Oct 2025 12:06:01 -0700 (PDT) Message-ID: <69011419.170a0220.35e0fa.57b4SMTPIN_ADDED_MISSING@mx.google.com> Received: from [172.21.0.2] (unknown [172.18.0.240]) by postal.iol.unh.edu (Postfix) with ESMTP id 73B136051830; Tue, 28 Oct 2025 15:06:00 -0400 (EDT) Subject: |WARNING| pw158179 [PATCH] net/mlx5: store rxq MTU at allocation tim From: dpdklab@iol.unh.edu To: Test Report Cc: dpdk-test-reports@iol.unh.edu In-Reply-To: <20251028095240.35281-1-a.schollmeyer@syseleven.de> References: <20251028095240.35281-1-a.schollmeyer@syseleven.de> Content-Type: text/plain X-BeenThere: test-report@dpdk.org X-Mailman-Version: 2.1.29 Precedence: list List-Id: automatic DPDK test reports List-Unsubscribe: , List-Archive: List-Post: List-Help: List-Subscribe: , Errors-To: test-report-bounces@dpdk.org Test-Label: iol-compile-amd64-testing Test-Status: WARNING http://dpdk.org/patch/158179 _Testing issues_ Submitter: Adrian Schollmeyer Date: Tuesday, October 28 2025 09:52:40 DPDK git baseline: Repo:dpdk-next-net-mlx Branch: master CommitID:39b54f2dcf44ad1f91eabc7080cd5dea763607fd 158179 --> testing issues Upstream job id: Windows-Compile-DPDK-Native#31940 Test environment and result as below: +-------------------------------+--------------------+-------------------+------------------+-------------------+-------------------------+----------------------+ | Environment | dpdk_meson_compile | dpdk_compile_spdk | dpdk_compile_ovs | dpdk_msvc_compile | dpdk_llvm_clang_compile | dpdk_mingw64_compile | +===============================+====================+===================+==================+===================+=========================+======================+ | Ubuntu 20.04 | PASS | SKIPPED | SKIPPED | SKIPPED | SKIPPED | SKIPPED | +-------------------------------+--------------------+-------------------+------------------+-------------------+-------------------------+----------------------+ | FreeBSD 14.2 | PASS | SKIPPED | SKIPPED | SKIPPED | SKIPPED | SKIPPED | +-------------------------------+--------------------+-------------------+------------------+-------------------+-------------------------+----------------------+ | CentOS Stream 9 | PASS | WARN | SKIPPED | SKIPPED | SKIPPED | SKIPPED | +-------------------------------+--------------------+-------------------+------------------+-------------------+-------------------------+----------------------+ | CentOS Stream 10 | PASS | SKIPPED | SKIPPED | SKIPPED | SKIPPED | SKIPPED | +-------------------------------+--------------------+-------------------+------------------+-------------------+-------------------------+----------------------+ | Debian GNU/Linux 12 | PASS | WARN | SKIPPED | SKIPPED | SKIPPED | SKIPPED | +-------------------------------+--------------------+-------------------+------------------+-------------------+-------------------------+----------------------+ | Fedora Linux 42 | PASS | WARN | PASS | SKIPPED | SKIPPED | SKIPPED | +-------------------------------+--------------------+-------------------+------------------+-------------------+-------------------------+----------------------+ | openSUSE Leap 15.6 | PASS | SKIPPED | SKIPPED | SKIPPED | SKIPPED | SKIPPED | +-------------------------------+--------------------+-------------------+------------------+-------------------+-------------------------+----------------------+ | Red Hat Enterprise Linux 8.10 | PASS | SKIPPED | SKIPPED | SKIPPED | SKIPPED | SKIPPED | +-------------------------------+--------------------+-------------------+------------------+-------------------+-------------------------+----------------------+ | Red Hat Enterprise Linux 9.5 | PASS | SKIPPED | SKIPPED | SKIPPED | SKIPPED | SKIPPED | +-------------------------------+--------------------+-------------------+------------------+-------------------+-------------------------+----------------------+ | Ubuntu 22.04 | PASS | WARN | SKIPPED | SKIPPED | SKIPPED | SKIPPED | +-------------------------------+--------------------+-------------------+------------------+-------------------+-------------------------+----------------------+ | Ubuntu 24.04 | PASS | WARN | PASS | SKIPPED | SKIPPED | SKIPPED | +-------------------------------+--------------------+-------------------+------------------+-------------------+-------------------------+----------------------+ | Alpine Linux 3.22.0 | PASS | SKIPPED | SKIPPED | SKIPPED | SKIPPED | SKIPPED | +-------------------------------+--------------------+-------------------+------------------+-------------------+-------------------------+----------------------+ | Windows Server 2022 | SKIPPED | SKIPPED | SKIPPED | PASS | PASS | PASS | +-------------------------------+--------------------+-------------------+------------------+-------------------+-------------------------+----------------------+ ==== 20 line log output for Ubuntu 24.04 (dpdk_compile_spdk): ==== --- Failed to get log output --- ==== End log output ==== Ubuntu 20.04 Kernel: 4.19 Compiler: gcc gcc (Ubuntu 9.4.0-1ubuntu1~20.04.2) 9.4.0 FreeBSD 14.2 Kernel: 14.2-RELEASE Compiler: clang 18.1.6 CentOS Stream 9 Kernel: 5.15 Compiler: gcc gcc (GCC) 11.5.0 20240719 (Red Hat 11.5.0-11) CentOS Stream 10 Kernel: 5.15 Compiler: gcc gcc (GCC) 14.2.1 20250110 (Red Hat 14.2.1-8) Debian GNU/Linux 12 Kernel: 5.15 Compiler: gcc gcc (Debian 12.2.0-14+deb12u1) 12.2.0 Fedora Linux 42 Kernel: 5.15 Compiler: clang gcc (GCC) 15.2.1 20250808 (Red Hat 15.2.1-1) openSUSE Leap 15.6 Kernel: 5.15 Compiler: gcc gcc (SUSE Linux) 7.5.0 Red Hat Enterprise Linux 8.10 Kernel: 5.15 Compiler: gcc gcc (GCC) 8.5.0 20210514 (Red Hat 8.5.0-22) Red Hat Enterprise Linux 9.5 Kernel: 5.15 Compiler: gcc gcc (GCC) 11.5.0 20240719 (Red Hat 11.5.0-2) Ubuntu 22.04 Kernel: 5.15 Compiler: gcc gcc (Ubuntu 11.4.0-1ubuntu1~22.04) 11.4.0 Ubuntu 24.04 Kernel: 5.15 Compiler: gcc gcc (Ubuntu 13.3.0-6ubuntu2~24.04) 13.3.0 Alpine Linux 3.22.0 Kernel: 5.15 Compiler: gcc gcc (Alpine 14.2.0) 14.2.0 Windows Server 2022 Kernel: 10.0.20348.2031 Compiler: clang 15.0.7, gcc 14.1.0 (MinGW), and MSVC VS 19.39.33521 To view detailed results, visit: https://lab.dpdk.org/results/dashboard/patchsets/34396/ UNH-IOL DPDK Community Lab To manage your email subscriptions, visit: https://lab.dpdk.org/results/dashboard/preferences/subscriptions/