From mboxrd@z Thu Jan 1 00:00:00 1970 Return-Path: Received: from mails.dpdk.org (mails.dpdk.org [217.70.189.124]) by inbox.dpdk.org (Postfix) with ESMTP id 1F5EF48A05 for ; Tue, 28 Oct 2025 20:10:57 +0100 (CET) Received: from mails.dpdk.org (localhost [127.0.0.1]) by mails.dpdk.org (Postfix) with ESMTP id 152E94021E; Tue, 28 Oct 2025 20:10:57 +0100 (CET) Received: from mail-io1-f98.google.com (mail-io1-f98.google.com [209.85.166.98]) by mails.dpdk.org (Postfix) with ESMTP id A2F1E4021E for ; Tue, 28 Oct 2025 20:10:55 +0100 (CET) Received: by mail-io1-f98.google.com with SMTP id ca18e2360f4ac-93e2c9821fcso566154739f.3 for ; Tue, 28 Oct 2025 12:10:55 -0700 (PDT) DKIM-Signature: v=1; a=rsa-sha256; c=relaxed/relaxed; d=iol.unh.edu; s=unh-iol; t=1761678655; x=1762283455; darn=dpdk.org; h=references:in-reply-to:cc:to:from:subject:message-id:date:from:to :cc:subject:date:message-id:reply-to; bh=coQkEE9GAakt3NpwO1KvgssvhPya9MvKizOFGQVlPBw=; b=S/Qb/auBHHf8Rdrr2fYpZGp1h9b/DZEqlD2tEbs1Sdpe+F4Vg+rcH0lAwed7ce+ogX JYr3BKBnpCPf7RT6jKIVXxo9ZotGW6imDZvhqP8KMvMMkZW8bIM0elrBi42EnzUvQQJE swPu/9FOc0QXa+sNwhGC3fb6glOxgOKI4AbsY= X-Google-DKIM-Signature: v=1; a=rsa-sha256; c=relaxed/relaxed; d=1e100.net; s=20230601; t=1761678655; x=1762283455; h=references:in-reply-to:cc:to:from:subject:message-id:date :x-gm-message-state:from:to:cc:subject:date:message-id:reply-to; bh=coQkEE9GAakt3NpwO1KvgssvhPya9MvKizOFGQVlPBw=; b=aINlywVb9u7kM0bEZ+NnoWcvLPdf0qbWr3LehS2Q6Ynk7q47XS2mzYTj/Hpe9hAXTB CHbIWzA2DYlyxBIAjjJVuR2R2tNBBLPuk2tGPeVqWcINBOUWStjjfcagJYxejO9IcsK/ ugBb3CFMWsrCVeecpyT0PGW7lyVrDEypG96tVAN2D2rJ7ScxHxQUG50lH3VMNIHMI1R8 lXK07NphFYAERpa03xMkqiYOpWsP752hFZjVWmO2pieQSajwqCWbVE73iYe3Ew/UmLvT 9kW0uV5J9kTsNtGZoYFWI2kSdcBODI2rVVZfS7XjkmHwvzVSNwUVMmBZTNofgYiAfOFD KVHg== X-Gm-Message-State: AOJu0YwnW4Gdr1p3KSJdspBeUfarwqLznK2UcTxu1o+kJu/+5zRC8Ysb 1NzQVOD4xeAgjcSjkhzSc/QAd5ICzN70Wwe83eLn+8Oa+wGOOMVFeok2kyh8nJTnS86KiVw4I+r AiyOM9iCryPfnL8V+ju3cHj4MxhIZPfWqsJ5HNrTyF5lZyZhfNRclHC6T144j X-Gm-Gg: ASbGnct+7yZAy2VcmGLyrRHLYvChKEMdFc6LpID2EIAO3LL7hyfU1nCzQQY1C8GT5ye f5YjLuuZsgqCklLWn0Fr8CKap936Y35chg2+rq5uVzKzbkfhv5QQCYsZHcy35zNvcBr78DrTnkD hoO4354jpfRDZpY/MNVcSHeAWQCRT6aLpUCBRMRCnZcL6jemcyA4hhkcdd77vgCCahtmT/WTev7 TYueJBx555siBwzL8wX0TJOqRvBC5ZXiHHDrD+u8sG6DXxIVZuvqZH4bRMcQHiKUCGnWalXv0DL 1GUll2kX1j5ZszXZdfGvEaIyuPG/9MkNUPF/zcgHonD8ja46Z8djkbVK2GlRKF8wc1YhK7/1kud zuF10rUlU X-Google-Smtp-Source: AGHT+IEBruGSVfqIgZTId7+WpxqMGtOp+QUss+gvfg2iA85H02a7ZR+wVwDkT0w4GcaFA6z/QOGGYduB0Dgc X-Received: by 2002:a92:cdab:0:b0:42f:9dd5:3ebb with SMTP id e9e14a558f8ab-432f90754b5mr4147585ab.24.1761678654948; Tue, 28 Oct 2025 12:10:54 -0700 (PDT) Received: from postal.iol.unh.edu (postal.iol.unh.edu. [2606:4100:3880:1234::84]) by smtp-relay.gmail.com with ESMTPS id 8926c6da1cb9f-5aea76ea679sm929064173.7.2025.10.28.12.10.54 (version=TLS1_2 cipher=ECDHE-ECDSA-AES128-GCM-SHA256 bits=128/128); Tue, 28 Oct 2025 12:10:54 -0700 (PDT) X-Relaying-Domain: iol.unh.edu Date: Tue, 28 Oct 2025 12:10:54 -0700 (PDT) Message-ID: <6901153e.050a0220.2aa120.b507SMTPIN_ADDED_MISSING@mx.google.com> Received: from [172.21.0.2] (unknown [172.18.0.240]) by postal.iol.unh.edu (Postfix) with ESMTP id 867BA6051830; Tue, 28 Oct 2025 15:10:54 -0400 (EDT) Subject: |SUCCESS| pw158184 [PATCH] [v2] graph: fix xstats description alloca From: dpdklab@iol.unh.edu To: Test Report Cc: dpdk-test-reports@iol.unh.edu In-Reply-To: <20251028110920.16353-1-cfontain@redhat.com> References: <20251028110920.16353-1-cfontain@redhat.com> Content-Type: text/plain X-BeenThere: test-report@dpdk.org X-Mailman-Version: 2.1.29 Precedence: list List-Id: automatic DPDK test reports List-Unsubscribe: , List-Archive: List-Post: List-Help: List-Subscribe: , Errors-To: test-report-bounces@dpdk.org Test-Label: iol-unit-amd64-testing Test-Status: SUCCESS http://dpdk.org/patch/158184 _Testing PASS_ Submitter: Christophe Fontaine Date: Tuesday, October 28 2025 11:09:20 DPDK git baseline: Repo:dpdk Branch: master CommitID:39b54f2dcf44ad1f91eabc7080cd5dea763607fd 158184 --> testing pass Upstream job id: Generic-VM-Unit-Test-DPDK#32122 Test environment and result as below: +-------------------------------+----------------+ | Environment | dpdk_unit_test | +===============================+================+ | CentOS Stream 9 | PASS | +-------------------------------+----------------+ | CentOS Stream 10 | PASS | +-------------------------------+----------------+ | Fedora Linux 41 | PASS | +-------------------------------+----------------+ | Fedora Linux 40 | PASS | +-------------------------------+----------------+ | Debian GNU/Linux 12 | PASS | +-------------------------------+----------------+ | Fedora Linux 42 | PASS | +-------------------------------+----------------+ | Red Hat Enterprise Linux 9.5 | PASS | +-------------------------------+----------------+ | Ubuntu 22.04 | PASS | +-------------------------------+----------------+ | Ubuntu 20.04 | PASS | +-------------------------------+----------------+ | Ubuntu 24.04 | PASS | +-------------------------------+----------------+ | Red Hat Enterprise Linux 8.10 | PASS | +-------------------------------+----------------+ | Windows Server 2022 | PASS | +-------------------------------+----------------+ CentOS Stream 9 Kernel: 5.15 Compiler: gcc gcc (GCC) 11.5.0 20240719 (Red Hat 11.5.0-11) CentOS Stream 10 Kernel: 5.15 Compiler: gcc gcc (GCC) 14.2.1 20250110 (Red Hat 14.2.1-8) Fedora Linux 41 Kernel: 5.15 Compiler: gcc gcc (GCC) 14.3.1 20250523 (Red Hat 14.3.1-1) Fedora Linux 40 Kernel: 5.15 Compiler: clang gcc (GCC) 14.2.1 20240912 (Red Hat 14.2.1-3) Debian GNU/Linux 12 Kernel: 5.15 Compiler: gcc gcc (Debian 12.2.0-14+deb12u1) 12.2.0 Fedora Linux 42 Kernel: 5.15 Compiler: gcc gcc (GCC) 15.2.1 20250808 (Red Hat 15.2.1-1) Red Hat Enterprise Linux 9.5 Kernel: 5.15 Compiler: gcc gcc (GCC) 11.5.0 20240719 (Red Hat 11.5.0-2) Ubuntu 22.04 Kernel: 5.15 Compiler: gcc gcc (Ubuntu 11.4.0-1ubuntu1~22.04) 11.4.0 Ubuntu 20.04 Kernel: 5.15 Compiler: gcc gcc (Ubuntu 9.4.0-1ubuntu1~20.04.2) 9.4.0 Ubuntu 24.04 Kernel: 5.15 Compiler: gcc gcc (Ubuntu 13.3.0-6ubuntu2~24.04) 13.3.0 Red Hat Enterprise Linux 8.10 Kernel: 5.15 Compiler: gcc gcc (GCC) 8.5.0 20210514 (Red Hat 8.5.0-22) Windows Server 2022 Kernel: 10.0.20348.2031 Compiler: clang 15.0.7, gcc 14.1.0 (MinGW), and MSVC VS 19.39.33521 To view detailed results, visit: https://lab.dpdk.org/results/dashboard/patchsets/34400/ UNH-IOL DPDK Community Lab To manage your email subscriptions, visit: https://lab.dpdk.org/results/dashboard/preferences/subscriptions/