From mboxrd@z Thu Jan 1 00:00:00 1970 Return-Path: Received: from mails.dpdk.org (mails.dpdk.org [217.70.189.124]) by inbox.dpdk.org (Postfix) with ESMTP id 55A1C48A05 for ; Tue, 28 Oct 2025 20:23:06 +0100 (CET) Received: from mails.dpdk.org (localhost [127.0.0.1]) by mails.dpdk.org (Postfix) with ESMTP id 3A7AE4021E; Tue, 28 Oct 2025 20:23:06 +0100 (CET) Received: from mail-pj1-f100.google.com (mail-pj1-f100.google.com [209.85.216.100]) by mails.dpdk.org (Postfix) with ESMTP id E96AB4021E for ; Tue, 28 Oct 2025 20:23:04 +0100 (CET) Received: by mail-pj1-f100.google.com with SMTP id 98e67ed59e1d1-33d463e79ddso7929743a91.0 for ; Tue, 28 Oct 2025 12:23:04 -0700 (PDT) DKIM-Signature: v=1; a=rsa-sha256; c=relaxed/relaxed; d=iol.unh.edu; s=unh-iol; t=1761679384; x=1762284184; darn=dpdk.org; h=references:in-reply-to:cc:to:from:subject:message-id:date:from:to :cc:subject:date:message-id:reply-to; bh=m3hHAHh7QsrXrWX7wpCj2UeyQS9114NwJ+Q3tN3z16E=; b=irO8+QXTIQllU5gS/egR4HdKz9JElsBX6kS3pqeewuOFu+YtCAi/eJN/grI8Qe+GIw Kc+cqZMib4JBPjLBq8RqncpbljtHa5ZAwXdr+7X2UrVr4rx+wjfGMHqx7o72sQGu8fh1 0N4s3uoJ49Ebu4YesjQfylBdOTA5IkoNYiYzk= X-Google-DKIM-Signature: v=1; a=rsa-sha256; c=relaxed/relaxed; d=1e100.net; s=20230601; t=1761679384; x=1762284184; h=references:in-reply-to:cc:to:from:subject:message-id:date :x-gm-message-state:from:to:cc:subject:date:message-id:reply-to; bh=m3hHAHh7QsrXrWX7wpCj2UeyQS9114NwJ+Q3tN3z16E=; b=Cg30RsY8/wGSyLi+n7X+XKgJjlktvNSm1NyNkO6wDC6IqKv5c1FPxOcy4hnEL24XQJ fSUpvXBOVL3RbJvzIzSb+hnsntWl5vUA59oPC44ClPrDbYWu/pOMJ0L+yvuKc4+r3WCK 5WZkOzHI0Uf0nbbxp+6dDOLFj2WCT5KyZcbAuJt2wDtbvVtrH1uPZbn7TOD4scbBDUuJ tbwBpWeiyy3eFOy6tck18ZEPpMnOjcI1awSJ929d5mSzIYp8T4iJWVq0bcQ2Ni/A02Wr YWrfRGH8qfGyXd60bPynMCTSQUgxCEcftJFaoA4miC4xn7IXWwqeZL7HGCZJ74F9HqHu VlWg== X-Gm-Message-State: AOJu0Yx5r9sDMugJTbI3xvIAQcFXpQGf5tczjcaWeW19golBv9cipFoB awdkwBdSYZOBbvftO46fMKEAE2rsmo3X/XFu0+i2G0gndugpeYu1bn6Zng6Vu+vvWXpQwreq0At B0v8kQYZBBK9CNhg2KNZaylUJcmn66h7JTmHqWToMJnp4MAlAq9dBUIl57M/E X-Gm-Gg: ASbGncvUse4eSPUqdc7E57zLj8vY81PVsAc/IDZfwmdQAXIzpShO41uL2XnayZTfwUm BChCbwLoLTkGGVYdw2bnuYyfG6LW1BH3itVAKU6DjHpiaLl/yUIMgVAxZLix8JqAhT+oUvF+mhD RKM3W/xIWzvHUtbU3HwzHoI8pGfJQbbQG7UEhZsALrUnJUmRVsVdmTI7TvbG4awJuYRlq7o5V74 xC+jH/sperTbyrG8dSKeGozGdGR7M6LA37xu2fMV4jS21R9KsN8RwYOdofZePRavwLtu7/LH/eV BasfkdscZB94zH9j19nvj5mJUa2zmVf03lhinTvPGWEyo+wLuhGi9Z8NRadpCiQ5E8CluxUjjBl 2KNthEqst X-Google-Smtp-Source: AGHT+IFiUs7VY2u8zRH8RFn7zaL67yUMLnCbwTlLLR8ZgKqZuufhDZBn9pYOFL9yZ+l4NThPoGDlSE4nykkJ X-Received: by 2002:a17:90b:5448:b0:33e:3833:b123 with SMTP id 98e67ed59e1d1-3403a2f2118mr177092a91.25.1761679383996; Tue, 28 Oct 2025 12:23:03 -0700 (PDT) Received: from postal.iol.unh.edu (postal.iol.unh.edu. [2606:4100:3880:1234::84]) by smtp-relay.gmail.com with ESMTPS id 98e67ed59e1d1-33fed7e5521sm1112614a91.8.2025.10.28.12.23.03 (version=TLS1_2 cipher=ECDHE-ECDSA-AES128-GCM-SHA256 bits=128/128); Tue, 28 Oct 2025 12:23:03 -0700 (PDT) X-Relaying-Domain: iol.unh.edu Date: Tue, 28 Oct 2025 12:23:03 -0700 (PDT) Message-ID: <69011817.170a0220.1c62de.4b7aSMTPIN_ADDED_MISSING@mx.google.com> Received: from [172.21.0.2] (unknown [172.18.0.240]) by postal.iol.unh.edu (Postfix) with ESMTP id 696926051830; Tue, 28 Oct 2025 15:23:03 -0400 (EDT) Subject: |SUCCESS| pw158184 [PATCH] [v2] graph: fix xstats description alloca From: dpdklab@iol.unh.edu To: Test Report Cc: dpdk-test-reports@iol.unh.edu In-Reply-To: <20251028110920.16353-1-cfontain@redhat.com> References: <20251028110920.16353-1-cfontain@redhat.com> Content-Type: text/plain X-BeenThere: test-report@dpdk.org X-Mailman-Version: 2.1.29 Precedence: list List-Id: automatic DPDK test reports List-Unsubscribe: , List-Archive: List-Post: List-Help: List-Subscribe: , Errors-To: test-report-bounces@dpdk.org Test-Label: iol-compile-arm64-testing Test-Status: SUCCESS http://dpdk.org/patch/158184 _Testing PASS_ Submitter: Christophe Fontaine Date: Tuesday, October 28 2025 11:09:20 DPDK git baseline: Repo:dpdk Branch: master CommitID:39b54f2dcf44ad1f91eabc7080cd5dea763607fd 158184 --> testing pass Upstream job id: Generic-DPDK-Compile-Meson#438535 Test environment and result as below: +------------------------------+--------------------+ | Environment | dpdk_meson_compile | +==============================+====================+ | Red Hat Enterprise Linux 9.5 | PASS | +------------------------------+--------------------+ | Ubuntu 20.04 | PASS | +------------------------------+--------------------+ | Debian GNU/Linux 12 | PASS | +------------------------------+--------------------+ | Fedora Linux 42 | PASS | +------------------------------+--------------------+ | Ubuntu 22.04 | PASS | +------------------------------+--------------------+ | Ubuntu 24.04 | PASS | +------------------------------+--------------------+ | CentOS Stream 9 | PASS | +------------------------------+--------------------+ | CentOS Stream 10 | PASS | +------------------------------+--------------------+ Red Hat Enterprise Linux 9.5 Kernel: 5.4 Compiler: gcc gcc (GCC) 11.5.0 20240719 (Red Hat 11.5.0-2) Ubuntu 20.04 Kernel: 5.15 Compiler: aarch64-linux-gnu-gcc gcc (Ubuntu 9.4.0-1ubuntu1~20.04.2) 9.4.0 Debian GNU/Linux 12 Kernel: 5.4 Compiler: gcc gcc (Debian 12.2.0-14+deb12u1) 12.2.0 Fedora Linux 42 Kernel: 5.4 Compiler: gcc gcc (GCC) 15.2.1 20250808 (Red Hat 15.2.1-1) Ubuntu 22.04 Kernel: 5.4 Compiler: gcc gcc (Ubuntu 11.4.0-1ubuntu1~22.04) 11.4.0 Ubuntu 24.04 Kernel: 5.4 Compiler: gcc gcc (Ubuntu 13.3.0-6ubuntu2~24.04) 13.3.0 CentOS Stream 9 Kernel: 5.4 Compiler: gcc gcc (GCC) 11.5.0 20240719 (Red Hat 11.5.0-11) CentOS Stream 10 Kernel: 5.4 Compiler: gcc gcc (GCC) 14.2.1 20250110 (Red Hat 14.2.1-8) To view detailed results, visit: https://lab.dpdk.org/results/dashboard/patchsets/34400/ UNH-IOL DPDK Community Lab To manage your email subscriptions, visit: https://lab.dpdk.org/results/dashboard/preferences/subscriptions/