From mboxrd@z Thu Jan 1 00:00:00 1970 Return-Path: Received: from mails.dpdk.org (mails.dpdk.org [217.70.189.124]) by inbox.dpdk.org (Postfix) with ESMTP id BBCC048A05 for ; Tue, 28 Oct 2025 20:28:08 +0100 (CET) Received: from mails.dpdk.org (localhost [127.0.0.1]) by mails.dpdk.org (Postfix) with ESMTP id A9FD94021E; Tue, 28 Oct 2025 20:28:08 +0100 (CET) Received: from mail-yx1-f98.google.com (mail-yx1-f98.google.com [74.125.224.98]) by mails.dpdk.org (Postfix) with ESMTP id 54BE94021E for ; Tue, 28 Oct 2025 20:28:07 +0100 (CET) Received: by mail-yx1-f98.google.com with SMTP id 956f58d0204a3-63e2c7a3d10so7030567d50.2 for ; Tue, 28 Oct 2025 12:28:07 -0700 (PDT) DKIM-Signature: v=1; a=rsa-sha256; c=relaxed/relaxed; d=iol.unh.edu; s=unh-iol; t=1761679686; x=1762284486; darn=dpdk.org; h=references:in-reply-to:cc:to:from:subject:message-id:date:from:to :cc:subject:date:message-id:reply-to; bh=1IC1hnF/5vLfZUrTlTknEm6wx7RR9G7coAatJhTfAcI=; b=M8E06iLzw5nGCgxsBHTn+XQbkxtEd2DPfF8ZdVBdCBj1BVOE+FMf7BJ2tiLAteos63 CyoFxE/t6PuV2sJn1ThLpgIYfZ4R9YeShwvSdonRy3nAr/996Jp6Zt0vHXdfCbxcYxcP nLbfLfyjtpYYz17MPD7uAVdMNAvXQstO72Xtk= X-Google-DKIM-Signature: v=1; a=rsa-sha256; c=relaxed/relaxed; d=1e100.net; s=20230601; t=1761679686; x=1762284486; h=references:in-reply-to:cc:to:from:subject:message-id:date :x-gm-message-state:from:to:cc:subject:date:message-id:reply-to; bh=1IC1hnF/5vLfZUrTlTknEm6wx7RR9G7coAatJhTfAcI=; b=KoGOWUmHeMT4iSj911B7fEBYvvwd8ycFOQw38rrz+eivse/KI7+3OzILEZ6CDa/aC/ ML27AALs4nHFf+VYGQMhfRLjZks6ZnnKh13t1FcP2AnDYG+VtkB4bRi5Nxm2VLAvleJE tLfmQygfsr1lmzY4uENGyYxaF4BEUcn7mKEKLlFWwSnFE+A+KHF8a4kK+gZIYpGtLVqP 2OCLituPHP1+53cEIFFKySSKy0wbHixKqiPI01lQn8MHRklZ9J+ZvWOaUx5dN6/1V7F0 Q+yw0u55/u5ra4LIK+L1SdJMsEhJSnwaH+1AqHHE10dC4hf5ayfadkVTiAd3136wQ7Ej AkhQ== X-Gm-Message-State: AOJu0YwUvfIfwXErwMKQjVrYgorkxYKq0n7U6t8sXDiSLVUFltY2OBjW WN9KK1X9cW4Qe9divMmEnmMSphWKOlUoRAdib9+Albb7P1v9OecZ1YMKyH+4y89mQaZ0+G/cgVW q98k3vSs6HbE2ZAxpYXDa+oijeYaOB3QoN5bzsTGq90xAkt3o11X0f5gctxKa X-Gm-Gg: ASbGncsVlsWWItt5V5dFqqnOUcQWGLx3MNBJUum7xCGv/A9f20cAACdeoItwk5M2aSi 6g4xilO2V5zIt28PNfvT+25bcW/MYyubdKn720w+Qz/Da/bzwFDgOJii260ica23aORq+sGc9+/ +Ia0DIQ/Wd2mQeQnPTLAbxd2pi8S2LHinjKBmfnTXmd7mUe49uSt0PAtPdTqRzYGL/tSQ3gjZ1M DvgWhgB3FGSsVL3XgTGUTxzpowVPGCpJlP4wWGr+oge1uvHZd4xnvryaZuhso8Sg45Bb0C/D/Ae BUPDHcc/Q98FHEEOgdhOMxC6z7OxQMmSQkTY9OYBuaKc709X692HOTuX5XlhdogshNGwuInLvMA w9xLH5ZFF X-Google-Smtp-Source: AGHT+IHxkSydx+2uf+v89C3PYV0RcBMpTHJPJGFZw4+gJR0rx/aoygc+hGR5ZQfztOUGksrR6xHAZr5jIESj X-Received: by 2002:a05:690e:160f:b0:63b:6e65:ba27 with SMTP id 956f58d0204a3-63f76dfd108mr418667d50.50.1761679686571; Tue, 28 Oct 2025 12:28:06 -0700 (PDT) Received: from postal.iol.unh.edu (postal.iol.unh.edu. [2606:4100:3880:1234::84]) by smtp-relay.gmail.com with ESMTPS id 956f58d0204a3-63f4c3be96csm874587d50.3.2025.10.28.12.28.06 (version=TLS1_2 cipher=ECDHE-ECDSA-AES128-GCM-SHA256 bits=128/128); Tue, 28 Oct 2025 12:28:06 -0700 (PDT) X-Relaying-Domain: iol.unh.edu Date: Tue, 28 Oct 2025 12:28:06 -0700 (PDT) Message-ID: <69011946.050a0220.6002f.7e8cSMTPIN_ADDED_MISSING@mx.google.com> Received: from [172.21.0.2] (unknown [172.18.0.240]) by postal.iol.unh.edu (Postfix) with ESMTP id 1B1226050A61; Tue, 28 Oct 2025 15:28:06 -0400 (EDT) Subject: |WARNING| pw158183 [PATCH] graph: fix xstats description allocation From: dpdklab@iol.unh.edu To: Test Report Cc: dpdk-test-reports@iol.unh.edu In-Reply-To: <20251028101333.14776-1-cfontain@redhat.com> References: <20251028101333.14776-1-cfontain@redhat.com> Content-Type: text/plain X-BeenThere: test-report@dpdk.org X-Mailman-Version: 2.1.29 Precedence: list List-Id: automatic DPDK test reports List-Unsubscribe: , List-Archive: List-Post: List-Help: List-Subscribe: , Errors-To: test-report-bounces@dpdk.org Test-Label: iol-compile-amd64-testing Test-Status: WARNING http://dpdk.org/patch/158183 _Testing issues_ Submitter: Christophe Fontaine Date: Tuesday, October 28 2025 10:13:33 DPDK git baseline: Repo:dpdk Branch: master CommitID:39b54f2dcf44ad1f91eabc7080cd5dea763607fd 158183 --> testing issues Upstream job id: Windows-Compile-DPDK-Native#31941 Test environment and result as below: +-------------------------------+--------------------+-------------------+------------------+-------------------+-------------------------+ | Environment | dpdk_meson_compile | dpdk_compile_spdk | dpdk_compile_ovs | dpdk_msvc_compile | dpdk_llvm_clang_compile | +===============================+====================+===================+==================+===================+=========================+ | Ubuntu 20.04 | PASS | SKIPPED | SKIPPED | SKIPPED | SKIPPED | +-------------------------------+--------------------+-------------------+------------------+-------------------+-------------------------+ | FreeBSD 14.2 | PASS | SKIPPED | SKIPPED | SKIPPED | SKIPPED | +-------------------------------+--------------------+-------------------+------------------+-------------------+-------------------------+ | CentOS Stream 9 | PASS | WARN | SKIPPED | SKIPPED | SKIPPED | +-------------------------------+--------------------+-------------------+------------------+-------------------+-------------------------+ | CentOS Stream 10 | PASS | SKIPPED | SKIPPED | SKIPPED | SKIPPED | +-------------------------------+--------------------+-------------------+------------------+-------------------+-------------------------+ | Debian GNU/Linux 12 | PASS | WARN | SKIPPED | SKIPPED | SKIPPED | +-------------------------------+--------------------+-------------------+------------------+-------------------+-------------------------+ | Fedora Linux 42 | PASS | WARN | PASS | SKIPPED | SKIPPED | +-------------------------------+--------------------+-------------------+------------------+-------------------+-------------------------+ | Red Hat Enterprise Linux 8.10 | PASS | SKIPPED | SKIPPED | SKIPPED | SKIPPED | +-------------------------------+--------------------+-------------------+------------------+-------------------+-------------------------+ | Red Hat Enterprise Linux 9.5 | PASS | SKIPPED | SKIPPED | SKIPPED | SKIPPED | +-------------------------------+--------------------+-------------------+------------------+-------------------+-------------------------+ | Ubuntu 22.04 | PASS | WARN | SKIPPED | SKIPPED | SKIPPED | +-------------------------------+--------------------+-------------------+------------------+-------------------+-------------------------+ | Ubuntu 24.04 | PASS | WARN | PASS | SKIPPED | SKIPPED | +-------------------------------+--------------------+-------------------+------------------+-------------------+-------------------------+ | Alpine Linux 3.22.0 | PASS | SKIPPED | SKIPPED | SKIPPED | SKIPPED | +-------------------------------+--------------------+-------------------+------------------+-------------------+-------------------------+ | openSUSE Leap 15.6 | PASS | SKIPPED | SKIPPED | SKIPPED | SKIPPED | +-------------------------------+--------------------+-------------------+------------------+-------------------+-------------------------+ | Windows Server 2022 | SKIPPED | SKIPPED | SKIPPED | PASS | PASS | +-------------------------------+--------------------+-------------------+------------------+-------------------+-------------------------+ ==== 20 line log output for Ubuntu 24.04 (dpdk_compile_spdk): ==== --- Failed to get log output --- ==== End log output ==== Ubuntu 20.04 Kernel: 4.19 Compiler: gcc gcc (Ubuntu 9.4.0-1ubuntu1~20.04.2) 9.4.0 FreeBSD 14.2 Kernel: 14.2-RELEASE Compiler: clang 18.1.6 CentOS Stream 9 Kernel: 5.15 Compiler: gcc gcc (GCC) 11.5.0 20240719 (Red Hat 11.5.0-11) CentOS Stream 10 Kernel: 5.15 Compiler: gcc gcc (GCC) 14.2.1 20250110 (Red Hat 14.2.1-8) Debian GNU/Linux 12 Kernel: 5.15 Compiler: gcc gcc (Debian 12.2.0-14+deb12u1) 12.2.0 Fedora Linux 42 Kernel: 5.15 Compiler: clang gcc (GCC) 15.2.1 20250808 (Red Hat 15.2.1-1) Red Hat Enterprise Linux 8.10 Kernel: 5.15 Compiler: gcc gcc (GCC) 8.5.0 20210514 (Red Hat 8.5.0-22) Red Hat Enterprise Linux 9.5 Kernel: 5.15 Compiler: gcc gcc (GCC) 11.5.0 20240719 (Red Hat 11.5.0-2) Ubuntu 22.04 Kernel: 5.15 Compiler: gcc gcc (Ubuntu 11.4.0-1ubuntu1~22.04) 11.4.0 Ubuntu 24.04 Kernel: 5.15 Compiler: gcc gcc (Ubuntu 13.3.0-6ubuntu2~24.04) 13.3.0 Alpine Linux 3.22.0 Kernel: 5.15 Compiler: gcc gcc (Alpine 14.2.0) 14.2.0 openSUSE Leap 15.6 Kernel: 5.15 Compiler: gcc gcc (SUSE Linux) 7.5.0 Windows Server 2022 Kernel: 10.0.20348.2031 Compiler: clang 15.0.7, gcc 14.1.0 (MinGW), and MSVC VS 19.39.33521 To view detailed results, visit: https://lab.dpdk.org/results/dashboard/patchsets/34397/ UNH-IOL DPDK Community Lab To manage your email subscriptions, visit: https://lab.dpdk.org/results/dashboard/preferences/subscriptions/