From mboxrd@z Thu Jan 1 00:00:00 1970 Return-Path: Received: from mails.dpdk.org (mails.dpdk.org [217.70.189.124]) by inbox.dpdk.org (Postfix) with ESMTP id 860C948A05 for ; Tue, 28 Oct 2025 20:35:39 +0100 (CET) Received: from mails.dpdk.org (localhost [127.0.0.1]) by mails.dpdk.org (Postfix) with ESMTP id 611B04021E; Tue, 28 Oct 2025 20:35:39 +0100 (CET) Received: from mail-oo1-f100.google.com (mail-oo1-f100.google.com [209.85.161.100]) by mails.dpdk.org (Postfix) with ESMTP id 5B84E4021E for ; Tue, 28 Oct 2025 20:35:38 +0100 (CET) Received: by mail-oo1-f100.google.com with SMTP id 006d021491bc7-654ecc2af8eso909346eaf.1 for ; Tue, 28 Oct 2025 12:35:38 -0700 (PDT) DKIM-Signature: v=1; a=rsa-sha256; c=relaxed/relaxed; d=iol.unh.edu; s=unh-iol; t=1761680137; x=1762284937; darn=dpdk.org; h=references:in-reply-to:cc:to:from:subject:message-id:date:from:to :cc:subject:date:message-id:reply-to; bh=jVq8MqMvWC+V189sbYEhV6cxtcf+E1Pw3zqfAbzUfUQ=; b=JPxxFkN3OBEAVift4Nh38JQQg1HaYK3RgZi0oCJCw2YBpQt8emSQX+VKF6q6z04TRc r22mDU69oAh+2hjDRIOK1VF7TC1xLMJnaSo6Z18QdBLx2RLpY5Lp6loTza6tTOPPsbxt AzQ0VkNTyL8FEEaaDEAKAiWimbE00IPEIdFTA= X-Google-DKIM-Signature: v=1; a=rsa-sha256; c=relaxed/relaxed; d=1e100.net; s=20230601; t=1761680137; x=1762284937; h=references:in-reply-to:cc:to:from:subject:message-id:date :x-gm-message-state:from:to:cc:subject:date:message-id:reply-to; bh=jVq8MqMvWC+V189sbYEhV6cxtcf+E1Pw3zqfAbzUfUQ=; b=hVrJ10xQnEcji3k9Dqbee6KsZ/ka3QrQooCPjfc5A+WTZi5yCTWOqMKyHgIfSq0/d8 Gxh/Zuw2qPCZx3d6rho5AARkluJaZNEKTx0yHf9LlXM2HFPB9S5/UbqLLr9of6xT8jmI kiATfKIlq/z6qrbcGKHgTc1Oo+WilQz2Gc+guUTfg3q6aMkBSDwqRcMrBxSH4E6IHy2v Mva9gITi2cfquD97Aau4zULFX9junU2G0DgQFtcng3ceh4aVW/kvnkAcIo5BkgJKmK2R O6PoOPXs0sZEtQMPhuYvWU+19LgWgZ2girlNXjQVPEkyF39SgZ9+T9TtYQ/frEZzvW8O G13Q== X-Gm-Message-State: AOJu0YyEHLMUOGvt8jA8az/9DvZzldtdufaPyxjKQ1UOgGIKlJ5+t3kd c2Aln5GTQMyoztLlsrjC7CB5f8afb2uqq8smimSgsjUnbkJTVyGRCWOrc3hurBzEXgikTrZ63oa iiaZIZGFUSllswCFvXYOVTfQZH70+FkQ7SWCObRRoILL/ X-Gm-Gg: ASbGnctFzf/PowHIb5avoyGAuFZspAggqTuIzVjStsS0UgMBPBYNlKlq9tetN6HkhqX 4Mi24kP1WHvl4J3Ba3fvA4ZuutscEQNnDEvR4CeHPfCtVTSBwHtAt0gTzXgpwuxJNoocVx7Ry5n HXfUcxSxgH+Gql3HlBAsZ4NeKokQNuUs2fTf0K9K7SwxMQCDXV8LlPgDcT1SoqyzfbxE1TMeLpb RLQ/QiUkJJRaTRghRjRT1VyUHnBm1opciuvutSJJBcYxjEEi3VZc5CYBJ2cMwayv9ZnG/o57Aem LMKpqstaeUM6PmVSH2vc2Nayugo5Euc5ZZ7hxuxeUCV8PcXvHI2ZElIzlKc8OGtkI2k/3iDAkLi yHbRSsG61FqLV0DpWgE8oSOUjzPg/itQ= X-Google-Smtp-Source: AGHT+IH5aHuG7HBLDHjrJXapEwuwWBvUlMCanuo1YvFiymPAqx/tjlcsrm6SwbEY+LgRNzGIatRcqrjC5E6+ X-Received: by 2002:a05:6871:a6a9:b0:3d4:5306:bb33 with SMTP id 586e51a60fabf-3d745fa543amr285093fac.15.1761680137405; Tue, 28 Oct 2025 12:35:37 -0700 (PDT) Received: from postal.iol.unh.edu (postal.iol.unh.edu. [132.177.123.84]) by smtp-relay.gmail.com with ESMTPS id 586e51a60fabf-3d1e2e2a07asm1034970fac.9.2025.10.28.12.35.37 (version=TLS1_2 cipher=ECDHE-ECDSA-AES128-GCM-SHA256 bits=128/128); Tue, 28 Oct 2025 12:35:37 -0700 (PDT) X-Relaying-Domain: iol.unh.edu Date: Tue, 28 Oct 2025 12:35:37 -0700 (PDT) Message-ID: <69011b09.050a0220.14e355.ffb9SMTPIN_ADDED_MISSING@mx.google.com> Received: from [172.21.0.2] (unknown [172.18.0.240]) by postal.iol.unh.edu (Postfix) with ESMTP id D88BC6050A61; Tue, 28 Oct 2025 15:35:36 -0400 (EDT) Subject: |SUCCESS| pw158185-158187 [PATCH] [v11,3/3] dts: add Rx Tx offload t From: dpdklab@iol.unh.edu To: Test Report Cc: dpdk-test-reports@iol.unh.edu In-Reply-To: <20251028122240.112773-4-abailey@iol.unh.edu> References: <20251028122240.112773-4-abailey@iol.unh.edu> Content-Type: text/plain X-BeenThere: test-report@dpdk.org X-Mailman-Version: 2.1.29 Precedence: list List-Id: automatic DPDK test reports List-Unsubscribe: , List-Archive: List-Post: List-Help: List-Subscribe: , Errors-To: test-report-bounces@dpdk.org Test-Label: iol-unit-amd64-testing Test-Status: SUCCESS http://dpdk.org/patch/158187 _Testing PASS_ Submitter: Andrew Bailey Date: Tuesday, October 28 2025 12:22:40 DPDK git baseline: Repo:dpdk-next-dts Branch: master CommitID:39b54f2dcf44ad1f91eabc7080cd5dea763607fd 158185-158187 --> testing pass Upstream job id: Generic-VM-Unit-Test-DPDK#32123 Test environment and result as below: +-------------------------------+----------------+ | Environment | dpdk_unit_test | +===============================+================+ | Debian GNU/Linux 12 | PASS | +-------------------------------+----------------+ | CentOS Stream 9 | PASS | +-------------------------------+----------------+ | CentOS Stream 10 | PASS | +-------------------------------+----------------+ | Fedora Linux 40 | PASS | +-------------------------------+----------------+ | Ubuntu 20.04 | PASS | +-------------------------------+----------------+ | Fedora Linux 41 | PASS | +-------------------------------+----------------+ | Red Hat Enterprise Linux 8.10 | PASS | +-------------------------------+----------------+ | Fedora Linux 42 | PASS | +-------------------------------+----------------+ | Red Hat Enterprise Linux 9.5 | PASS | +-------------------------------+----------------+ | Ubuntu 24.04 | PASS | +-------------------------------+----------------+ | Ubuntu 22.04 | PASS | +-------------------------------+----------------+ | Windows Server 2022 | PASS | +-------------------------------+----------------+ Debian GNU/Linux 12 Kernel: 5.15 Compiler: gcc gcc (Debian 12.2.0-14+deb12u1) 12.2.0 CentOS Stream 9 Kernel: 5.15 Compiler: gcc gcc (GCC) 11.5.0 20240719 (Red Hat 11.5.0-11) CentOS Stream 10 Kernel: 5.15 Compiler: gcc gcc (GCC) 14.2.1 20250110 (Red Hat 14.2.1-8) Fedora Linux 40 Kernel: 5.15 Compiler: clang gcc (GCC) 14.2.1 20240912 (Red Hat 14.2.1-3) Ubuntu 20.04 Kernel: 5.15 Compiler: gcc gcc (Ubuntu 9.4.0-1ubuntu1~20.04.2) 9.4.0 Fedora Linux 41 Kernel: 5.15 Compiler: gcc gcc (GCC) 14.3.1 20250523 (Red Hat 14.3.1-1) Red Hat Enterprise Linux 8.10 Kernel: 5.15 Compiler: gcc gcc (GCC) 8.5.0 20210514 (Red Hat 8.5.0-22) Fedora Linux 42 Kernel: 5.15 Compiler: gcc gcc (GCC) 15.2.1 20250808 (Red Hat 15.2.1-1) Red Hat Enterprise Linux 9.5 Kernel: 5.15 Compiler: gcc gcc (GCC) 11.5.0 20240719 (Red Hat 11.5.0-2) Ubuntu 24.04 Kernel: 5.15 Compiler: gcc gcc (Ubuntu 13.3.0-6ubuntu2~24.04) 13.3.0 Ubuntu 22.04 Kernel: 5.15 Compiler: gcc gcc (Ubuntu 11.4.0-1ubuntu1~22.04) 11.4.0 Windows Server 2022 Kernel: 10.0.20348.2031 Compiler: clang 15.0.7, gcc 14.1.0 (MinGW), and MSVC VS 19.39.33521 To view detailed results, visit: https://lab.dpdk.org/results/dashboard/patchsets/34401/ UNH-IOL DPDK Community Lab To manage your email subscriptions, visit: https://lab.dpdk.org/results/dashboard/preferences/subscriptions/