From mboxrd@z Thu Jan 1 00:00:00 1970 Return-Path: Received: from mails.dpdk.org (mails.dpdk.org [217.70.189.124]) by inbox.dpdk.org (Postfix) with ESMTP id 6A56D48A05 for ; Tue, 28 Oct 2025 20:54:27 +0100 (CET) Received: from mails.dpdk.org (localhost [127.0.0.1]) by mails.dpdk.org (Postfix) with ESMTP id 64CA64021E; Tue, 28 Oct 2025 20:54:27 +0100 (CET) Received: from mail-ua1-f100.google.com (mail-ua1-f100.google.com [209.85.222.100]) by mails.dpdk.org (Postfix) with ESMTP id 4213C4021E for ; Tue, 28 Oct 2025 20:54:26 +0100 (CET) Received: by mail-ua1-f100.google.com with SMTP id a1e0cc1a2514c-8e352f6c277so1726024241.2 for ; Tue, 28 Oct 2025 12:54:26 -0700 (PDT) DKIM-Signature: v=1; a=rsa-sha256; c=relaxed/relaxed; d=iol.unh.edu; s=unh-iol; t=1761681265; x=1762286065; darn=dpdk.org; h=references:in-reply-to:cc:to:from:subject:message-id:date:from:to :cc:subject:date:message-id:reply-to; bh=D9TwhxMkStSR1SBdumnpRp3OriUyjKj32CNjE7TIRmw=; b=GClHZg334rBWBAw2YYia/LdFmRswMP8sYg5GhPgHMmrw7dcpqnlgsWEOpuJ9O7PRh+ UPhVdzAEQOzRnAcaE1YgPYvW9WFzvpR63CHl1A3z5O+Se0n3rL8NSElCd3YfKTovyE+4 PRmZGm/B4sjsTwhyJ0w60kibvo3mzC0X4xRmw= X-Google-DKIM-Signature: v=1; a=rsa-sha256; c=relaxed/relaxed; d=1e100.net; s=20230601; t=1761681265; x=1762286065; h=references:in-reply-to:cc:to:from:subject:message-id:date :x-gm-message-state:from:to:cc:subject:date:message-id:reply-to; bh=D9TwhxMkStSR1SBdumnpRp3OriUyjKj32CNjE7TIRmw=; b=I/ORX2wbNIzVPKaTyIMTkIhYhOizFUqTokcTC+AiPWOklCtoGx0SLiOrrPrnh81hJn joOugCR50ZyFyLXnW+SzuZtqWJOI0Rjk5oZS7CpIpVAJyUPbf9t5pjLsWHGhpKt1VKbM Iq7X1D/yGHjlBYgLLsoqDXhoAWVzc0h7pwYda3Lya/GCtE993SLSKOxMr7+vw5b4OWqg NecSsZ5h9BvmE6xalfSFYB4S0vVqql6jcyxFm7HCXF5us5shW6Sc0j2CibLWDujfjevg 2//Fbn/x6025KloWFBa5U4Hqh9Aif90OKrdSgtt+Fo4goggBDbcbvb/OzZWmQZgw/W2y XOug== X-Gm-Message-State: AOJu0YxgRqPpVZ2GnuBN9qc9dxWYK3Yw+fLkBgl41lOFNY1T8cWj3UJ7 HGI5Oko6QOFf8oIm0pkiY0XW6C//ky5Qi8JWrkM/BOgEDlOPpD3cmqRti2xSCQ3Ku8WUytdiJwr HS+fCZClZHIBvmHZ0CdLnGEN3sICAcyV2QfEL+0qMs99Z X-Gm-Gg: ASbGncuLHerYZ/qPd4JWwVJYfHQX5XNEqaXNWlDkfs5Y+xN/iR1hRY1F9QT5AMpruDn 6q3VsDMHjuk3mmZYErCCUT/gkn8zTbxTvOFeMTBm8eKuai1+II2SxkRDf+mOylOfV9u1XpmbmsU Hn+xkIBVYoUc41HIo5huoVDAJQGI/9Rf2CWyfSs1RoWm8OJ7VY+zZwdW+8X5SGcd1dqJuqcldxJ NihnTTUxzAW56dcvYNOjClzFPWTL758AFhODAiVkeYx/5Bik6S7q4szNhZZH4cGJuoT20bwM7SP mhIRbaf0soXa6wO3UDPXgstZRG51bLyvFbfr60m4Xo7ndCSSToMObib30EWkRtAGoccELTqsj0N Kz78gdqNbLC3Wz90wvuTuDYM8kKodGcY= X-Google-Smtp-Source: AGHT+IHTW4MgxxqHcEHhE10Sh/9iOq7FtiHUNbETG2lRtHyiUtArEe5a3mZhFSWHyCuxEw7JTi/xIsQ8wayp X-Received: by 2002:a05:6102:6c8:b0:5d5:fefc:9fd0 with SMTP id ada2fe7eead31-5db9027acf2mr118689137.0.1761681265618; Tue, 28 Oct 2025 12:54:25 -0700 (PDT) Received: from postal.iol.unh.edu (postal.iol.unh.edu. [132.177.123.84]) by smtp-relay.gmail.com with ESMTPS id 71dfb90a1353d-557ddaef536sm1305248e0c.2.2025.10.28.12.54.25 (version=TLS1_2 cipher=ECDHE-ECDSA-AES128-GCM-SHA256 bits=128/128); Tue, 28 Oct 2025 12:54:25 -0700 (PDT) X-Relaying-Domain: iol.unh.edu Date: Tue, 28 Oct 2025 12:54:25 -0700 (PDT) Message-ID: <69011f71.050a0220.c02b0.c237SMTPIN_ADDED_MISSING@mx.google.com> Received: from [172.21.0.2] (unknown [172.18.0.240]) by postal.iol.unh.edu (Postfix) with ESMTP id 3B7A2604D420; Tue, 28 Oct 2025 15:54:25 -0400 (EDT) Subject: |SUCCESS| pw158188 [PATCH] vhost: fix external buffer in VDUSE From: dpdklab@iol.unh.edu To: Test Report Cc: dpdk-test-reports@iol.unh.edu, Chenbo Xia , Maxime Coquelin In-Reply-To: <20251028123453.4127525-1-david.marchand@redhat.com> References: <20251028123453.4127525-1-david.marchand@redhat.com> Content-Type: text/plain X-BeenThere: test-report@dpdk.org X-Mailman-Version: 2.1.29 Precedence: list List-Id: automatic DPDK test reports List-Unsubscribe: , List-Archive: List-Post: List-Help: List-Subscribe: , Errors-To: test-report-bounces@dpdk.org Test-Label: iol-unit-amd64-testing Test-Status: SUCCESS http://dpdk.org/patch/158188 _Testing PASS_ Submitter: David Marchand Date: Tuesday, October 28 2025 12:34:53 DPDK git baseline: Repo:dpdk-next-virtio Branch: master CommitID:a62b0fbf8e367c88d28d78210db1b28c8eac4b1b 158188 --> testing pass Upstream job id: Generic-Unit-Test-DPDK#386197 Test environment and result as below: +-------------------------------+----------------+ | Environment | dpdk_unit_test | +===============================+================+ | CentOS Stream 9 | PASS | +-------------------------------+----------------+ | Debian GNU/Linux 12 | PASS | +-------------------------------+----------------+ | CentOS Stream 10 | PASS | +-------------------------------+----------------+ | Fedora Linux 40 | PASS | +-------------------------------+----------------+ | Fedora Linux 41 | PASS | +-------------------------------+----------------+ | Fedora Linux 42 | PASS | +-------------------------------+----------------+ | Ubuntu 22.04 | PASS | +-------------------------------+----------------+ | Ubuntu 20.04 | PASS | +-------------------------------+----------------+ | Red Hat Enterprise Linux 9.5 | PASS | +-------------------------------+----------------+ | Red Hat Enterprise Linux 8.10 | PASS | +-------------------------------+----------------+ | Ubuntu 24.04 | PASS | +-------------------------------+----------------+ CentOS Stream 9 Kernel: 5.15 Compiler: gcc gcc (GCC) 11.5.0 20240719 (Red Hat 11.5.0-11) Debian GNU/Linux 12 Kernel: 5.15 Compiler: gcc gcc (Debian 12.2.0-14+deb12u1) 12.2.0 CentOS Stream 10 Kernel: 5.15 Compiler: gcc gcc (GCC) 14.2.1 20250110 (Red Hat 14.2.1-8) Fedora Linux 40 Kernel: 5.15 Compiler: gcc gcc (GCC) 14.2.1 20240912 (Red Hat 14.2.1-3) Fedora Linux 41 Kernel: 5.15 Compiler: gcc gcc (GCC) 14.3.1 20250523 (Red Hat 14.3.1-1) Fedora Linux 42 Kernel: 5.15 Compiler: gcc gcc (GCC) 15.2.1 20250808 (Red Hat 15.2.1-1) Ubuntu 22.04 Kernel: 5.15 Compiler: gcc gcc (Ubuntu 11.4.0-1ubuntu1~22.04) 11.4.0 Ubuntu 20.04 Kernel: 5.15 Compiler: gcc gcc (Ubuntu 9.4.0-1ubuntu1~20.04.2) 9.4.0 Red Hat Enterprise Linux 9.5 Kernel: 5.15 Compiler: gcc gcc (GCC) 11.5.0 20240719 (Red Hat 11.5.0-2) Red Hat Enterprise Linux 8.10 Kernel: 5.15 Compiler: gcc gcc (GCC) 8.5.0 20210514 (Red Hat 8.5.0-22) Ubuntu 24.04 Kernel: 5.15 Compiler: gcc gcc (Ubuntu 13.3.0-6ubuntu2~24.04) 13.3.0 To view detailed results, visit: https://lab.dpdk.org/results/dashboard/patchsets/34402/ UNH-IOL DPDK Community Lab To manage your email subscriptions, visit: https://lab.dpdk.org/results/dashboard/preferences/subscriptions/