From mboxrd@z Thu Jan 1 00:00:00 1970 Return-Path: Received: from mails.dpdk.org (mails.dpdk.org [217.70.189.124]) by inbox.dpdk.org (Postfix) with ESMTP id D05BF489F9 for ; Tue, 28 Oct 2025 20:58:28 +0100 (CET) Received: from mails.dpdk.org (localhost [127.0.0.1]) by mails.dpdk.org (Postfix) with ESMTP id CC1154021E; Tue, 28 Oct 2025 20:58:28 +0100 (CET) Received: from mail-yx1-f98.google.com (mail-yx1-f98.google.com [74.125.224.98]) by mails.dpdk.org (Postfix) with ESMTP id E60294021E for ; Tue, 28 Oct 2025 20:58:27 +0100 (CET) Received: by mail-yx1-f98.google.com with SMTP id 956f58d0204a3-63e255e9a20so6943730d50.0 for ; Tue, 28 Oct 2025 12:58:27 -0700 (PDT) DKIM-Signature: v=1; a=rsa-sha256; c=relaxed/relaxed; d=iol.unh.edu; s=unh-iol; t=1761681507; x=1762286307; darn=dpdk.org; h=references:in-reply-to:cc:to:from:subject:message-id:date:from:to :cc:subject:date:message-id:reply-to; bh=8G5QVPl8qN7SD/Le+izLp8RtP593Y8VH5T9P3s/gsbo=; b=H04FDoxT55jUbdFusHRPCVkpCv3uWn/lF/B4ty35C0ahHLLonQyGx/lVD/Xc5b3iw+ 21E4ZKTqK0iZVRoGDfKdAHbHA+k+1RUfEO8D4ujL5/T6GjKiKebFcaR/M2L5fwZHb6KJ RpIZyvjbqbMeuampOGtrkzMFawupP4jMHan1k= X-Google-DKIM-Signature: v=1; a=rsa-sha256; c=relaxed/relaxed; d=1e100.net; s=20230601; t=1761681507; x=1762286307; h=references:in-reply-to:cc:to:from:subject:message-id:date :x-gm-message-state:from:to:cc:subject:date:message-id:reply-to; bh=8G5QVPl8qN7SD/Le+izLp8RtP593Y8VH5T9P3s/gsbo=; b=r+mHuRHF4+WF6wOaZvzvXcNkbHKKOUuzjbbDKVlPXNWBoaSlrDONaBySgOv2Rpze1y xpkufhSKeed2mm94WCfOePV1O0Gkc+vMNkOtt/equdsX0Ku/HyDGVprRDjkX7zYQX584 RF8yT19HDzi5RwkoB7UE9cNdxwBRasF2/A9MIk4t8NmJHnQl9FkfNS0mlspzcO2rC8m1 Cqg/GA6eQv3vCZnygOg9Zm4flAj6J4iJZTjOuCIHOqQbr9ttfPmAz5bglYCPThMOZ6j5 NL4BNqT24Bt4MHuIiP4JDHUx35btyvW0abSKv2DIhz4EUwWh4a/ytpQLlSrL8u9Wm/Q0 //kA== X-Gm-Message-State: AOJu0YztYqhWf1iNniS6mfFrIEmCcX9zs+MbhPuZ/8C24bPFTYj9KOyp P3JZ0ZaRKyHbNCz3wmPUC+Ck4Anl14uKmC4bOF2Ss+YIYJotBhr/5oOtOzVjx+JxZiZqghM6xEJ Cjm1mcUsW6s5Zx8hFmqeziGAIUJ5lyDAeICjxUKLHzaIB4a4B37OmZw7Z9lVY X-Gm-Gg: ASbGncuDOcr/rg5KtGmoRCnabG1XNpGglEP45Nwvmax97HAcXgDxBXR5YBIciq8IwAF l6tdqPGpkocx8PutrVJzO5veb7qiefi5P/CUp3yhGDifNN8EhSlBtDpm3jTpEI4m9uT53aH/z5t BfB5p2EQGLGnz8iClmP9NGT4HTsmZYVz+DdYH46OnEaZFUQrfuJcNQTu35UAfWZtzl2+yVGJPTT YPUm9fdAe8PDSTU+CL9QtpLrpmLzkE1XgrPWokQJIntuE4NmLRtc1AjX7XP/ieCoSoCTiYRE0Yr +zsLhU8ifAqnSOX0Ke7aF7vWK6tDSHERoa/k+rk/Y/8Y88edPsTk97clA873+IfiSpYMhSZhZhc 4PFI96MrZ X-Google-Smtp-Source: AGHT+IGjgkF0N6DsXvulmGnH2qtoqTyP8wSlM0M1pOMouoRNXMpGekpZda6H1/DoMJpIfywc3IBKfpDzgWYg X-Received: by 2002:a05:690e:1585:10b0:636:1844:104 with SMTP id 956f58d0204a3-63f76cf6404mr598103d50.12.1761681507007; Tue, 28 Oct 2025 12:58:27 -0700 (PDT) Received: from postal.iol.unh.edu (postal.iol.unh.edu. [2606:4100:3880:1234::84]) by smtp-relay.gmail.com with ESMTPS id 956f58d0204a3-63f4c3e2a46sm934364d50.7.2025.10.28.12.58.26 (version=TLS1_2 cipher=ECDHE-ECDSA-AES128-GCM-SHA256 bits=128/128); Tue, 28 Oct 2025 12:58:27 -0700 (PDT) X-Relaying-Domain: iol.unh.edu Date: Tue, 28 Oct 2025 12:58:27 -0700 (PDT) Message-ID: <69012062.530a0220.3c6f75.b10bSMTPIN_ADDED_MISSING@mx.google.com> Received: from [172.21.0.2] (unknown [172.18.0.240]) by postal.iol.unh.edu (Postfix) with ESMTP id 8D4D8604D420; Tue, 28 Oct 2025 15:58:26 -0400 (EDT) Subject: |WARNING| pw158189 [PATCH] doc: fix doxygen errors with v1.15.0 From: dpdklab@iol.unh.edu To: Test Report Cc: dpdk-test-reports@iol.unh.edu In-Reply-To: <20251028141159.177727-1-jerinj@marvell.com> References: <20251028141159.177727-1-jerinj@marvell.com> Content-Type: text/plain X-BeenThere: test-report@dpdk.org X-Mailman-Version: 2.1.29 Precedence: list List-Id: automatic DPDK test reports List-Unsubscribe: , List-Archive: List-Post: List-Help: List-Subscribe: , Errors-To: test-report-bounces@dpdk.org Test-Label: iol-compile-amd64-testing Test-Status: WARNING http://dpdk.org/patch/158189 _Testing issues_ Submitter: Jerin Jacob Date: Tuesday, October 28 2025 14:11:59 DPDK git baseline: Repo:dpdk Branch: master CommitID:39b54f2dcf44ad1f91eabc7080cd5dea763607fd 158189 --> testing issues Upstream job id: Generic-DPDK-Compile-Meson#438610 Test environment and result as below: +-------------------------------+--------------------+-------------------+------------------+-------------------+ | Environment | dpdk_meson_compile | dpdk_compile_spdk | dpdk_compile_ovs | dpdk_msvc_compile | +===============================+====================+===================+==================+===================+ | FreeBSD 14.2 | PASS | SKIPPED | SKIPPED | SKIPPED | +-------------------------------+--------------------+-------------------+------------------+-------------------+ | Ubuntu 20.04 | PASS | SKIPPED | SKIPPED | SKIPPED | +-------------------------------+--------------------+-------------------+------------------+-------------------+ | CentOS Stream 9 | PASS | WARN | SKIPPED | SKIPPED | +-------------------------------+--------------------+-------------------+------------------+-------------------+ | CentOS Stream 10 | PASS | SKIPPED | SKIPPED | SKIPPED | +-------------------------------+--------------------+-------------------+------------------+-------------------+ | Debian GNU/Linux 12 | PASS | WARN | SKIPPED | SKIPPED | +-------------------------------+--------------------+-------------------+------------------+-------------------+ | Fedora Linux 42 | PASS | WARN | PASS | SKIPPED | +-------------------------------+--------------------+-------------------+------------------+-------------------+ | openSUSE Leap 15.6 | PASS | SKIPPED | SKIPPED | SKIPPED | +-------------------------------+--------------------+-------------------+------------------+-------------------+ | Red Hat Enterprise Linux 8.10 | PASS | SKIPPED | SKIPPED | SKIPPED | +-------------------------------+--------------------+-------------------+------------------+-------------------+ | Red Hat Enterprise Linux 9.5 | PASS | SKIPPED | SKIPPED | SKIPPED | +-------------------------------+--------------------+-------------------+------------------+-------------------+ | Ubuntu 22.04 | PASS | WARN | SKIPPED | SKIPPED | +-------------------------------+--------------------+-------------------+------------------+-------------------+ | Ubuntu 24.04 | PASS | WARN | PASS | SKIPPED | +-------------------------------+--------------------+-------------------+------------------+-------------------+ | Alpine Linux 3.22.0 | PASS | SKIPPED | SKIPPED | SKIPPED | +-------------------------------+--------------------+-------------------+------------------+-------------------+ | Windows Server 2022 | SKIPPED | SKIPPED | SKIPPED | PASS | +-------------------------------+--------------------+-------------------+------------------+-------------------+ ==== 20 line log output for Ubuntu 24.04 (dpdk_compile_spdk): ==== --- Failed to get log output --- ==== End log output ==== FreeBSD 14.2 Kernel: 14.2-RELEASE Compiler: clang 18.1.6 Ubuntu 20.04 Kernel: 4.19 Compiler: gcc gcc (Ubuntu 9.4.0-1ubuntu1~20.04.2) 9.4.0 CentOS Stream 9 Kernel: 5.15 Compiler: gcc gcc (GCC) 11.5.0 20240719 (Red Hat 11.5.0-11) CentOS Stream 10 Kernel: 5.15 Compiler: gcc gcc (GCC) 14.2.1 20250110 (Red Hat 14.2.1-8) Debian GNU/Linux 12 Kernel: 5.15 Compiler: gcc gcc (Debian 12.2.0-14+deb12u1) 12.2.0 Fedora Linux 42 Kernel: 5.15 Compiler: clang gcc (GCC) 15.2.1 20250808 (Red Hat 15.2.1-1) openSUSE Leap 15.6 Kernel: 5.15 Compiler: gcc gcc (SUSE Linux) 7.5.0 Red Hat Enterprise Linux 8.10 Kernel: 5.15 Compiler: gcc gcc (GCC) 8.5.0 20210514 (Red Hat 8.5.0-22) Red Hat Enterprise Linux 9.5 Kernel: 5.15 Compiler: gcc gcc (GCC) 11.5.0 20240719 (Red Hat 11.5.0-2) Ubuntu 22.04 Kernel: 5.15 Compiler: gcc gcc (Ubuntu 11.4.0-1ubuntu1~22.04) 11.4.0 Ubuntu 24.04 Kernel: 5.15 Compiler: gcc gcc (Ubuntu 13.3.0-6ubuntu2~24.04) 13.3.0 Alpine Linux 3.22.0 Kernel: 5.15 Compiler: gcc gcc (Alpine 14.2.0) 14.2.0 Windows Server 2022 Kernel: 10.0.20348.2031 Compiler: clang 15.0.7, gcc 14.1.0 (MinGW), and MSVC VS 19.39.33521 To view detailed results, visit: https://lab.dpdk.org/results/dashboard/patchsets/34403/ UNH-IOL DPDK Community Lab To manage your email subscriptions, visit: https://lab.dpdk.org/results/dashboard/preferences/subscriptions/