From mboxrd@z Thu Jan 1 00:00:00 1970 Return-Path: Received: from mails.dpdk.org (mails.dpdk.org [217.70.189.124]) by inbox.dpdk.org (Postfix) with ESMTP id E012E48A05 for ; Tue, 28 Oct 2025 20:58:43 +0100 (CET) Received: from mails.dpdk.org (localhost [127.0.0.1]) by mails.dpdk.org (Postfix) with ESMTP id DA5FB4021E; Tue, 28 Oct 2025 20:58:43 +0100 (CET) Received: from mail-pg1-f225.google.com (mail-pg1-f225.google.com [209.85.215.225]) by mails.dpdk.org (Postfix) with ESMTP id 21C274021E for ; Tue, 28 Oct 2025 20:58:43 +0100 (CET) Received: by mail-pg1-f225.google.com with SMTP id 41be03b00d2f7-b67ae7e76abso4926562a12.3 for ; Tue, 28 Oct 2025 12:58:43 -0700 (PDT) DKIM-Signature: v=1; a=rsa-sha256; c=relaxed/relaxed; d=iol.unh.edu; s=unh-iol; t=1761681522; x=1762286322; darn=dpdk.org; h=references:in-reply-to:cc:to:from:subject:message-id:date:from:to :cc:subject:date:message-id:reply-to; bh=UENkzwa24dS7WduJgxHn1taB5j5CBT2uxD2I1I1Ayw8=; b=EY0FYR3vzezEes97UQlt02Hwg70XkeuQ5AmmyeWrOpuxqv8Yrc6fCSfvPNyZYC6RW1 /Dka4E8Qm+G5MxZG216uWF3f6zs6WIoh7A1VGNVe5EQXtkc8RhlBaIGLJMemzubvGTHj GKHpKPWOze2bnuKg+Ct6YaXIfdREe24ldhdew= X-Google-DKIM-Signature: v=1; a=rsa-sha256; c=relaxed/relaxed; d=1e100.net; s=20230601; t=1761681522; x=1762286322; h=references:in-reply-to:cc:to:from:subject:message-id:date :x-gm-message-state:from:to:cc:subject:date:message-id:reply-to; bh=UENkzwa24dS7WduJgxHn1taB5j5CBT2uxD2I1I1Ayw8=; b=Xhtfu+L0HVOXU1p8UFKSylBgNvizptWRTskSkz3vtXczbMJ2CYzCarhR/IeFVacyIV XOMJXEZfOB03kGVAxO69oiWcE5/C51FcOuu7cfyOJIE1pqiN+Ih2DJX9hmSe/Jmkygin EbptS08h5ZIoYVa2o6RUNzu7ASdjVTZ7CxewCE17i88/c8CA5iGaezdr6VRWlDTUj0tX HzitM8Z3dyJaNphTFY2XH9zuMPybWmWKmPVkgiZSUYKXwLDc/C8tQmjG//mSSlvaBdLa 9HOtR9637erZQwcZiD7De7y1/fLjuNBTcSu98J021h1rBAP/Ql78px4xXnKdehYJnpRb 4kGQ== X-Gm-Message-State: AOJu0YyHba/AnHa9RwK56T6HAyWx9J/JBJKqVYjE7H0pifNTjO1D0RYu hBldtI7TokiErEAsorHuKeU+ji4Mpu9ErbN3fHlaikXfYtXTkDlsv7KrU55XOVxW63NMsCUVX7V CF09oSnxa8zWK2+c+KEXfwQkQatlFOAx6Edir2Mqg4C/MCcxPZQZyLAiqLyb8 X-Gm-Gg: ASbGncu389Mo9k96KEM2T4otJQW0wKriFKQIFhpxCB80YLxeV6yAYWDPQHg6qL/F6Gf pdYNKHB4ohT9NNFgx+HYCcD95EhM0ydjUv1C3A/bKzxCZFMWdkJZitRJ6jgbHV8IFoPkQsg8ZOe wFdRAb1wGUWgcEDFBmDYR8NDpPWqI2KrO4YWEmzxTleG/2Iq8vfHGj6t/pAShWi74BXMHMJSU4p cVMbMYJvvnakuslGasDVCtbgAVV//VR4Uxqxyc80Vc5E8sd/L+m7GMSBF2u4b/q5jhIXzPQTbtZ QimfrUtFip7sSBfqvRHWTcaTJz+F9zJG4nQ1f0or8XY6Xz5brTz93vyJziNkYo7DP/7FdaFrgzL 5WHIqnRsG X-Google-Smtp-Source: AGHT+IGc+sx3SoDUiT4Cw8GPyEifZEqGMr+DHQk3adG1hvHuk3f28cufvE1kJMqoTMmXGikooYNc4Gy0zCAe X-Received: by 2002:a17:902:ecd0:b0:27e:dc53:d222 with SMTP id d9443c01a7336-294def4729fmr4259255ad.44.1761681522158; Tue, 28 Oct 2025 12:58:42 -0700 (PDT) Received: from postal.iol.unh.edu (postal.iol.unh.edu. [2606:4100:3880:1234::84]) by smtp-relay.gmail.com with ESMTPS id d9443c01a7336-29498e428b6sm11439565ad.57.2025.10.28.12.58.42 (version=TLS1_2 cipher=ECDHE-ECDSA-AES128-GCM-SHA256 bits=128/128); Tue, 28 Oct 2025 12:58:42 -0700 (PDT) X-Relaying-Domain: iol.unh.edu Date: Tue, 28 Oct 2025 12:58:42 -0700 (PDT) Message-ID: <69012072.170a0220.1dd4ce.50d3SMTPIN_ADDED_MISSING@mx.google.com> Received: from [172.21.0.2] (unknown [172.18.0.240]) by postal.iol.unh.edu (Postfix) with ESMTP id 93816604D420; Tue, 28 Oct 2025 15:58:41 -0400 (EDT) Subject: |SUCCESS| pw158188 [PATCH] vhost: fix external buffer in VDUSE From: dpdklab@iol.unh.edu To: Test Report Cc: dpdk-test-reports@iol.unh.edu, Chenbo Xia , Maxime Coquelin In-Reply-To: <20251028123453.4127525-1-david.marchand@redhat.com> References: <20251028123453.4127525-1-david.marchand@redhat.com> Content-Type: text/plain X-BeenThere: test-report@dpdk.org X-Mailman-Version: 2.1.29 Precedence: list List-Id: automatic DPDK test reports List-Unsubscribe: , List-Archive: List-Post: List-Help: List-Subscribe: , Errors-To: test-report-bounces@dpdk.org Test-Label: iol-compile-amd64-testing Test-Status: SUCCESS http://dpdk.org/patch/158188 _Testing PASS_ Submitter: David Marchand Date: Tuesday, October 28 2025 12:34:53 DPDK git baseline: Repo:dpdk-next-virtio Branch: master CommitID:a62b0fbf8e367c88d28d78210db1b28c8eac4b1b 158188 --> testing pass Upstream job id: Generic-DPDK-Compile-Meson#438592 Test environment and result as below: +-------------------------------+--------------------+-------------------+------------------+-------------------+ | Environment | dpdk_meson_compile | dpdk_compile_spdk | dpdk_compile_ovs | dpdk_msvc_compile | +===============================+====================+===================+==================+===================+ | Ubuntu 20.04 | PASS | SKIPPED | SKIPPED | SKIPPED | +-------------------------------+--------------------+-------------------+------------------+-------------------+ | FreeBSD 14.2 | PASS | SKIPPED | SKIPPED | SKIPPED | +-------------------------------+--------------------+-------------------+------------------+-------------------+ | CentOS Stream 9 | PASS | PASS | SKIPPED | SKIPPED | +-------------------------------+--------------------+-------------------+------------------+-------------------+ | Debian GNU/Linux 12 | PASS | PASS | SKIPPED | SKIPPED | +-------------------------------+--------------------+-------------------+------------------+-------------------+ | CentOS Stream 10 | PASS | SKIPPED | SKIPPED | SKIPPED | +-------------------------------+--------------------+-------------------+------------------+-------------------+ | Fedora Linux 42 | PASS | PASS | PASS | SKIPPED | +-------------------------------+--------------------+-------------------+------------------+-------------------+ | openSUSE Leap 15.6 | PASS | SKIPPED | SKIPPED | SKIPPED | +-------------------------------+--------------------+-------------------+------------------+-------------------+ | Red Hat Enterprise Linux 9.5 | PASS | SKIPPED | SKIPPED | SKIPPED | +-------------------------------+--------------------+-------------------+------------------+-------------------+ | Red Hat Enterprise Linux 8.10 | PASS | SKIPPED | SKIPPED | SKIPPED | +-------------------------------+--------------------+-------------------+------------------+-------------------+ | Ubuntu 22.04 | PASS | PASS | SKIPPED | SKIPPED | +-------------------------------+--------------------+-------------------+------------------+-------------------+ | Ubuntu 24.04 | PASS | PASS | PASS | SKIPPED | +-------------------------------+--------------------+-------------------+------------------+-------------------+ | Alpine Linux 3.22.0 | PASS | SKIPPED | SKIPPED | SKIPPED | +-------------------------------+--------------------+-------------------+------------------+-------------------+ | Windows Server 2022 | SKIPPED | SKIPPED | SKIPPED | PASS | +-------------------------------+--------------------+-------------------+------------------+-------------------+ Ubuntu 20.04 Kernel: 4.19 Compiler: gcc gcc (Ubuntu 9.4.0-1ubuntu1~20.04.2) 9.4.0 FreeBSD 14.2 Kernel: 14.2-RELEASE Compiler: clang 18.1.6 CentOS Stream 9 Kernel: 5.15 Compiler: gcc gcc (GCC) 11.5.0 20240719 (Red Hat 11.5.0-11) Debian GNU/Linux 12 Kernel: 5.15 Compiler: gcc gcc (Debian 12.2.0-14+deb12u1) 12.2.0 CentOS Stream 10 Kernel: 5.15 Compiler: gcc gcc (GCC) 14.2.1 20250110 (Red Hat 14.2.1-8) Fedora Linux 42 Kernel: 5.15 Compiler: clang gcc (GCC) 15.2.1 20250808 (Red Hat 15.2.1-1) openSUSE Leap 15.6 Kernel: 5.15 Compiler: gcc gcc (SUSE Linux) 7.5.0 Red Hat Enterprise Linux 9.5 Kernel: 5.15 Compiler: gcc gcc (GCC) 11.5.0 20240719 (Red Hat 11.5.0-2) Red Hat Enterprise Linux 8.10 Kernel: 5.15 Compiler: gcc gcc (GCC) 8.5.0 20210514 (Red Hat 8.5.0-22) Ubuntu 22.04 Kernel: 5.15 Compiler: gcc gcc (Ubuntu 11.4.0-1ubuntu1~22.04) 11.4.0 Ubuntu 24.04 Kernel: 5.15 Compiler: gcc gcc (Ubuntu 13.3.0-6ubuntu2~24.04) 13.3.0 Alpine Linux 3.22.0 Kernel: 5.15 Compiler: gcc gcc (Alpine 14.2.0) 14.2.0 Windows Server 2022 Kernel: 10.0.20348.2031 Compiler: clang 15.0.7, gcc 14.1.0 (MinGW), and MSVC VS 19.39.33521 To view detailed results, visit: https://lab.dpdk.org/results/dashboard/patchsets/34402/ UNH-IOL DPDK Community Lab To manage your email subscriptions, visit: https://lab.dpdk.org/results/dashboard/preferences/subscriptions/