From mboxrd@z Thu Jan 1 00:00:00 1970 Return-Path: Received: from mails.dpdk.org (mails.dpdk.org [217.70.189.124]) by inbox.dpdk.org (Postfix) with ESMTP id 01EFA48A05 for ; Tue, 28 Oct 2025 20:59:11 +0100 (CET) Received: from mails.dpdk.org (localhost [127.0.0.1]) by mails.dpdk.org (Postfix) with ESMTP id EF9D54021E; Tue, 28 Oct 2025 20:59:10 +0100 (CET) Received: from mail-il1-f226.google.com (mail-il1-f226.google.com [209.85.166.226]) by mails.dpdk.org (Postfix) with ESMTP id DC01C4021E for ; Tue, 28 Oct 2025 20:59:09 +0100 (CET) Received: by mail-il1-f226.google.com with SMTP id e9e14a558f8ab-430ca464785so58737145ab.0 for ; Tue, 28 Oct 2025 12:59:09 -0700 (PDT) DKIM-Signature: v=1; a=rsa-sha256; c=relaxed/relaxed; d=iol.unh.edu; s=unh-iol; t=1761681549; x=1762286349; darn=dpdk.org; h=references:in-reply-to:cc:to:from:subject:message-id:date:from:to :cc:subject:date:message-id:reply-to; bh=MEOM3aJ018Yuv0Rom6cFNc0427Yuwo0quOIeLedok+U=; b=G8eXAmkFrE/gT63vlLjLTLYgLBDGfi+BP20FfDOpjIRTlRwX4XswQDq5OVad2iUoAa 1VxoD5nJK70yX0tC2zkuvIWoon6LsBPewBD8KT1lsiUZC+QFNhLOcTgtK2AsU1a3iRNY 4l66W7aGJ3KVbDICoAkxaJcnQ9f0/+HJCPWGE= X-Google-DKIM-Signature: v=1; a=rsa-sha256; c=relaxed/relaxed; d=1e100.net; s=20230601; t=1761681549; x=1762286349; h=references:in-reply-to:cc:to:from:subject:message-id:date :x-gm-message-state:from:to:cc:subject:date:message-id:reply-to; bh=MEOM3aJ018Yuv0Rom6cFNc0427Yuwo0quOIeLedok+U=; b=susJMSr08y0jQ5fAyehcw1X2EtxIp6uvtF6KSHEmE71n59Z3jb7hUcWRsZSgtxA9hB ZVD9thhsdarW0sW1E02Hnb9crNi/r4SC6sdoJi9UJIbMDPTxt2tMIGS9Y22yomgeCatM 0Ekeg0JKcVr8Xr9c4Z4rqK5AH2e4rKB/7WJmqHQwo2GSCdh0Up4cIR12LE3eeum23kLp QEodR8HejDyr035Xjg4Pw0v/yxhh28e06pxSLJOuONILFewc1hmD0bKdnIwC6kL8KjEk e3vTXvaHpkAH5Mc7JZvxlaCZFEurRq0bqSsVc4zYbkANMsww4VWx6yPErTS15BVP/Ufm Fx9Q== X-Gm-Message-State: AOJu0YyLUk/hP23PW25Y3eTCpJiEjfdiVYtZuOozSCizx1KcWE2dN0Z+ PJaoKcN0MRakUV2f+kLfxVXbF5+WhCzn/+1ylnFB0ImkR1w4mt5Ggd/WHTUS9EGeyVlh5jIEu2I 4Z+7hhUqBfe9G4hwtnNNnx0xMG1uWAaTDNr+hGsOIJRiDU/os3jRTCh8C9hc5 X-Gm-Gg: ASbGncuWlAL3Y1ADPPoL9FcNN8jyEgkFAS6k2JDdxpt0kiMGpTh8yo0XNRNqbYKq1N/ qslbe07KCbqaZ3xv8zS4yNKYhh9Mf7WAHY3dlEXTlYxENl5BHqcriabnphHWAGFJxoqUnnKz97u 9MrtswNIed/83w84hkOMB9Yi4MNzxeyc662hianuoFo3AaqJvh1npTuR+5cWw+kbX7sSTMUueU9 HflPBs0yXE47iO8CYPN/lsFBpPCyXJ+o/DYTqSvl1hY9NomSdqNYiVRoe7XONM8ooDRNO2kJPHR IYIDwG5VYEWfdeuNe63vEmTmvGPoLqe0MgEroMGyZ7VHGH9t9zBBm6u4tEwvjq8ZUo+krdZMDWZ BIQ5UhpRB X-Google-Smtp-Source: AGHT+IFfPfDnstkXKqp6pHaB2pgmpzAec2l8/UXEMlMq9R7NpEU/L5y4QTef7HMggKGQwd0cuYtghf8RYn74 X-Received: by 2002:a05:6e02:3009:b0:425:951f:52fa with SMTP id e9e14a558f8ab-432f8fcdc4amr7315305ab.14.1761681549186; Tue, 28 Oct 2025 12:59:09 -0700 (PDT) Received: from postal.iol.unh.edu (postal.iol.unh.edu. [2606:4100:3880:1234::84]) by smtp-relay.gmail.com with ESMTPS id 8926c6da1cb9f-5aea9867522sm906586173.22.2025.10.28.12.59.09 (version=TLS1_2 cipher=ECDHE-ECDSA-AES128-GCM-SHA256 bits=128/128); Tue, 28 Oct 2025 12:59:09 -0700 (PDT) X-Relaying-Domain: iol.unh.edu Date: Tue, 28 Oct 2025 12:59:09 -0700 (PDT) Message-ID: <6901208d.050a0220.3241b9.a13cSMTPIN_ADDED_MISSING@mx.google.com> Received: from [172.21.0.3] (unknown [172.18.0.240]) by postal.iol.unh.edu (Postfix) with ESMTP id BE9DD604D420; Tue, 28 Oct 2025 15:59:08 -0400 (EDT) Subject: |WARNING| pw158189 [PATCH] doc: fix doxygen errors with v1.15.0 From: dpdklab@iol.unh.edu To: Test Report Cc: dpdk-test-reports@iol.unh.edu In-Reply-To: <20251028141159.177727-1-jerinj@marvell.com> References: <20251028141159.177727-1-jerinj@marvell.com> Content-Type: text/plain X-BeenThere: test-report@dpdk.org X-Mailman-Version: 2.1.29 Precedence: list List-Id: automatic DPDK test reports List-Unsubscribe: , List-Archive: List-Post: List-Help: List-Subscribe: , Errors-To: test-report-bounces@dpdk.org Test-Label: iol-compile-amd64-testing Test-Status: WARNING http://dpdk.org/patch/158189 _Testing issues_ Submitter: Jerin Jacob Date: Tuesday, October 28 2025 14:11:59 DPDK git baseline: Repo:dpdk Branch: master CommitID:39b54f2dcf44ad1f91eabc7080cd5dea763607fd 158189 --> testing issues Upstream job id: Generic-DPDK-Compile-Meson#438612 Test environment and result as below: +-------------------------------+--------------------+-------------------+------------------+-------------------+ | Environment | dpdk_meson_compile | dpdk_compile_spdk | dpdk_compile_ovs | dpdk_msvc_compile | +===============================+====================+===================+==================+===================+ | FreeBSD 14.2 | PASS | SKIPPED | SKIPPED | SKIPPED | +-------------------------------+--------------------+-------------------+------------------+-------------------+ | Ubuntu 20.04 | PASS | SKIPPED | SKIPPED | SKIPPED | +-------------------------------+--------------------+-------------------+------------------+-------------------+ | CentOS Stream 9 | PASS | WARN | SKIPPED | SKIPPED | +-------------------------------+--------------------+-------------------+------------------+-------------------+ | CentOS Stream 10 | PASS | SKIPPED | SKIPPED | SKIPPED | +-------------------------------+--------------------+-------------------+------------------+-------------------+ | Debian GNU/Linux 12 | PASS | WARN | SKIPPED | SKIPPED | +-------------------------------+--------------------+-------------------+------------------+-------------------+ | Fedora Linux 42 | PASS | WARN | PASS | SKIPPED | +-------------------------------+--------------------+-------------------+------------------+-------------------+ | openSUSE Leap 15.6 | PASS | SKIPPED | SKIPPED | SKIPPED | +-------------------------------+--------------------+-------------------+------------------+-------------------+ | Red Hat Enterprise Linux 8.10 | PASS | SKIPPED | SKIPPED | SKIPPED | +-------------------------------+--------------------+-------------------+------------------+-------------------+ | Red Hat Enterprise Linux 9.5 | PASS | SKIPPED | SKIPPED | SKIPPED | +-------------------------------+--------------------+-------------------+------------------+-------------------+ | Ubuntu 22.04 | PASS | WARN | SKIPPED | SKIPPED | +-------------------------------+--------------------+-------------------+------------------+-------------------+ | Ubuntu 24.04 | PASS | WARN | PASS | SKIPPED | +-------------------------------+--------------------+-------------------+------------------+-------------------+ | Alpine Linux 3.22.0 | PASS | SKIPPED | SKIPPED | SKIPPED | +-------------------------------+--------------------+-------------------+------------------+-------------------+ | Windows Server 2022 | SKIPPED | SKIPPED | SKIPPED | PASS | +-------------------------------+--------------------+-------------------+------------------+-------------------+ ==== 20 line log output for Ubuntu 24.04 (dpdk_compile_spdk): ==== --- Failed to get log output --- ==== End log output ==== FreeBSD 14.2 Kernel: 14.2-RELEASE Compiler: clang 18.1.6 Ubuntu 20.04 Kernel: 4.19 Compiler: gcc gcc (Ubuntu 9.4.0-1ubuntu1~20.04.2) 9.4.0 CentOS Stream 9 Kernel: 5.15 Compiler: gcc gcc (GCC) 11.5.0 20240719 (Red Hat 11.5.0-11) CentOS Stream 10 Kernel: 5.15 Compiler: gcc gcc (GCC) 14.2.1 20250110 (Red Hat 14.2.1-8) Debian GNU/Linux 12 Kernel: 5.15 Compiler: gcc gcc (Debian 12.2.0-14+deb12u1) 12.2.0 Fedora Linux 42 Kernel: 5.15 Compiler: clang gcc (GCC) 15.2.1 20250808 (Red Hat 15.2.1-1) openSUSE Leap 15.6 Kernel: 5.15 Compiler: gcc gcc (SUSE Linux) 7.5.0 Red Hat Enterprise Linux 8.10 Kernel: 5.15 Compiler: gcc gcc (GCC) 8.5.0 20210514 (Red Hat 8.5.0-22) Red Hat Enterprise Linux 9.5 Kernel: 5.15 Compiler: gcc gcc (GCC) 11.5.0 20240719 (Red Hat 11.5.0-2) Ubuntu 22.04 Kernel: 5.15 Compiler: gcc gcc (Ubuntu 11.4.0-1ubuntu1~22.04) 11.4.0 Ubuntu 24.04 Kernel: 5.15 Compiler: gcc gcc (Ubuntu 13.3.0-6ubuntu2~24.04) 13.3.0 Alpine Linux 3.22.0 Kernel: 5.15 Compiler: gcc gcc (Alpine 14.2.0) 14.2.0 Windows Server 2022 Kernel: 10.0.20348.2031 Compiler: clang 15.0.7, gcc 14.1.0 (MinGW), and MSVC VS 19.39.33521 To view detailed results, visit: https://lab.dpdk.org/results/dashboard/patchsets/34403/ UNH-IOL DPDK Community Lab To manage your email subscriptions, visit: https://lab.dpdk.org/results/dashboard/preferences/subscriptions/