From mboxrd@z Thu Jan 1 00:00:00 1970 Return-Path: Received: from mails.dpdk.org (mails.dpdk.org [217.70.189.124]) by inbox.dpdk.org (Postfix) with ESMTP id AD4DD48A05 for ; Tue, 28 Oct 2025 21:16:28 +0100 (CET) Received: from mails.dpdk.org (localhost [127.0.0.1]) by mails.dpdk.org (Postfix) with ESMTP id A45074021E; Tue, 28 Oct 2025 21:16:28 +0100 (CET) Received: from mail-il1-f225.google.com (mail-il1-f225.google.com [209.85.166.225]) by mails.dpdk.org (Postfix) with ESMTP id 94D764021E for ; Tue, 28 Oct 2025 21:16:27 +0100 (CET) Received: by mail-il1-f225.google.com with SMTP id e9e14a558f8ab-430c97cbe0eso62156595ab.2 for ; Tue, 28 Oct 2025 13:16:27 -0700 (PDT) DKIM-Signature: v=1; a=rsa-sha256; c=relaxed/relaxed; d=iol.unh.edu; s=unh-iol; t=1761682587; x=1762287387; darn=dpdk.org; h=references:in-reply-to:cc:to:from:subject:message-id:date:from:to :cc:subject:date:message-id:reply-to; bh=TZgxdfAjrgoYEDjvB/nLlB3xdFMw1Ys77Jtn4/GPidU=; b=OviwbwlYndVuUajBmOKZjjjDFSqqUQRqvGB2QBemUYBBWK5vy6Hb1KjiaRmnCgX+yQ ddRVOMM5f8KJcuhyWnNn9Kfcy4SAD3ZUtdOAxtai4mxIRKk0qHdk/oeTDxgTyqRf10Uz np6/SuE5dcYpb+OfzxrFyRE9GbcGWx+Lkt2QE= X-Google-DKIM-Signature: v=1; a=rsa-sha256; c=relaxed/relaxed; d=1e100.net; s=20230601; t=1761682587; x=1762287387; h=references:in-reply-to:cc:to:from:subject:message-id:date :x-gm-message-state:from:to:cc:subject:date:message-id:reply-to; bh=TZgxdfAjrgoYEDjvB/nLlB3xdFMw1Ys77Jtn4/GPidU=; b=RRVuxyw3wE/eh73RJ9u8vaCZXKjnE5zCzP41gvNnLXMN9hoFbKv2QnXp7jO9MTD0u+ QCmeU30pd4834GUmXQpVGUzHOCxpeBtih/oXLgACVCw6z7gPX+iYjbS4Hc/+0dlYwRXb k+/XIDBe2FLx6WYeHzoc+FDTVNtFYC+AmoOp8A88xBzqYAnN4dz4mnS0nQI1UNwMZYuT T2VQ4I6yErY9HDDexoeo5Le4lxKQL+Exn7fMP1c1P3xSO4lhOmc85Z0FTf6z2mdcfaMC XWOeZLvtwb6IBdDY8Hqw6tkxSPb/227Ik5yEvQBqvlvq+iu1W9UbaQqalEUU29SSkKC0 GlRw== X-Gm-Message-State: AOJu0YxGSmv8u1lFmEX4EWBnk+OFoxRvy2vb/Nr75T5YpghgiEJnkyPL i6g95jjp/nxxBYqHilXNH8v0Jh/DuHIwGWqbq+CPuZfF79Aymddz0MsKQaeGWQARE3T8Y0XHy/B nuF8KErF2TQbSsUlM3SgJEE07h653EdtoAt5zxAYRRkjbzNrAHyPvi47FHJCZ X-Gm-Gg: ASbGncuA7TjvMSQU0piBO89lDezDrZsajnhOyub3CaZA5TY/pZdraqhYc0E7N4ArXKt 3g0ZEcfa+cM3CzwP+8oA46wBXqAjiC1iKk+e5WYgnpXrtmEVCboRBpVMlc4N0VThyqnmlJz648Z kiA8wpMYAs11/AdJv2ki7zlTxpTwaGqKbxvM0xtFw+pg31RUY0uHtLYCRNuF/H6IQ4yS5blrrm4 Jq9FqcxBPKdnMygIoFRXeqcNtybrtk+6XVF+AEOvKPhwaKQ13nT5rb9sSei0SC+w7rVTiTA5/dH ftuiYL6NdJ39EUXSNKzBYi0tlM9STKUWL8tBg/oke1TsKgkQmLvmVEPpMQB7IQMnUgQjEvWbvpg nzdU/ulPH X-Google-Smtp-Source: AGHT+IHCIznYucQwsHA6M9zmQXbFSYfVfqIRNxsCnfrG5H712zd9PQg4uMJSgJF+SVySidGvf+KXXPSF0g0I X-Received: by 2002:a05:6e02:308b:b0:430:b2e3:8fb with SMTP id e9e14a558f8ab-432f8fad6e3mr7620055ab.9.1761682586879; Tue, 28 Oct 2025 13:16:26 -0700 (PDT) Received: from postal.iol.unh.edu (postal.iol.unh.edu. [2606:4100:3880:1234::84]) by smtp-relay.gmail.com with ESMTPS id ca18e2360f4ac-94359f4aca2sm69922239f.14.2025.10.28.13.16.26 (version=TLS1_2 cipher=ECDHE-ECDSA-AES128-GCM-SHA256 bits=128/128); Tue, 28 Oct 2025 13:16:26 -0700 (PDT) X-Relaying-Domain: iol.unh.edu Date: Tue, 28 Oct 2025 13:16:26 -0700 (PDT) Message-ID: <6901249a.050a0220.84ffb.10d9SMTPIN_ADDED_MISSING@mx.google.com> Received: from [172.21.0.2] (unknown [172.18.0.240]) by postal.iol.unh.edu (Postfix) with ESMTP id 73E5D6051830; Tue, 28 Oct 2025 16:16:26 -0400 (EDT) Subject: |WARNING| pw158182 [PATCH] net/mlx5: store rxq MTU at allocation tim From: dpdklab@iol.unh.edu To: Test Report Cc: dpdk-test-reports@iol.unh.edu In-Reply-To: <20251028100144.36284-1-a.schollmeyer@syseleven.de> References: <20251028100144.36284-1-a.schollmeyer@syseleven.de> Content-Type: text/plain X-BeenThere: test-report@dpdk.org X-Mailman-Version: 2.1.29 Precedence: list List-Id: automatic DPDK test reports List-Unsubscribe: , List-Archive: List-Post: List-Help: List-Subscribe: , Errors-To: test-report-bounces@dpdk.org Test-Label: iol-compile-amd64-testing Test-Status: WARNING http://dpdk.org/patch/158182 _Testing issues_ Submitter: Adrian Schollmeyer Date: Tuesday, October 28 2025 10:01:44 DPDK git baseline: Repo:dpdk-next-net-mlx Branch: master CommitID:39b54f2dcf44ad1f91eabc7080cd5dea763607fd 158182 --> testing issues Upstream job id: Windows-Compile-DPDK-Native#31943 Test environment and result as below: +-------------------------------+--------------------+-------------------+------------------+-------------------+-------------------------+ | Environment | dpdk_meson_compile | dpdk_compile_spdk | dpdk_compile_ovs | dpdk_msvc_compile | dpdk_llvm_clang_compile | +===============================+====================+===================+==================+===================+=========================+ | FreeBSD 14.2 | PASS | SKIPPED | SKIPPED | SKIPPED | SKIPPED | +-------------------------------+--------------------+-------------------+------------------+-------------------+-------------------------+ | Ubuntu 20.04 | PASS | SKIPPED | SKIPPED | SKIPPED | SKIPPED | +-------------------------------+--------------------+-------------------+------------------+-------------------+-------------------------+ | CentOS Stream 9 | PASS | WARN | SKIPPED | SKIPPED | SKIPPED | +-------------------------------+--------------------+-------------------+------------------+-------------------+-------------------------+ | CentOS Stream 10 | PASS | SKIPPED | SKIPPED | SKIPPED | SKIPPED | +-------------------------------+--------------------+-------------------+------------------+-------------------+-------------------------+ | Debian GNU/Linux 12 | PASS | WARN | SKIPPED | SKIPPED | SKIPPED | +-------------------------------+--------------------+-------------------+------------------+-------------------+-------------------------+ | Fedora Linux 42 | PASS | WARN | PASS | SKIPPED | SKIPPED | +-------------------------------+--------------------+-------------------+------------------+-------------------+-------------------------+ | openSUSE Leap 15.6 | PASS | SKIPPED | SKIPPED | SKIPPED | SKIPPED | +-------------------------------+--------------------+-------------------+------------------+-------------------+-------------------------+ | Red Hat Enterprise Linux 8.10 | PASS | SKIPPED | SKIPPED | SKIPPED | SKIPPED | +-------------------------------+--------------------+-------------------+------------------+-------------------+-------------------------+ | Ubuntu 22.04 | PASS | WARN | SKIPPED | SKIPPED | SKIPPED | +-------------------------------+--------------------+-------------------+------------------+-------------------+-------------------------+ | Ubuntu 24.04 | PASS | WARN | PASS | SKIPPED | SKIPPED | +-------------------------------+--------------------+-------------------+------------------+-------------------+-------------------------+ | Alpine Linux 3.22.0 | PASS | SKIPPED | SKIPPED | SKIPPED | SKIPPED | +-------------------------------+--------------------+-------------------+------------------+-------------------+-------------------------+ | Red Hat Enterprise Linux 9.5 | PASS | SKIPPED | SKIPPED | SKIPPED | SKIPPED | +-------------------------------+--------------------+-------------------+------------------+-------------------+-------------------------+ | Windows Server 2022 | SKIPPED | SKIPPED | SKIPPED | PASS | PASS | +-------------------------------+--------------------+-------------------+------------------+-------------------+-------------------------+ ==== 20 line log output for Ubuntu 24.04 (dpdk_compile_spdk): ==== --- Failed to get log output --- ==== End log output ==== FreeBSD 14.2 Kernel: 14.2-RELEASE Compiler: clang 18.1.6 Ubuntu 20.04 Kernel: 4.19 Compiler: gcc gcc (Ubuntu 9.4.0-1ubuntu1~20.04.2) 9.4.0 CentOS Stream 9 Kernel: 5.15 Compiler: gcc gcc (GCC) 11.5.0 20240719 (Red Hat 11.5.0-11) CentOS Stream 10 Kernel: 5.15 Compiler: gcc gcc (GCC) 14.2.1 20250110 (Red Hat 14.2.1-8) Debian GNU/Linux 12 Kernel: 5.15 Compiler: gcc gcc (Debian 12.2.0-14+deb12u1) 12.2.0 Fedora Linux 42 Kernel: 5.15 Compiler: clang gcc (GCC) 15.2.1 20250808 (Red Hat 15.2.1-1) openSUSE Leap 15.6 Kernel: 5.15 Compiler: gcc gcc (SUSE Linux) 7.5.0 Red Hat Enterprise Linux 8.10 Kernel: 5.15 Compiler: gcc gcc (GCC) 8.5.0 20210514 (Red Hat 8.5.0-22) Ubuntu 22.04 Kernel: 5.15 Compiler: gcc gcc (Ubuntu 11.4.0-1ubuntu1~22.04) 11.4.0 Ubuntu 24.04 Kernel: 5.15 Compiler: gcc gcc (Ubuntu 13.3.0-6ubuntu2~24.04) 13.3.0 Alpine Linux 3.22.0 Kernel: 5.15 Compiler: gcc gcc (Alpine 14.2.0) 14.2.0 Red Hat Enterprise Linux 9.5 Kernel: 5.15 Compiler: gcc gcc (GCC) 11.5.0 20240719 (Red Hat 11.5.0-2) Windows Server 2022 Kernel: 10.0.20348.2031 Compiler: clang 15.0.7, gcc 14.1.0 (MinGW), and MSVC VS 19.39.33521 To view detailed results, visit: https://lab.dpdk.org/results/dashboard/patchsets/34398/ UNH-IOL DPDK Community Lab To manage your email subscriptions, visit: https://lab.dpdk.org/results/dashboard/preferences/subscriptions/